BEGIN:VCALENDAR
VERSION:2.0
PRODID:-//Alte VHS - ECPv6.8.3//NONSGML v1.0//EN
CALSCALE:GREGORIAN
METHOD:PUBLISH
X-ORIGINAL-URL:https://www.alte-vhs.de
X-WR-CALDESC:Veranstaltungen für Alte VHS
REFRESH-INTERVAL;VALUE=DURATION:PT1H
X-Robots-Tag:noindex
X-PUBLISHED-TTL:PT1H
BEGIN:VTIMEZONE
TZID:Europe/Berlin
BEGIN:DAYLIGHT
TZOFFSETFROM:+0100
TZOFFSETTO:+0200
TZNAME:CEST
DTSTART:20250330T010000
END:DAYLIGHT
BEGIN:STANDARD
TZOFFSETFROM:+0200
TZOFFSETTO:+0100
TZNAME:CET
DTSTART:20251026T010000
END:STANDARD
END:VTIMEZONE
BEGIN:VEVENT
DTSTART;TZID=Europe/Berlin:20251001T170000
DTEND;TZID=Europe/Berlin:20251001T200000
DTSTAMP:20260421T164238
CREATED:20250910T040012Z
LAST-MODIFIED:20250910T040012Z
UID:25042-1759338000-1759348800@www.alte-vhs.de
SUMMARY:Acro Yoga
DESCRIPTION:
URL:https://www.alte-vhs.de/event/acro-yoga-100/
LOCATION:Halle
END:VEVENT
BEGIN:VEVENT
DTSTART;TZID=Europe/Berlin:20251001T190000
DTEND;TZID=Europe/Berlin:20251001T220000
DTSTAMP:20260421T164238
CREATED:20250702T040012Z
LAST-MODIFIED:20250702T040012Z
UID:24334-1759345200-1759356000@www.alte-vhs.de
SUMMARY:Alte VHS Plenum
DESCRIPTION:
URL:https://www.alte-vhs.de/event/alte-vhs-plenum-34/
LOCATION:Bewegungsraum
END:VEVENT
BEGIN:VEVENT
DTSTART;TZID=Europe/Berlin:20251001T190000
DTEND;TZID=Europe/Berlin:20251001T235500
DTSTAMP:20260421T164238
CREATED:20250702T040013Z
LAST-MODIFIED:20250702T040013Z
UID:24335-1759345200-1759362900@www.alte-vhs.de
SUMMARY:Punk Spieleabend
DESCRIPTION:
URL:https://www.alte-vhs.de/event/punk-spieleabend-37/
LOCATION:Salon
END:VEVENT
BEGIN:VEVENT
DTSTART;TZID=Europe/Berlin:20251002T170000
DTEND;TZID=Europe/Berlin:20251002T200000
DTSTAMP:20260421T164238
CREATED:20250703T040031Z
LAST-MODIFIED:20250703T040031Z
UID:24346-1759424400-1759435200@www.alte-vhs.de
SUMMARY:KüfA (Kochen)
DESCRIPTION:
URL:https://www.alte-vhs.de/event/kuefa-kochen-15/
LOCATION:Halle
END:VEVENT
BEGIN:VEVENT
DTSTART;TZID=Europe/Berlin:20251002T180000
DTEND;TZID=Europe/Berlin:20251002T220000
DTSTAMP:20260421T164238
CREATED:20250703T040031Z
LAST-MODIFIED:20250703T040031Z
UID:24347-1759428000-1759442400@www.alte-vhs.de
SUMMARY:FFF Plenum
DESCRIPTION:
URL:https://www.alte-vhs.de/event/fff-plenum-113/
LOCATION:Halle
END:VEVENT
BEGIN:VEVENT
DTSTART;TZID=Europe/Berlin:20251002T183000
DTEND;TZID=Europe/Berlin:20251002T183000
DTSTAMP:20260421T164238
CREATED:20250703T040031Z
LAST-MODIFIED:20250703T040031Z
UID:24348-1759429800-1759429800@www.alte-vhs.de
SUMMARY:Lesekreis mit den Falken
DESCRIPTION:
URL:https://www.alte-vhs.de/event/lesekreis-mit-den-falken-138/
END:VEVENT
BEGIN:VEVENT
DTSTART;TZID=Europe/Berlin:20251002T190000
DTEND;TZID=Europe/Berlin:20251002T220000
DTSTAMP:20260421T164238
CREATED:20250703T040031Z
LAST-MODIFIED:20250703T040031Z
UID:24349-1759431600-1759442400@www.alte-vhs.de
SUMMARY:Salóng
DESCRIPTION:
URL:https://www.alte-vhs.de/event/salong-160/
LOCATION:Salóng\, Rölsdorfstraße 20\, Bonn\, 53225\, Deutschland
END:VEVENT
BEGIN:VEVENT
DTSTART;TZID=Europe/Berlin:20251002T190000
DTEND;TZID=Europe/Berlin:20251002T220000
DTSTAMP:20260421T164238
CREATED:20250703T040032Z
LAST-MODIFIED:20250703T040032Z
UID:24350-1759431600-1759442400@www.alte-vhs.de
SUMMARY:Offene Siebdruckwerkstatt / Atelier
DESCRIPTION:
URL:https://www.alte-vhs.de/event/offene-siebdruckwerkstatt-atelier-46/
END:VEVENT
BEGIN:VEVENT
DTSTART;TZID=Europe/Berlin:20251002T200000
DTEND;TZID=Europe/Berlin:20251002T220000
DTSTAMP:20260421T164238
CREATED:20250703T040032Z
LAST-MODIFIED:20250703T040032Z
UID:24351-1759435200-1759442400@www.alte-vhs.de
SUMMARY:KüfA (Essen)
DESCRIPTION:
URL:https://www.alte-vhs.de/event/kuefa-essen-15/
LOCATION:Halle
END:VEVENT
BEGIN:VEVENT
DTSTART;TZID=Europe/Berlin:20251004T113000
DTEND;TZID=Europe/Berlin:20251004T153000
DTSTAMP:20260421T164238
CREATED:20250705T040024Z
LAST-MODIFIED:20250705T040024Z
UID:24365-1759577400-1759591800@www.alte-vhs.de
SUMMARY:Zecken basteln Zeug - Handarbeit von links
DESCRIPTION:
URL:https://www.alte-vhs.de/event/zecken-basteln-zeug-handarbeit-von-links-135/
END:VEVENT
BEGIN:VEVENT
DTSTART;TZID=Europe/Berlin:20251005T120000
DTEND;TZID=Europe/Berlin:20251005T220000
DTSTAMP:20260421T164238
CREATED:20250722T040011Z
LAST-MODIFIED:20250722T040011Z
UID:24522-1759665600-1759701600@www.alte-vhs.de
SUMMARY:Ukrainisches Konzert
DESCRIPTION:
URL:https://www.alte-vhs.de/event/ukrainisches-konzert/
LOCATION:Halle
END:VEVENT
BEGIN:VEVENT
DTSTART;TZID=Europe/Berlin:20251007T111500
DTEND;TZID=Europe/Berlin:20251007T134500
DTSTAMP:20260421T164238
CREATED:20250708T040013Z
LAST-MODIFIED:20250708T040013Z
UID:24394-1759835700-1759844700@www.alte-vhs.de
SUMMARY:Getränkeannahme
DESCRIPTION:
URL:https://www.alte-vhs.de/event/getraenkeannahme-131/
END:VEVENT
BEGIN:VEVENT
DTSTART;TZID=Europe/Berlin:20251007T190000
DTEND;TZID=Europe/Berlin:20251007T220000
DTSTAMP:20260421T164238
CREATED:20250708T040013Z
LAST-MODIFIED:20250708T040013Z
UID:24395-1759863600-1759874400@www.alte-vhs.de
SUMMARY:Offenes Treffen Widersetzen Bonn
DESCRIPTION:
URL:https://www.alte-vhs.de/event/offenes-treffen-widersetzen-bonn-9/
LOCATION:Halle
END:VEVENT
BEGIN:VEVENT
DTSTART;TZID=Europe/Berlin:20251008T170000
DTEND;TZID=Europe/Berlin:20251008T200000
DTSTAMP:20260421T164238
CREATED:20250910T040012Z
LAST-MODIFIED:20250910T040012Z
UID:25043-1759942800-1759953600@www.alte-vhs.de
SUMMARY:Acro Yoga
DESCRIPTION:
URL:https://www.alte-vhs.de/event/acro-yoga-101/
LOCATION:Halle
END:VEVENT
BEGIN:VEVENT
DTSTART;TZID=Europe/Berlin:20251008T190000
DTEND;TZID=Europe/Berlin:20251008T220000
DTSTAMP:20260421T164238
CREATED:20250709T040012Z
LAST-MODIFIED:20250709T040012Z
UID:24410-1759950000-1759960800@www.alte-vhs.de
SUMMARY:OAT - Offenes Antifaschistisches Treffen Bonn
DESCRIPTION:
URL:https://www.alte-vhs.de/event/oat-offenes-antifaschistisches-treffen-bonn-37/
END:VEVENT
BEGIN:VEVENT
DTSTART;TZID=Europe/Berlin:20251008T190000
DTEND;TZID=Europe/Berlin:20251008T220000
DTSTAMP:20260421T164238
CREATED:20250709T040012Z
LAST-MODIFIED:20250709T040012Z
UID:24408-1759950000-1759960800@www.alte-vhs.de
SUMMARY:Alte VHS Plenum
DESCRIPTION:
URL:https://www.alte-vhs.de/event/alte-vhs-plenum-35/
LOCATION:Bewegungsraum
END:VEVENT
BEGIN:VEVENT
DTSTART;TZID=Europe/Berlin:20251008T190000
DTEND;TZID=Europe/Berlin:20251008T235500
DTSTAMP:20260421T164238
CREATED:20250709T040012Z
LAST-MODIFIED:20250709T040012Z
UID:24409-1759950000-1759967700@www.alte-vhs.de
SUMMARY:Punk Spieleabend
DESCRIPTION:
URL:https://www.alte-vhs.de/event/punk-spieleabend-38/
LOCATION:Salon
END:VEVENT
BEGIN:VEVENT
DTSTART;TZID=Europe/Berlin:20251009T170000
DTEND;TZID=Europe/Berlin:20251009T200000
DTSTAMP:20260421T164238
CREATED:20251003T040013Z
LAST-MODIFIED:20251003T040013Z
UID:25210-1760029200-1760040000@www.alte-vhs.de
SUMMARY:KüfA (Kochen)
DESCRIPTION:
URL:https://www.alte-vhs.de/event/kuefa-kochen-19/
LOCATION:Halle
END:VEVENT
BEGIN:VEVENT
DTSTART;TZID=Europe/Berlin:20251009T180000
DTEND;TZID=Europe/Berlin:20251009T220000
DTSTAMP:20260421T164238
CREATED:20250710T040011Z
LAST-MODIFIED:20250710T040011Z
UID:24414-1760032800-1760047200@www.alte-vhs.de
SUMMARY:FFF Plenum
DESCRIPTION:
URL:https://www.alte-vhs.de/event/fff-plenum-114/
LOCATION:Halle
END:VEVENT
BEGIN:VEVENT
DTSTART;TZID=Europe/Berlin:20251009T183000
DTEND;TZID=Europe/Berlin:20251009T183000
DTSTAMP:20260421T164238
CREATED:20250710T040012Z
LAST-MODIFIED:20250710T040012Z
UID:24415-1760034600-1760034600@www.alte-vhs.de
SUMMARY:Lesekreis mit den Falken
DESCRIPTION:
URL:https://www.alte-vhs.de/event/lesekreis-mit-den-falken-139/
END:VEVENT
BEGIN:VEVENT
DTSTART;TZID=Europe/Berlin:20251009T190000
DTEND;TZID=Europe/Berlin:20251009T220000
DTSTAMP:20260421T164238
CREATED:20250710T040012Z
LAST-MODIFIED:20250710T040012Z
UID:24416-1760036400-1760047200@www.alte-vhs.de
SUMMARY:Salóng
DESCRIPTION:
URL:https://www.alte-vhs.de/event/salong-161/
LOCATION:Salóng\, Rölsdorfstraße 20\, Bonn\, 53225\, Deutschland
END:VEVENT
BEGIN:VEVENT
DTSTART;TZID=Europe/Berlin:20251009T200000
DTEND;TZID=Europe/Berlin:20251009T220000
DTSTAMP:20260421T164238
CREATED:20251003T040013Z
LAST-MODIFIED:20251003T040013Z
UID:25211-1760040000-1760047200@www.alte-vhs.de
SUMMARY:KüfA (Essen)
DESCRIPTION:
URL:https://www.alte-vhs.de/event/kuefa-essen-19/
LOCATION:Halle
END:VEVENT
BEGIN:VEVENT
DTSTART;TZID=Europe/Berlin:20251011T113000
DTEND;TZID=Europe/Berlin:20251011T153000
DTSTAMP:20260421T164238
CREATED:20250712T040016Z
LAST-MODIFIED:20250712T040016Z
UID:24435-1760182200-1760196600@www.alte-vhs.de
SUMMARY:Zecken basteln Zeug - Handarbeit von links
DESCRIPTION:
URL:https://www.alte-vhs.de/event/zecken-basteln-zeug-handarbeit-von-links-136/
END:VEVENT
BEGIN:VEVENT
DTSTART;TZID=Europe/Berlin:20251013T190000
DTEND;TZID=Europe/Berlin:20251013T220000
DTSTAMP:20260421T164238
CREATED:20250714T040014Z
LAST-MODIFIED:20250714T040014Z
UID:24451-1760382000-1760392800@www.alte-vhs.de
SUMMARY:Critical Mass Café
DESCRIPTION:
URL:https://www.alte-vhs.de/event/critical-mass-cafe-28/
LOCATION:Salon
END:VEVENT
BEGIN:VEVENT
DTSTART;TZID=Europe/Berlin:20251014T111500
DTEND;TZID=Europe/Berlin:20251014T134500
DTSTAMP:20260421T164238
CREATED:20250715T040012Z
LAST-MODIFIED:20250715T040012Z
UID:24456-1760440500-1760449500@www.alte-vhs.de
SUMMARY:Getränkeannahme
DESCRIPTION:
URL:https://www.alte-vhs.de/event/getraenkeannahme-132/
END:VEVENT
BEGIN:VEVENT
DTSTART;TZID=Europe/Berlin:20251015T170000
DTEND;TZID=Europe/Berlin:20251015T200000
DTSTAMP:20260421T164238
CREATED:20250910T040012Z
LAST-MODIFIED:20250910T040012Z
UID:25044-1760547600-1760558400@www.alte-vhs.de
SUMMARY:Acro Yoga
DESCRIPTION:
URL:https://www.alte-vhs.de/event/acro-yoga-102/
LOCATION:Halle
END:VEVENT
BEGIN:VEVENT
DTSTART;TZID=Europe/Berlin:20251015T190000
DTEND;TZID=Europe/Berlin:20251015T200000
DTSTAMP:20260421T164238
CREATED:20250716T040057Z
LAST-MODIFIED:20250716T040057Z
UID:24466-1760554800-1760558400@www.alte-vhs.de
SUMMARY:Alte VHS Plenum
DESCRIPTION:
URL:https://www.alte-vhs.de/event/alte-vhs-plenum-36/
LOCATION:Bewegungsraum
END:VEVENT
BEGIN:VEVENT
DTSTART;TZID=Europe/Berlin:20251015T190000
DTEND;TZID=Europe/Berlin:20251015T235500
DTSTAMP:20260421T164238
CREATED:20250716T040057Z
LAST-MODIFIED:20250716T040057Z
UID:24467-1760554800-1760572500@www.alte-vhs.de
SUMMARY:Punk Spieleabend
DESCRIPTION:
URL:https://www.alte-vhs.de/event/punk-spieleabend-39/
LOCATION:Salon
END:VEVENT
BEGIN:VEVENT
DTSTART;TZID=Europe/Berlin:20251016T180000
DTEND;TZID=Europe/Berlin:20251016T220000
DTSTAMP:20260421T164238
CREATED:20250717T040010Z
LAST-MODIFIED:20250717T040010Z
UID:24471-1760637600-1760652000@www.alte-vhs.de
SUMMARY:FFF Plenum
DESCRIPTION:
URL:https://www.alte-vhs.de/event/fff-plenum-115/
LOCATION:Halle
END:VEVENT
BEGIN:VEVENT
DTSTART;TZID=Europe/Berlin:20251016T183000
DTEND;TZID=Europe/Berlin:20251016T183000
DTSTAMP:20260421T164238
CREATED:20250717T040010Z
LAST-MODIFIED:20250717T040010Z
UID:24472-1760639400-1760639400@www.alte-vhs.de
SUMMARY:Lesekreis mit den Falken
DESCRIPTION:
URL:https://www.alte-vhs.de/event/lesekreis-mit-den-falken-140/
END:VEVENT
END:VCALENDAR