BEGIN:VCALENDAR
VERSION:2.0
PRODID:-//Alte VHS - ECPv6.8.3//NONSGML v1.0//EN
CALSCALE:GREGORIAN
METHOD:PUBLISH
X-WR-CALNAME:Alte VHS
X-ORIGINAL-URL:https://www.alte-vhs.de
X-WR-CALDESC:Veranstaltungen für Alte VHS
REFRESH-INTERVAL;VALUE=DURATION:PT1H
X-Robots-Tag:noindex
X-PUBLISHED-TTL:PT1H
BEGIN:VTIMEZONE
TZID:Europe/Berlin
BEGIN:DAYLIGHT
TZOFFSETFROM:+0100
TZOFFSETTO:+0200
TZNAME:CEST
DTSTART:20250330T010000
END:DAYLIGHT
BEGIN:STANDARD
TZOFFSETFROM:+0200
TZOFFSETTO:+0100
TZNAME:CET
DTSTART:20251026T010000
END:STANDARD
END:VTIMEZONE
BEGIN:VEVENT
DTSTART;TZID=Europe/Berlin:20250902T111500
DTEND;TZID=Europe/Berlin:20250902T134500
DTSTAMP:20260421T192025
CREATED:20250603T040010Z
LAST-MODIFIED:20250603T040010Z
UID:24023-1756811700-1756820700@www.alte-vhs.de
SUMMARY:Getränkeannahme
DESCRIPTION:
URL:https://www.alte-vhs.de/event/getraenkeannahme-116/
END:VEVENT
BEGIN:VEVENT
DTSTART;TZID=Europe/Berlin:20250902T190000
DTEND;TZID=Europe/Berlin:20250902T220000
DTSTAMP:20260421T192025
CREATED:20250603T040010Z
LAST-MODIFIED:20250603T040010Z
UID:24024-1756839600-1756850400@www.alte-vhs.de
SUMMARY:Offenes Treffen Widersetzen Bonn
DESCRIPTION:
URL:https://www.alte-vhs.de/event/offenes-treffen-widersetzen-bonn-7/
LOCATION:Halle
END:VEVENT
BEGIN:VEVENT
DTSTART;TZID=Europe/Berlin:20250903T170000
DTEND;TZID=Europe/Berlin:20250903T200000
DTSTAMP:20260421T192025
CREATED:20250702T040012Z
LAST-MODIFIED:20250702T040012Z
UID:24329-1756918800-1756929600@www.alte-vhs.de
SUMMARY:Acro Yoga am Poppelsdorfer Schloß
DESCRIPTION:
URL:https://www.alte-vhs.de/event/acro-yoga-am-poppelsdorfer-schloss-10/
LOCATION:Halle
END:VEVENT
BEGIN:VEVENT
DTSTART;TZID=Europe/Berlin:20250903T190000
DTEND;TZID=Europe/Berlin:20250903T220000
DTSTAMP:20260421T192025
CREATED:20250604T040008Z
LAST-MODIFIED:20250604T040008Z
UID:24032-1756926000-1756936800@www.alte-vhs.de
SUMMARY:Alte VHS Plenum
DESCRIPTION:
URL:https://www.alte-vhs.de/event/alte-vhs-plenum-30/
LOCATION:Bewegungsraum
END:VEVENT
BEGIN:VEVENT
DTSTART;TZID=Europe/Berlin:20250903T190000
DTEND;TZID=Europe/Berlin:20250903T220000
DTSTAMP:20260421T192025
CREATED:20250724T040011Z
LAST-MODIFIED:20250724T040011Z
UID:24551-1756926000-1756936800@www.alte-vhs.de
SUMMARY:Mobi Vortrag zum Arsch Marsch
DESCRIPTION:
URL:https://www.alte-vhs.de/event/mobi-vortrag-zum-arsch-marsch/
END:VEVENT
BEGIN:VEVENT
DTSTART;TZID=Europe/Berlin:20250903T190000
DTEND;TZID=Europe/Berlin:20250903T235500
DTSTAMP:20260421T192025
CREATED:20250604T040008Z
LAST-MODIFIED:20250604T040008Z
UID:24033-1756926000-1756943700@www.alte-vhs.de
SUMMARY:Punk Spieleabend
DESCRIPTION:
URL:https://www.alte-vhs.de/event/punk-spieleabend-33/
LOCATION:Salon
END:VEVENT
BEGIN:VEVENT
DTSTART;TZID=Europe/Berlin:20250904T170000
DTEND;TZID=Europe/Berlin:20250904T200000
DTSTAMP:20260421T192025
CREATED:20250605T040017Z
LAST-MODIFIED:20250605T040017Z
UID:24040-1757005200-1757016000@www.alte-vhs.de
SUMMARY:KüfA (Kochen)
DESCRIPTION:
URL:https://www.alte-vhs.de/event/kuefa-kochen-14/
LOCATION:Halle
END:VEVENT
BEGIN:VEVENT
DTSTART;TZID=Europe/Berlin:20250904T180000
DTEND;TZID=Europe/Berlin:20250904T220000
DTSTAMP:20260421T192025
CREATED:20250605T040018Z
LAST-MODIFIED:20250605T040018Z
UID:24041-1757008800-1757023200@www.alte-vhs.de
SUMMARY:FFF Plenum
DESCRIPTION:
URL:https://www.alte-vhs.de/event/fff-plenum-109/
LOCATION:Halle
END:VEVENT
BEGIN:VEVENT
DTSTART;TZID=Europe/Berlin:20250904T183000
DTEND;TZID=Europe/Berlin:20250904T183000
DTSTAMP:20260421T192025
CREATED:20250605T040018Z
LAST-MODIFIED:20250605T040018Z
UID:24042-1757010600-1757010600@www.alte-vhs.de
SUMMARY:Lesekreis mit den Falken
DESCRIPTION:
URL:https://www.alte-vhs.de/event/lesekreis-mit-den-falken-134/
END:VEVENT
BEGIN:VEVENT
DTSTART;TZID=Europe/Berlin:20250904T190000
DTEND;TZID=Europe/Berlin:20250904T220000
DTSTAMP:20260421T192025
CREATED:20250605T040018Z
LAST-MODIFIED:20250605T040018Z
UID:24043-1757012400-1757023200@www.alte-vhs.de
SUMMARY:Offene Siebdruckwerkstatt / Atelier
DESCRIPTION:
URL:https://www.alte-vhs.de/event/offene-siebdruckwerkstatt-atelier-51/
END:VEVENT
BEGIN:VEVENT
DTSTART;TZID=Europe/Berlin:20250904T190000
DTEND;TZID=Europe/Berlin:20250904T220000
DTSTAMP:20260421T192025
CREATED:20250605T040018Z
LAST-MODIFIED:20250605T040018Z
UID:24044-1757012400-1757023200@www.alte-vhs.de
SUMMARY:Salóng
DESCRIPTION:
URL:https://www.alte-vhs.de/event/salong-156/
LOCATION:Salóng\, Rölsdorfstraße 20\, Bonn\, 53225\, Deutschland
END:VEVENT
BEGIN:VEVENT
DTSTART;TZID=Europe/Berlin:20250904T200000
DTEND;TZID=Europe/Berlin:20250904T220000
DTSTAMP:20260421T192025
CREATED:20250605T040018Z
LAST-MODIFIED:20250605T040018Z
UID:24045-1757016000-1757023200@www.alte-vhs.de
SUMMARY:KüfA (Essen)
DESCRIPTION:
URL:https://www.alte-vhs.de/event/kuefa-essen-14/
LOCATION:Halle
END:VEVENT
BEGIN:VEVENT
DTSTART;TZID=Europe/Berlin:20250906T100000
DTEND;TZID=Europe/Berlin:20250906T223000
DTSTAMP:20260421T192025
CREATED:20250722T040011Z
LAST-MODIFIED:20250722T040011Z
UID:24521-1757152800-1757197800@www.alte-vhs.de
SUMMARY:Soli-Konzert für einen Genossen (BgA)
DESCRIPTION:
URL:https://www.alte-vhs.de/event/soli-konzert-fuer-einen-genossen-bga/
END:VEVENT
BEGIN:VEVENT
DTSTART;TZID=Europe/Berlin:20250906T113000
DTEND;TZID=Europe/Berlin:20250906T153000
DTSTAMP:20260421T192025
CREATED:20250607T040008Z
LAST-MODIFIED:20250607T040008Z
UID:24057-1757158200-1757172600@www.alte-vhs.de
SUMMARY:Zecken basteln Zeug - Handarbeit von links
DESCRIPTION:
URL:https://www.alte-vhs.de/event/zecken-basteln-zeug-handarbeit-von-links-131/
END:VEVENT
BEGIN:VEVENT
DTSTART;TZID=Europe/Berlin:20250908T190000
DTEND;TZID=Europe/Berlin:20250908T220000
DTSTAMP:20260421T192025
CREATED:20250609T040007Z
LAST-MODIFIED:20250609T040007Z
UID:24077-1757358000-1757368800@www.alte-vhs.de
SUMMARY:Critical Mass Café
DESCRIPTION:
URL:https://www.alte-vhs.de/event/critical-mass-cafe-27/
LOCATION:Salon
END:VEVENT
BEGIN:VEVENT
DTSTART;TZID=Europe/Berlin:20250909T183000
DTEND;TZID=Europe/Berlin:20250909T213000
DTSTAMP:20260421T192025
CREATED:20250820T040024Z
LAST-MODIFIED:20250820T040024Z
UID:24866-1757442600-1757453400@www.alte-vhs.de
SUMMARY:Lesung Aussenpostenkollektiv
DESCRIPTION:
URL:https://www.alte-vhs.de/event/lesung-aussenpostenkollektiv/
LOCATION:Halle
END:VEVENT
BEGIN:VEVENT
DTSTART;TZID=Europe/Berlin:20250910T170000
DTEND;TZID=Europe/Berlin:20250910T200000
DTSTAMP:20260421T192025
CREATED:20250910T040011Z
LAST-MODIFIED:20250910T040011Z
UID:25039-1757523600-1757534400@www.alte-vhs.de
SUMMARY:Acro Yoga
DESCRIPTION:
URL:https://www.alte-vhs.de/event/acro-yoga-97/
LOCATION:Halle
END:VEVENT
BEGIN:VEVENT
DTSTART;TZID=Europe/Berlin:20250910T190000
DTEND;TZID=Europe/Berlin:20250910T220000
DTSTAMP:20260421T192025
CREATED:20250611T040008Z
LAST-MODIFIED:20250611T040008Z
UID:24098-1757530800-1757541600@www.alte-vhs.de
SUMMARY:OAT - Offenes Antifaschistisches Treffen Bonn
DESCRIPTION:
URL:https://www.alte-vhs.de/event/oat-offenes-antifaschistisches-treffen-bonn-35/
END:VEVENT
BEGIN:VEVENT
DTSTART;TZID=Europe/Berlin:20250910T190000
DTEND;TZID=Europe/Berlin:20250910T220000
DTSTAMP:20260421T192025
CREATED:20250611T040008Z
LAST-MODIFIED:20250611T040008Z
UID:24096-1757530800-1757541600@www.alte-vhs.de
SUMMARY:Alte VHS Plenum
DESCRIPTION:
URL:https://www.alte-vhs.de/event/alte-vhs-plenum-31/
LOCATION:Bewegungsraum
END:VEVENT
BEGIN:VEVENT
DTSTART;TZID=Europe/Berlin:20250910T190000
DTEND;TZID=Europe/Berlin:20250910T235500
DTSTAMP:20260421T192025
CREATED:20250611T040008Z
LAST-MODIFIED:20250611T040008Z
UID:24097-1757530800-1757548500@www.alte-vhs.de
SUMMARY:Punk Spieleabend
DESCRIPTION:
URL:https://www.alte-vhs.de/event/punk-spieleabend-34/
LOCATION:Salon
END:VEVENT
BEGIN:VEVENT
DTSTART;TZID=Europe/Berlin:20250911T180000
DTEND;TZID=Europe/Berlin:20250911T220000
DTSTAMP:20260421T192025
CREATED:20250612T040027Z
LAST-MODIFIED:20250612T040027Z
UID:24107-1757613600-1757628000@www.alte-vhs.de
SUMMARY:FFF Plenum
DESCRIPTION:
URL:https://www.alte-vhs.de/event/fff-plenum-110/
LOCATION:Halle
END:VEVENT
BEGIN:VEVENT
DTSTART;TZID=Europe/Berlin:20250911T183000
DTEND;TZID=Europe/Berlin:20250911T183000
DTSTAMP:20260421T192025
CREATED:20250612T040028Z
LAST-MODIFIED:20250612T040028Z
UID:24108-1757615400-1757615400@www.alte-vhs.de
SUMMARY:Lesekreis mit den Falken
DESCRIPTION:
URL:https://www.alte-vhs.de/event/lesekreis-mit-den-falken-135/
END:VEVENT
BEGIN:VEVENT
DTSTART;TZID=Europe/Berlin:20250911T190000
DTEND;TZID=Europe/Berlin:20250911T220000
DTSTAMP:20260421T192025
CREATED:20250612T040028Z
LAST-MODIFIED:20250612T040028Z
UID:24109-1757617200-1757628000@www.alte-vhs.de
SUMMARY:Salóng
DESCRIPTION:
URL:https://www.alte-vhs.de/event/salong-157/
LOCATION:Salóng\, Rölsdorfstraße 20\, Bonn\, 53225\, Deutschland
END:VEVENT
BEGIN:VEVENT
DTSTART;TZID=Europe/Berlin:20250912T180000
DTEND;TZID=Europe/Berlin:20250912T220000
DTSTAMP:20260421T192025
CREATED:20250626T040030Z
LAST-MODIFIED:20250626T040030Z
UID:24264-1757700000-1757714400@www.alte-vhs.de
SUMMARY:Cocktails und Utopie
DESCRIPTION:
URL:https://www.alte-vhs.de/event/cocktails-und-utopie/
LOCATION:Salóng\, Rölsdorfstraße 20\, Bonn\, 53225\, Deutschland
END:VEVENT
BEGIN:VEVENT
DTSTART;TZID=Europe/Berlin:20250913T113000
DTEND;TZID=Europe/Berlin:20250913T153000
DTSTAMP:20260421T192025
CREATED:20250614T040016Z
LAST-MODIFIED:20250614T040016Z
UID:24134-1757763000-1757777400@www.alte-vhs.de
SUMMARY:Zecken basteln Zeug - Handarbeit von links
DESCRIPTION:
URL:https://www.alte-vhs.de/event/zecken-basteln-zeug-handarbeit-von-links-132/
END:VEVENT
BEGIN:VEVENT
DTSTART;TZID=Europe/Berlin:20250916T111500
DTEND;TZID=Europe/Berlin:20250916T134500
DTSTAMP:20260421T192025
CREATED:20250617T040019Z
LAST-MODIFIED:20250617T040019Z
UID:24158-1758021300-1758030300@www.alte-vhs.de
SUMMARY:Getränkeannahme
DESCRIPTION:
URL:https://www.alte-vhs.de/event/getraenkeannahme-129/
END:VEVENT
BEGIN:VEVENT
DTSTART;TZID=Europe/Berlin:20250916T190000
DTEND;TZID=Europe/Berlin:20250916T220000
DTSTAMP:20260421T192025
CREATED:20250617T040019Z
LAST-MODIFIED:20250617T040019Z
UID:24159-1758049200-1758060000@www.alte-vhs.de
SUMMARY:Offenes Treffen Widersetzen Bonn
DESCRIPTION:
URL:https://www.alte-vhs.de/event/offenes-treffen-widersetzen-bonn-8/
LOCATION:Halle
END:VEVENT
BEGIN:VEVENT
DTSTART;TZID=Europe/Berlin:20250917T170000
DTEND;TZID=Europe/Berlin:20250917T200000
DTSTAMP:20260421T192025
CREATED:20250910T040011Z
LAST-MODIFIED:20250910T040011Z
UID:25040-1758128400-1758139200@www.alte-vhs.de
SUMMARY:Acro Yoga
DESCRIPTION:
URL:https://www.alte-vhs.de/event/acro-yoga-98/
LOCATION:Halle
END:VEVENT
BEGIN:VEVENT
DTSTART;TZID=Europe/Berlin:20250917T190000
DTEND;TZID=Europe/Berlin:20250917T200000
DTSTAMP:20260421T192025
CREATED:20250618T040009Z
LAST-MODIFIED:20250618T040009Z
UID:24171-1758135600-1758139200@www.alte-vhs.de
SUMMARY:Alte VHS Plenum
DESCRIPTION:
URL:https://www.alte-vhs.de/event/alte-vhs-plenum-32/
LOCATION:Bewegungsraum
END:VEVENT
BEGIN:VEVENT
DTSTART;TZID=Europe/Berlin:20250917T190000
DTEND;TZID=Europe/Berlin:20250917T235500
DTSTAMP:20260421T192025
CREATED:20250618T040009Z
LAST-MODIFIED:20250618T040009Z
UID:24172-1758135600-1758153300@www.alte-vhs.de
SUMMARY:Punk Spieleabend
DESCRIPTION:
URL:https://www.alte-vhs.de/event/punk-spieleabend-35/
LOCATION:Salon
END:VEVENT
END:VCALENDAR