BEGIN:VCALENDAR
VERSION:2.0
PRODID:-//Alte VHS - ECPv6.8.3//NONSGML v1.0//EN
CALSCALE:GREGORIAN
METHOD:PUBLISH
X-WR-CALNAME:Alte VHS
X-ORIGINAL-URL:https://www.alte-vhs.de
X-WR-CALDESC:Veranstaltungen für Alte VHS
REFRESH-INTERVAL;VALUE=DURATION:PT1H
X-Robots-Tag:noindex
X-PUBLISHED-TTL:PT1H
BEGIN:VTIMEZONE
TZID:Europe/Berlin
BEGIN:DAYLIGHT
TZOFFSETFROM:+0100
TZOFFSETTO:+0200
TZNAME:CEST
DTSTART:20250330T010000
END:DAYLIGHT
BEGIN:STANDARD
TZOFFSETFROM:+0200
TZOFFSETTO:+0100
TZNAME:CET
DTSTART:20251026T010000
END:STANDARD
END:VTIMEZONE
BEGIN:VEVENT
DTSTART;TZID=Europe/Berlin:20250802T113000
DTEND;TZID=Europe/Berlin:20250802T153000
DTSTAMP:20260421T191846
CREATED:20250503T040028Z
LAST-MODIFIED:20250503T040028Z
UID:23804-1754134200-1754148600@www.alte-vhs.de
SUMMARY:Zecken basteln Zeug - Handarbeit von links
DESCRIPTION:
URL:https://www.alte-vhs.de/event/zecken-basteln-zeug-handarbeit-von-links-126/
END:VEVENT
BEGIN:VEVENT
DTSTART;TZID=Europe/Berlin:20250805T111500
DTEND;TZID=Europe/Berlin:20250805T134500
DTSTAMP:20260421T191846
CREATED:20250506T040020Z
LAST-MODIFIED:20250506T040020Z
UID:23823-1754392500-1754401500@www.alte-vhs.de
SUMMARY:Getränkeannahme
DESCRIPTION:
URL:https://www.alte-vhs.de/event/getraenkeannahme-125/
END:VEVENT
BEGIN:VEVENT
DTSTART;TZID=Europe/Berlin:20250805T190000
DTEND;TZID=Europe/Berlin:20250805T220000
DTSTAMP:20260421T191846
CREATED:20250524T040009Z
LAST-MODIFIED:20250524T040009Z
UID:23965-1754420400-1754431200@www.alte-vhs.de
SUMMARY:Offenes Treffen Widersetzen Bonn
DESCRIPTION:
URL:https://www.alte-vhs.de/event/offenes-treffen-widersetzen-bonn-5/
LOCATION:Halle
END:VEVENT
BEGIN:VEVENT
DTSTART;TZID=Europe/Berlin:20250806T170000
DTEND;TZID=Europe/Berlin:20250806T200000
DTSTAMP:20260421T191846
CREATED:20250702T040011Z
LAST-MODIFIED:20250702T040011Z
UID:24325-1754499600-1754510400@www.alte-vhs.de
SUMMARY:Acro Yoga am Poppelsdorfer Schloß
DESCRIPTION:
URL:https://www.alte-vhs.de/event/acro-yoga-am-poppelsdorfer-schloss-6/
LOCATION:Halle
END:VEVENT
BEGIN:VEVENT
DTSTART;TZID=Europe/Berlin:20250806T190000
DTEND;TZID=Europe/Berlin:20250806T220000
DTSTAMP:20260421T191846
CREATED:20250507T040059Z
LAST-MODIFIED:20250507T040059Z
UID:23827-1754506800-1754517600@www.alte-vhs.de
SUMMARY:Alte VHS Plenum
DESCRIPTION:
URL:https://www.alte-vhs.de/event/alte-vhs-plenum-20/
LOCATION:Bewegungsraum
END:VEVENT
BEGIN:VEVENT
DTSTART;TZID=Europe/Berlin:20250806T190000
DTEND;TZID=Europe/Berlin:20250806T235500
DTSTAMP:20260421T191846
CREATED:20250507T040059Z
LAST-MODIFIED:20250507T040059Z
UID:23828-1754506800-1754524500@www.alte-vhs.de
SUMMARY:Punk Spieleabend
DESCRIPTION:
URL:https://www.alte-vhs.de/event/punk-spieleabend-29/
LOCATION:Salon
END:VEVENT
BEGIN:VEVENT
DTSTART;TZID=Europe/Berlin:20250807T170000
DTEND;TZID=Europe/Berlin:20250807T200000
DTSTAMP:20260421T191846
CREATED:20250508T040008Z
LAST-MODIFIED:20250508T040008Z
UID:23833-1754586000-1754596800@www.alte-vhs.de
SUMMARY:KüfA (Kochen)
DESCRIPTION:
URL:https://www.alte-vhs.de/event/kuefa-kochen-11/
LOCATION:Halle
END:VEVENT
BEGIN:VEVENT
DTSTART;TZID=Europe/Berlin:20250807T180000
DTEND;TZID=Europe/Berlin:20250807T220000
DTSTAMP:20260421T191846
CREATED:20250508T040009Z
LAST-MODIFIED:20250508T040009Z
UID:23834-1754589600-1754604000@www.alte-vhs.de
SUMMARY:FFF Plenum
DESCRIPTION:
URL:https://www.alte-vhs.de/event/fff-plenum-105/
LOCATION:Halle
END:VEVENT
BEGIN:VEVENT
DTSTART;TZID=Europe/Berlin:20250807T183000
DTEND;TZID=Europe/Berlin:20250807T183000
DTSTAMP:20260421T191846
CREATED:20250508T040009Z
LAST-MODIFIED:20250508T040009Z
UID:23835-1754591400-1754591400@www.alte-vhs.de
SUMMARY:Lesekreis mit den Falken
DESCRIPTION:
URL:https://www.alte-vhs.de/event/lesekreis-mit-den-falken-130/
END:VEVENT
BEGIN:VEVENT
DTSTART;TZID=Europe/Berlin:20250807T190000
DTEND;TZID=Europe/Berlin:20250807T220000
DTSTAMP:20260421T191846
CREATED:20250508T040009Z
LAST-MODIFIED:20250508T040009Z
UID:23836-1754593200-1754604000@www.alte-vhs.de
SUMMARY:Offene Siebdruckwerkstatt / Atelier
DESCRIPTION:
URL:https://www.alte-vhs.de/event/offene-siebdruckwerkstatt-atelier-49/
END:VEVENT
BEGIN:VEVENT
DTSTART;TZID=Europe/Berlin:20250807T190000
DTEND;TZID=Europe/Berlin:20250807T220000
DTSTAMP:20260421T191846
CREATED:20250508T040009Z
LAST-MODIFIED:20250508T040009Z
UID:23837-1754593200-1754604000@www.alte-vhs.de
SUMMARY:Salóng
DESCRIPTION:
URL:https://www.alte-vhs.de/event/salong-152/
LOCATION:Salóng\, Rölsdorfstraße 20\, Bonn\, 53225\, Deutschland
END:VEVENT
BEGIN:VEVENT
DTSTART;TZID=Europe/Berlin:20250807T200000
DTEND;TZID=Europe/Berlin:20250807T220000
DTSTAMP:20260421T191846
CREATED:20250508T040009Z
LAST-MODIFIED:20250508T040009Z
UID:23838-1754596800-1754604000@www.alte-vhs.de
SUMMARY:KüfA (Essen)
DESCRIPTION:
URL:https://www.alte-vhs.de/event/kuefa-essen-11/
LOCATION:Halle
END:VEVENT
BEGIN:VEVENT
DTSTART;TZID=Europe/Berlin:20250809T113000
DTEND;TZID=Europe/Berlin:20250809T153000
DTSTAMP:20260421T191846
CREATED:20250510T040022Z
LAST-MODIFIED:20250510T040022Z
UID:23858-1754739000-1754753400@www.alte-vhs.de
SUMMARY:Zecken basteln Zeug - Handarbeit von links
DESCRIPTION:
URL:https://www.alte-vhs.de/event/zecken-basteln-zeug-handarbeit-von-links-127/
END:VEVENT
BEGIN:VEVENT
DTSTART;TZID=Europe/Berlin:20250811T190000
DTEND;TZID=Europe/Berlin:20250811T220000
DTSTAMP:20260421T191846
CREATED:20250512T040010Z
LAST-MODIFIED:20250512T040010Z
UID:23865-1754938800-1754949600@www.alte-vhs.de
SUMMARY:Critical Mass Café
DESCRIPTION:
URL:https://www.alte-vhs.de/event/critical-mass-cafe-26/
LOCATION:Salon
END:VEVENT
BEGIN:VEVENT
DTSTART;TZID=Europe/Berlin:20250813T170000
DTEND;TZID=Europe/Berlin:20250813T200000
DTSTAMP:20260421T191846
CREATED:20250702T040011Z
LAST-MODIFIED:20250702T040011Z
UID:24326-1755104400-1755115200@www.alte-vhs.de
SUMMARY:Acro Yoga am Poppelsdorfer Schloß
DESCRIPTION:
URL:https://www.alte-vhs.de/event/acro-yoga-am-poppelsdorfer-schloss-7/
LOCATION:Halle
END:VEVENT
BEGIN:VEVENT
DTSTART;TZID=Europe/Berlin:20250813T190000
DTEND;TZID=Europe/Berlin:20250813T220000
DTSTAMP:20260421T191846
CREATED:20250514T040011Z
LAST-MODIFIED:20250514T040011Z
UID:23879-1755111600-1755122400@www.alte-vhs.de
SUMMARY:OAT - Offenes Antifaschistisches Treffen Bonn
DESCRIPTION:
URL:https://www.alte-vhs.de/event/oat-offenes-antifaschistisches-treffen-bonn-33/
END:VEVENT
BEGIN:VEVENT
DTSTART;TZID=Europe/Berlin:20250813T190000
DTEND;TZID=Europe/Berlin:20250813T220000
DTSTAMP:20260421T191846
CREATED:20250514T040011Z
LAST-MODIFIED:20250514T040011Z
UID:23877-1755111600-1755122400@www.alte-vhs.de
SUMMARY:Alte VHS Plenum
DESCRIPTION:
URL:https://www.alte-vhs.de/event/alte-vhs-plenum-27/
LOCATION:Bewegungsraum
END:VEVENT
BEGIN:VEVENT
DTSTART;TZID=Europe/Berlin:20250813T190000
DTEND;TZID=Europe/Berlin:20250813T235500
DTSTAMP:20260421T191846
CREATED:20250514T040011Z
LAST-MODIFIED:20250514T040011Z
UID:23878-1755111600-1755129300@www.alte-vhs.de
SUMMARY:Punk Spieleabend
DESCRIPTION:
URL:https://www.alte-vhs.de/event/punk-spieleabend-30/
LOCATION:Salon
END:VEVENT
BEGIN:VEVENT
DTSTART;TZID=Europe/Berlin:20250814T180000
DTEND;TZID=Europe/Berlin:20250814T220000
DTSTAMP:20260421T191846
CREATED:20250515T040212Z
LAST-MODIFIED:20250515T040212Z
UID:23889-1755194400-1755208800@www.alte-vhs.de
SUMMARY:FFF Plenum
DESCRIPTION:
URL:https://www.alte-vhs.de/event/fff-plenum-106/
LOCATION:Halle
END:VEVENT
BEGIN:VEVENT
DTSTART;TZID=Europe/Berlin:20250814T180000
DTEND;TZID=Europe/Berlin:20250814T220000
DTSTAMP:20260421T191846
CREATED:20250716T040057Z
LAST-MODIFIED:20250716T040057Z
UID:24464-1755194400-1755208800@www.alte-vhs.de
SUMMARY:OTIS - Rheinmetall entwaffnen Mobivortrag
DESCRIPTION:
URL:https://www.alte-vhs.de/event/otis-rheinmetall-entwaffnen-mobivortrag/
LOCATION:Halle
END:VEVENT
BEGIN:VEVENT
DTSTART;TZID=Europe/Berlin:20250814T183000
DTEND;TZID=Europe/Berlin:20250814T183000
DTSTAMP:20260421T191846
CREATED:20250515T040212Z
LAST-MODIFIED:20250515T040212Z
UID:23890-1755196200-1755196200@www.alte-vhs.de
SUMMARY:Lesekreis mit den Falken
DESCRIPTION:
URL:https://www.alte-vhs.de/event/lesekreis-mit-den-falken-131/
END:VEVENT
BEGIN:VEVENT
DTSTART;TZID=Europe/Berlin:20250814T190000
DTEND;TZID=Europe/Berlin:20250814T220000
DTSTAMP:20260421T191846
CREATED:20250515T040213Z
LAST-MODIFIED:20250515T040213Z
UID:23891-1755198000-1755208800@www.alte-vhs.de
SUMMARY:Salóng
DESCRIPTION:
URL:https://www.alte-vhs.de/event/salong-153/
LOCATION:Salóng\, Rölsdorfstraße 20\, Bonn\, 53225\, Deutschland
END:VEVENT
BEGIN:VEVENT
DTSTART;TZID=Europe/Berlin:20250816T113000
DTEND;TZID=Europe/Berlin:20250816T153000
DTSTAMP:20260421T191846
CREATED:20250517T040017Z
LAST-MODIFIED:20250517T040017Z
UID:23915-1755343800-1755358200@www.alte-vhs.de
SUMMARY:Zecken basteln Zeug - Handarbeit von links
DESCRIPTION:
URL:https://www.alte-vhs.de/event/zecken-basteln-zeug-handarbeit-von-links-128/
END:VEVENT
BEGIN:VEVENT
DTSTART;TZID=Europe/Berlin:20250819T111500
DTEND;TZID=Europe/Berlin:20250819T134500
DTSTAMP:20260421T191846
CREATED:20250520T040017Z
LAST-MODIFIED:20250520T040017Z
UID:23938-1755602100-1755611100@www.alte-vhs.de
SUMMARY:Getränkeannahme
DESCRIPTION:
URL:https://www.alte-vhs.de/event/getraenkeannahme-126/
END:VEVENT
BEGIN:VEVENT
DTSTART;TZID=Europe/Berlin:20250819T190000
DTEND;TZID=Europe/Berlin:20250819T220000
DTSTAMP:20260421T191846
CREATED:20250524T040009Z
LAST-MODIFIED:20250524T040009Z
UID:23966-1755630000-1755640800@www.alte-vhs.de
SUMMARY:Offenes Treffen Widersetzen Bonn
DESCRIPTION:
URL:https://www.alte-vhs.de/event/offenes-treffen-widersetzen-bonn-6/
LOCATION:Halle
END:VEVENT
BEGIN:VEVENT
DTSTART;TZID=Europe/Berlin:20250820T170000
DTEND;TZID=Europe/Berlin:20250820T200000
DTSTAMP:20260421T191846
CREATED:20250702T040011Z
LAST-MODIFIED:20250702T040011Z
UID:24327-1755709200-1755720000@www.alte-vhs.de
SUMMARY:Acro Yoga am Poppelsdorfer Schloß
DESCRIPTION:
URL:https://www.alte-vhs.de/event/acro-yoga-am-poppelsdorfer-schloss-8/
LOCATION:Halle
END:VEVENT
BEGIN:VEVENT
DTSTART;TZID=Europe/Berlin:20250820T190000
DTEND;TZID=Europe/Berlin:20250820T200000
DTSTAMP:20260421T191846
CREATED:20250521T040025Z
LAST-MODIFIED:20250521T040025Z
UID:23944-1755716400-1755720000@www.alte-vhs.de
SUMMARY:Alte VHS Plenum
DESCRIPTION:
URL:https://www.alte-vhs.de/event/alte-vhs-plenum-28/
LOCATION:Bewegungsraum
END:VEVENT
BEGIN:VEVENT
DTSTART;TZID=Europe/Berlin:20250820T190000
DTEND;TZID=Europe/Berlin:20250820T235500
DTSTAMP:20260421T191846
CREATED:20250521T040025Z
LAST-MODIFIED:20250521T040025Z
UID:23945-1755716400-1755734100@www.alte-vhs.de
SUMMARY:Punk Spieleabend
DESCRIPTION:
URL:https://www.alte-vhs.de/event/punk-spieleabend-31/
LOCATION:Salon
END:VEVENT
BEGIN:VEVENT
DTSTART;TZID=Europe/Berlin:20250821T180000
DTEND;TZID=Europe/Berlin:20250821T220000
DTSTAMP:20260421T191846
CREATED:20250522T040037Z
LAST-MODIFIED:20250522T040037Z
UID:23947-1755799200-1755813600@www.alte-vhs.de
SUMMARY:FFF Plenum
DESCRIPTION:
URL:https://www.alte-vhs.de/event/fff-plenum-107/
LOCATION:Halle
END:VEVENT
BEGIN:VEVENT
DTSTART;TZID=Europe/Berlin:20250821T183000
DTEND;TZID=Europe/Berlin:20250821T183000
DTSTAMP:20260421T191846
CREATED:20250522T040038Z
LAST-MODIFIED:20250522T040038Z
UID:23948-1755801000-1755801000@www.alte-vhs.de
SUMMARY:Lesekreis mit den Falken
DESCRIPTION:
URL:https://www.alte-vhs.de/event/lesekreis-mit-den-falken-132/
END:VEVENT
END:VCALENDAR