BEGIN:VCALENDAR
VERSION:2.0
PRODID:-//Alte VHS - ECPv6.8.3//NONSGML v1.0//EN
CALSCALE:GREGORIAN
METHOD:PUBLISH
X-ORIGINAL-URL:https://www.alte-vhs.de
X-WR-CALDESC:Veranstaltungen für Alte VHS
REFRESH-INTERVAL;VALUE=DURATION:PT1H
X-Robots-Tag:noindex
X-PUBLISHED-TTL:PT1H
BEGIN:VTIMEZONE
TZID:Europe/Berlin
BEGIN:DAYLIGHT
TZOFFSETFROM:+0100
TZOFFSETTO:+0200
TZNAME:CEST
DTSTART:20250330T010000
END:DAYLIGHT
BEGIN:STANDARD
TZOFFSETFROM:+0200
TZOFFSETTO:+0100
TZNAME:CET
DTSTART:20251026T010000
END:STANDARD
END:VTIMEZONE
BEGIN:VEVENT
DTSTART;TZID=Europe/Berlin:20250401T111500
DTEND;TZID=Europe/Berlin:20250401T134500
DTSTAMP:20260423T164047
CREATED:20250308T170755Z
LAST-MODIFIED:20250308T170755Z
UID:23152-1743506100-1743515100@www.alte-vhs.de
SUMMARY:Getränkeannahme
DESCRIPTION:
URL:https://www.alte-vhs.de/event/getraenkeannahme-107/
END:VEVENT
BEGIN:VEVENT
DTSTART;TZID=Europe/Berlin:20250402T170000
DTEND;TZID=Europe/Berlin:20250402T200000
DTSTAMP:20260423T164047
CREATED:20250308T170755Z
LAST-MODIFIED:20250308T170755Z
UID:23153-1743613200-1743624000@www.alte-vhs.de
SUMMARY:Acro Yoga
DESCRIPTION:
URL:https://www.alte-vhs.de/event/acro-yoga-84/
LOCATION:Halle
END:VEVENT
BEGIN:VEVENT
DTSTART;TZID=Europe/Berlin:20250402T190000
DTEND;TZID=Europe/Berlin:20250402T220000
DTSTAMP:20260423T164047
CREATED:20250308T170755Z
LAST-MODIFIED:20250308T170755Z
UID:23154-1743620400-1743631200@www.alte-vhs.de
SUMMARY:Alte VHS Plenum
DESCRIPTION:
URL:https://www.alte-vhs.de/event/alte-vhs-plenum-10/
LOCATION:Bewegungsraum
END:VEVENT
BEGIN:VEVENT
DTSTART;TZID=Europe/Berlin:20250402T190000
DTEND;TZID=Europe/Berlin:20250402T220000
DTSTAMP:20260423T164047
CREATED:20250326T040011Z
LAST-MODIFIED:20250326T040011Z
UID:23486-1743620400-1743631200@www.alte-vhs.de
SUMMARY:Improvisationstanz-Jam
DESCRIPTION:
URL:https://www.alte-vhs.de/event/improvisationstanz-jam/
LOCATION:Bewegungsraum
END:VEVENT
BEGIN:VEVENT
DTSTART;TZID=Europe/Berlin:20250402T190000
DTEND;TZID=Europe/Berlin:20250402T235500
DTSTAMP:20260423T164047
CREATED:20250308T170756Z
LAST-MODIFIED:20250308T170756Z
UID:23155-1743620400-1743638100@www.alte-vhs.de
SUMMARY:Punk Spieleabend
DESCRIPTION:
URL:https://www.alte-vhs.de/event/punk-spieleabend-11/
LOCATION:Salon
END:VEVENT
BEGIN:VEVENT
DTSTART;TZID=Europe/Berlin:20250403T170000
DTEND;TZID=Europe/Berlin:20250403T200000
DTSTAMP:20260423T164047
CREATED:20250308T170756Z
LAST-MODIFIED:20250308T170756Z
UID:23156-1743699600-1743710400@www.alte-vhs.de
SUMMARY:KüfA (Kochen)
DESCRIPTION:
URL:https://www.alte-vhs.de/event/kuefa-kochen-10/
LOCATION:Halle
END:VEVENT
BEGIN:VEVENT
DTSTART;TZID=Europe/Berlin:20250403T180000
DTEND;TZID=Europe/Berlin:20250403T220000
DTSTAMP:20260423T164047
CREATED:20250308T170756Z
LAST-MODIFIED:20250308T170756Z
UID:23157-1743703200-1743717600@www.alte-vhs.de
SUMMARY:FFF Plenum
DESCRIPTION:
URL:https://www.alte-vhs.de/event/fff-plenum-87/
LOCATION:Halle
END:VEVENT
BEGIN:VEVENT
DTSTART;TZID=Europe/Berlin:20250403T183000
DTEND;TZID=Europe/Berlin:20250403T183000
DTSTAMP:20260423T164047
CREATED:20250308T170756Z
LAST-MODIFIED:20250308T170756Z
UID:23158-1743705000-1743705000@www.alte-vhs.de
SUMMARY:Lesekreis mit den Falken
DESCRIPTION:
URL:https://www.alte-vhs.de/event/lesekreis-mit-den-falken-112/
END:VEVENT
BEGIN:VEVENT
DTSTART;TZID=Europe/Berlin:20250403T190000
DTEND;TZID=Europe/Berlin:20250403T220000
DTSTAMP:20260423T164047
CREATED:20250308T170757Z
LAST-MODIFIED:20250308T170757Z
UID:23159-1743706800-1743717600@www.alte-vhs.de
SUMMARY:Offene Siebdruckwerkstatt / Atelier
DESCRIPTION:
URL:https://www.alte-vhs.de/event/offene-siebdruckwerkstatt-atelier-40/
END:VEVENT
BEGIN:VEVENT
DTSTART;TZID=Europe/Berlin:20250403T190000
DTEND;TZID=Europe/Berlin:20250403T220000
DTSTAMP:20260423T164047
CREATED:20250308T170757Z
LAST-MODIFIED:20250308T170757Z
UID:23160-1743706800-1743717600@www.alte-vhs.de
SUMMARY:Salóng
DESCRIPTION:
URL:https://www.alte-vhs.de/event/salong-134/
LOCATION:Salóng\, Rölsdorfstraße 20\, Bonn\, 53225\, Deutschland
END:VEVENT
BEGIN:VEVENT
DTSTART;TZID=Europe/Berlin:20250403T200000
DTEND;TZID=Europe/Berlin:20250403T220000
DTSTAMP:20260423T164047
CREATED:20250308T170757Z
LAST-MODIFIED:20250308T170757Z
UID:23161-1743710400-1743717600@www.alte-vhs.de
SUMMARY:KüfA (Essen)
DESCRIPTION:
URL:https://www.alte-vhs.de/event/kuefa-essen-10/
LOCATION:Halle
END:VEVENT
BEGIN:VEVENT
DTSTART;TZID=Europe/Berlin:20250404T193000
DTEND;TZID=Europe/Berlin:20250404T220000
DTSTAMP:20260423T164047
CREATED:20250308T170758Z
LAST-MODIFIED:20250308T170758Z
UID:23162-1743795000-1743804000@www.alte-vhs.de
SUMMARY:Guts Pie Earshot (Elektro Dub Punk)
DESCRIPTION:
URL:https://www.alte-vhs.de/event/guts-pie-earshot-elektro-dub-punk/
LOCATION:Halle
END:VEVENT
BEGIN:VEVENT
DTSTART;TZID=Europe/Berlin:20250405T113000
DTEND;TZID=Europe/Berlin:20250405T153000
DTSTAMP:20260423T164047
CREATED:20250308T170758Z
LAST-MODIFIED:20250308T170758Z
UID:23163-1743852600-1743867000@www.alte-vhs.de
SUMMARY:Zecken basteln Zeug - Handarbeit von links
DESCRIPTION:
URL:https://www.alte-vhs.de/event/zecken-basteln-zeug-handarbeit-von-links-109/
END:VEVENT
BEGIN:VEVENT
DTSTART;TZID=Europe/Berlin:20250408T111500
DTEND;TZID=Europe/Berlin:20250408T134500
DTSTAMP:20260423T164047
CREATED:20250308T170956Z
LAST-MODIFIED:20250308T170956Z
UID:23165-1744110900-1744119900@www.alte-vhs.de
SUMMARY:Getränkeannahme
DESCRIPTION:
URL:https://www.alte-vhs.de/event/getraenkeannahme-108/
END:VEVENT
BEGIN:VEVENT
DTSTART;TZID=Europe/Berlin:20250409T170000
DTEND;TZID=Europe/Berlin:20250409T200000
DTSTAMP:20260423T164047
CREATED:20250308T170956Z
LAST-MODIFIED:20250308T170956Z
UID:23166-1744218000-1744228800@www.alte-vhs.de
SUMMARY:Acro Yoga
DESCRIPTION:
URL:https://www.alte-vhs.de/event/acro-yoga-85/
LOCATION:Halle
END:VEVENT
BEGIN:VEVENT
DTSTART;TZID=Europe/Berlin:20250409T190000
DTEND;TZID=Europe/Berlin:20250409T220000
DTSTAMP:20260423T164047
CREATED:20250308T170956Z
LAST-MODIFIED:20250308T170956Z
UID:23167-1744225200-1744236000@www.alte-vhs.de
SUMMARY:Alte VHS Plenum
DESCRIPTION:
URL:https://www.alte-vhs.de/event/alte-vhs-plenum-11/
LOCATION:Bewegungsraum
END:VEVENT
BEGIN:VEVENT
DTSTART;TZID=Europe/Berlin:20250409T190000
DTEND;TZID=Europe/Berlin:20250409T220000
DTSTAMP:20260423T164047
CREATED:20250308T170957Z
LAST-MODIFIED:20250308T170957Z
UID:23169-1744225200-1744236000@www.alte-vhs.de
SUMMARY:OAT - Offenes Antifaschistisches Treffen Bonn
DESCRIPTION:
URL:https://www.alte-vhs.de/event/oat-offenes-antifaschistisches-treffen-bonn-26/
END:VEVENT
BEGIN:VEVENT
DTSTART;TZID=Europe/Berlin:20250409T190000
DTEND;TZID=Europe/Berlin:20250409T235500
DTSTAMP:20260423T164047
CREATED:20250308T170957Z
LAST-MODIFIED:20250308T170957Z
UID:23168-1744225200-1744242900@www.alte-vhs.de
SUMMARY:Punk Spieleabend
DESCRIPTION:
URL:https://www.alte-vhs.de/event/punk-spieleabend-12/
LOCATION:Salon
END:VEVENT
BEGIN:VEVENT
DTSTART;TZID=Europe/Berlin:20250410T180000
DTEND;TZID=Europe/Berlin:20250410T220000
DTSTAMP:20260423T164047
CREATED:20250308T170957Z
LAST-MODIFIED:20250308T170957Z
UID:23170-1744308000-1744322400@www.alte-vhs.de
SUMMARY:FFF Plenum
DESCRIPTION:
URL:https://www.alte-vhs.de/event/fff-plenum-88/
LOCATION:Halle
END:VEVENT
BEGIN:VEVENT
DTSTART;TZID=Europe/Berlin:20250410T183000
DTEND;TZID=Europe/Berlin:20250410T183000
DTSTAMP:20260423T164047
CREATED:20250308T170958Z
LAST-MODIFIED:20250308T170958Z
UID:23171-1744309800-1744309800@www.alte-vhs.de
SUMMARY:Lesekreis mit den Falken
DESCRIPTION:
URL:https://www.alte-vhs.de/event/lesekreis-mit-den-falken-113/
END:VEVENT
BEGIN:VEVENT
DTSTART;TZID=Europe/Berlin:20250410T190000
DTEND;TZID=Europe/Berlin:20250410T220000
DTSTAMP:20260423T164047
CREATED:20250308T170958Z
LAST-MODIFIED:20250308T170958Z
UID:23172-1744311600-1744322400@www.alte-vhs.de
SUMMARY:Salóng
DESCRIPTION:
URL:https://www.alte-vhs.de/event/salong-135/
LOCATION:Salóng\, Rölsdorfstraße 20\, Bonn\, 53225\, Deutschland
END:VEVENT
BEGIN:VEVENT
DTSTART;TZID=Europe/Berlin:20250411T180000
DTEND;TZID=Europe/Berlin:20250411T210000
DTSTAMP:20260423T164047
CREATED:20250318T040009Z
LAST-MODIFIED:20250318T040009Z
UID:23410-1744394400-1744405200@www.alte-vhs.de
SUMMARY:Playfight Workshop
DESCRIPTION:
URL:https://www.alte-vhs.de/event/playfight-workshop-2/
LOCATION:Halle
END:VEVENT
BEGIN:VEVENT
DTSTART;TZID=Europe/Berlin:20250412T113000
DTEND;TZID=Europe/Berlin:20250412T153000
DTSTAMP:20260423T164047
CREATED:20250308T170958Z
LAST-MODIFIED:20250308T170958Z
UID:23173-1744457400-1744471800@www.alte-vhs.de
SUMMARY:Zecken basteln Zeug - Handarbeit von links
DESCRIPTION:
URL:https://www.alte-vhs.de/event/zecken-basteln-zeug-handarbeit-von-links-110/
END:VEVENT
BEGIN:VEVENT
DTSTART;TZID=Europe/Berlin:20250412T183000
DTEND;TZID=Europe/Berlin:20250412T220000
DTSTAMP:20260423T164047
CREATED:20250308T170959Z
LAST-MODIFIED:20250308T170959Z
UID:23174-1744482600-1744495200@www.alte-vhs.de
SUMMARY:Audio Aggression präsentiert:
DESCRIPTION:
URL:https://www.alte-vhs.de/event/audio-aggression-praesentiert/
LOCATION:Halle
END:VEVENT
BEGIN:VEVENT
DTSTART;TZID=Europe/Berlin:20250414T190000
DTEND;TZID=Europe/Berlin:20250414T220000
DTSTAMP:20260423T164047
CREATED:20250308T170959Z
LAST-MODIFIED:20250308T170959Z
UID:23175-1744657200-1744668000@www.alte-vhs.de
SUMMARY:Critical Mass Café
DESCRIPTION:
URL:https://www.alte-vhs.de/event/critical-mass-cafe-22/
LOCATION:Salon
END:VEVENT
BEGIN:VEVENT
DTSTART;TZID=Europe/Berlin:20250415T111500
DTEND;TZID=Europe/Berlin:20250415T134500
DTSTAMP:20260423T164047
CREATED:20250308T170959Z
LAST-MODIFIED:20250308T170959Z
UID:23176-1744715700-1744724700@www.alte-vhs.de
SUMMARY:Getränkeannahme
DESCRIPTION:
URL:https://www.alte-vhs.de/event/getraenkeannahme-109/
END:VEVENT
BEGIN:VEVENT
DTSTART;TZID=Europe/Berlin:20250416T170000
DTEND;TZID=Europe/Berlin:20250416T200000
DTSTAMP:20260423T164047
CREATED:20250308T170959Z
LAST-MODIFIED:20250308T170959Z
UID:23177-1744822800-1744833600@www.alte-vhs.de
SUMMARY:Acro Yoga
DESCRIPTION:
URL:https://www.alte-vhs.de/event/acro-yoga-86/
LOCATION:Halle
END:VEVENT
BEGIN:VEVENT
DTSTART;TZID=Europe/Berlin:20250416T190000
DTEND;TZID=Europe/Berlin:20250416T200000
DTSTAMP:20260423T164047
CREATED:20250308T171000Z
LAST-MODIFIED:20250308T171000Z
UID:23178-1744830000-1744833600@www.alte-vhs.de
SUMMARY:Alte VHS Plenum
DESCRIPTION:
URL:https://www.alte-vhs.de/event/alte-vhs-plenum-12/
LOCATION:Bewegungsraum
END:VEVENT
BEGIN:VEVENT
DTSTART;TZID=Europe/Berlin:20250416T190000
DTEND;TZID=Europe/Berlin:20250416T220000
DTSTAMP:20260423T164047
CREATED:20250308T171000Z
LAST-MODIFIED:20250308T171000Z
UID:23180-1744830000-1744840800@www.alte-vhs.de
SUMMARY:Offener Antifa Abend - Antifa Bonn/Rhein-Sieg
DESCRIPTION:
URL:https://www.alte-vhs.de/event/offener-antifa-abend-antifa-bonn-rhein-sieg-16/
LOCATION:Bewegungsraum
END:VEVENT
BEGIN:VEVENT
DTSTART;TZID=Europe/Berlin:20250416T190000
DTEND;TZID=Europe/Berlin:20250416T235500
DTSTAMP:20260423T164047
CREATED:20250308T171000Z
LAST-MODIFIED:20250308T171000Z
UID:23179-1744830000-1744847700@www.alte-vhs.de
SUMMARY:Punk Spieleabend
DESCRIPTION:
URL:https://www.alte-vhs.de/event/punk-spieleabend-13/
LOCATION:Salon
END:VEVENT
END:VCALENDAR