BEGIN:VCALENDAR
VERSION:2.0
PRODID:-//Alte VHS - ECPv6.8.3//NONSGML v1.0//EN
CALSCALE:GREGORIAN
METHOD:PUBLISH
X-WR-CALNAME:Alte VHS
X-ORIGINAL-URL:https://www.alte-vhs.de
X-WR-CALDESC:Veranstaltungen für Alte VHS
REFRESH-INTERVAL;VALUE=DURATION:PT1H
X-Robots-Tag:noindex
X-PUBLISHED-TTL:PT1H
BEGIN:VTIMEZONE
TZID:Europe/Berlin
BEGIN:DAYLIGHT
TZOFFSETFROM:+0100
TZOFFSETTO:+0200
TZNAME:CEST
DTSTART:20250330T010000
END:DAYLIGHT
BEGIN:STANDARD
TZOFFSETFROM:+0200
TZOFFSETTO:+0100
TZNAME:CET
DTSTART:20251026T010000
END:STANDARD
END:VTIMEZONE
BEGIN:VEVENT
DTSTART;TZID=Europe/Berlin:20250101T170000
DTEND;TZID=Europe/Berlin:20250101T200000
DTSTAMP:20260421T133241
CREATED:20241202T040005Z
LAST-MODIFIED:20241202T040005Z
UID:22522-1735750800-1735761600@www.alte-vhs.de
SUMMARY:Acro Yoga
DESCRIPTION:
URL:https://www.alte-vhs.de/event/acro-yoga-71/
LOCATION:Halle
END:VEVENT
BEGIN:VEVENT
DTSTART;TZID=Europe/Berlin:20250102T180000
DTEND;TZID=Europe/Berlin:20250102T220000
DTSTAMP:20260421T133241
CREATED:20241203T040006Z
LAST-MODIFIED:20241203T040006Z
UID:22534-1735840800-1735855200@www.alte-vhs.de
SUMMARY:FFF Plenum
DESCRIPTION:
URL:https://www.alte-vhs.de/event/fff-plenum-75/
LOCATION:Halle
END:VEVENT
BEGIN:VEVENT
DTSTART;TZID=Europe/Berlin:20250102T183000
DTEND;TZID=Europe/Berlin:20250102T183000
DTSTAMP:20260421T133241
CREATED:20241203T040007Z
LAST-MODIFIED:20241203T040007Z
UID:22535-1735842600-1735842600@www.alte-vhs.de
SUMMARY:Lesekreis mit den Falken
DESCRIPTION:
URL:https://www.alte-vhs.de/event/lesekreis-mit-den-falken-100/
END:VEVENT
BEGIN:VEVENT
DTSTART;TZID=Europe/Berlin:20250102T190000
DTEND;TZID=Europe/Berlin:20250102T220000
DTSTAMP:20260421T133241
CREATED:20241203T040007Z
LAST-MODIFIED:20241203T040007Z
UID:22536-1735844400-1735855200@www.alte-vhs.de
SUMMARY:Salóng
DESCRIPTION:
URL:https://www.alte-vhs.de/event/salong-122/
LOCATION:Salóng\, Rölsdorfstraße 20\, Bonn\, 53225\, Deutschland
END:VEVENT
BEGIN:VEVENT
DTSTART;TZID=Europe/Berlin:20250104T113000
DTEND;TZID=Europe/Berlin:20250104T153000
DTSTAMP:20260421T133241
CREATED:20241205T040007Z
LAST-MODIFIED:20241205T040007Z
UID:22574-1735990200-1736004600@www.alte-vhs.de
SUMMARY:Zecken basteln Zeug - Handarbeit von links
DESCRIPTION:
URL:https://www.alte-vhs.de/event/zecken-basteln-zeug-handarbeit-von-links-96/
END:VEVENT
BEGIN:VEVENT
DTSTART;TZID=Europe/Berlin:20250104T183000
DTEND;TZID=Europe/Berlin:20250104T235500
DTSTAMP:20260421T133241
CREATED:20241205T040007Z
LAST-MODIFIED:20241205T040007Z
UID:22575-1736015400-1736034900@www.alte-vhs.de
SUMMARY:Disturbance Konzertkollektiv präsentiert:
DESCRIPTION:
URL:https://www.alte-vhs.de/event/disturbance-konzertkollektiv-praesentiert/
END:VEVENT
BEGIN:VEVENT
DTSTART;TZID=Europe/Berlin:20250107T111500
DTEND;TZID=Europe/Berlin:20250107T134500
DTSTAMP:20260421T133241
CREATED:20241208T040006Z
LAST-MODIFIED:20241208T040006Z
UID:22594-1736248500-1736257500@www.alte-vhs.de
SUMMARY:Getränkeannahme
DESCRIPTION:
URL:https://www.alte-vhs.de/event/getraenkeannahme-97/
END:VEVENT
BEGIN:VEVENT
DTSTART;TZID=Europe/Berlin:20250108T170000
DTEND;TZID=Europe/Berlin:20250108T200000
DTSTAMP:20260421T133241
CREATED:20241209T040006Z
LAST-MODIFIED:20241209T040006Z
UID:22598-1736355600-1736366400@www.alte-vhs.de
SUMMARY:Acro Yoga
DESCRIPTION:
URL:https://www.alte-vhs.de/event/acro-yoga-72/
LOCATION:Halle
END:VEVENT
BEGIN:VEVENT
DTSTART;TZID=Europe/Berlin:20250108T190000
DTEND;TZID=Europe/Berlin:20250108T220000
DTSTAMP:20260421T133241
CREATED:20241209T040006Z
LAST-MODIFIED:20241209T040006Z
UID:22600-1736362800-1736373600@www.alte-vhs.de
SUMMARY:VHS Plenum
DESCRIPTION:
URL:https://www.alte-vhs.de/event/vhs-plenum-53/
LOCATION:Bewegungsraum
END:VEVENT
BEGIN:VEVENT
DTSTART;TZID=Europe/Berlin:20250108T190000
DTEND;TZID=Europe/Berlin:20250108T220000
DTSTAMP:20260421T133241
CREATED:20241209T040006Z
LAST-MODIFIED:20241209T040006Z
UID:22599-1736362800-1736373600@www.alte-vhs.de
SUMMARY:OAT - Offenes Antifaschistisches Treffen Bonn
DESCRIPTION:
URL:https://www.alte-vhs.de/event/oat-offenes-antifaschistisches-treffen-bonn-19/
END:VEVENT
BEGIN:VEVENT
DTSTART;TZID=Europe/Berlin:20250109T180000
DTEND;TZID=Europe/Berlin:20250109T220000
DTSTAMP:20260421T133241
CREATED:20241210T040010Z
LAST-MODIFIED:20241210T040010Z
UID:22608-1736445600-1736460000@www.alte-vhs.de
SUMMARY:FFF Plenum
DESCRIPTION:
URL:https://www.alte-vhs.de/event/fff-plenum-76/
LOCATION:Halle
END:VEVENT
BEGIN:VEVENT
DTSTART;TZID=Europe/Berlin:20250109T183000
DTEND;TZID=Europe/Berlin:20250109T183000
DTSTAMP:20260421T133241
CREATED:20241210T040010Z
LAST-MODIFIED:20241210T040010Z
UID:22609-1736447400-1736447400@www.alte-vhs.de
SUMMARY:Lesekreis mit den Falken
DESCRIPTION:
URL:https://www.alte-vhs.de/event/lesekreis-mit-den-falken-101/
END:VEVENT
BEGIN:VEVENT
DTSTART;TZID=Europe/Berlin:20250109T190000
DTEND;TZID=Europe/Berlin:20250109T220000
DTSTAMP:20260421T133241
CREATED:20241210T040010Z
LAST-MODIFIED:20241210T040010Z
UID:22611-1736449200-1736460000@www.alte-vhs.de
SUMMARY:Salóng
DESCRIPTION:
URL:https://www.alte-vhs.de/event/salong-123/
LOCATION:Salóng\, Rölsdorfstraße 20\, Bonn\, 53225\, Deutschland
END:VEVENT
BEGIN:VEVENT
DTSTART;TZID=Europe/Berlin:20250109T190000
DTEND;TZID=Europe/Berlin:20250109T220000
DTSTAMP:20260421T133241
CREATED:20241210T040010Z
LAST-MODIFIED:20241210T040010Z
UID:22610-1736449200-1736460000@www.alte-vhs.de
SUMMARY:Offene Siebdruckwerkstatt / Atelier
DESCRIPTION:
URL:https://www.alte-vhs.de/event/offene-siebdruckwerkstatt-atelier-36/
END:VEVENT
BEGIN:VEVENT
DTSTART;TZID=Europe/Berlin:20250111T113000
DTEND;TZID=Europe/Berlin:20250111T153000
DTSTAMP:20260421T133241
CREATED:20241212T040013Z
LAST-MODIFIED:20241212T040013Z
UID:22630-1736595000-1736609400@www.alte-vhs.de
SUMMARY:Zecken basteln Zeug - Handarbeit von links
DESCRIPTION:
URL:https://www.alte-vhs.de/event/zecken-basteln-zeug-handarbeit-von-links-97/
END:VEVENT
BEGIN:VEVENT
DTSTART;TZID=Europe/Berlin:20250113T190000
DTEND;TZID=Europe/Berlin:20250113T220000
DTSTAMP:20260421T133241
CREATED:20241214T040049Z
LAST-MODIFIED:20241214T040049Z
UID:22639-1736794800-1736805600@www.alte-vhs.de
SUMMARY:Critical Mass Café
DESCRIPTION:
URL:https://www.alte-vhs.de/event/critical-mass-cafe-19/
LOCATION:Salon
END:VEVENT
BEGIN:VEVENT
DTSTART;TZID=Europe/Berlin:20250114T111500
DTEND;TZID=Europe/Berlin:20250114T134500
DTSTAMP:20260421T133241
CREATED:20241215T040017Z
LAST-MODIFIED:20241215T040017Z
UID:22642-1736853300-1736862300@www.alte-vhs.de
SUMMARY:Getränkeannahme
DESCRIPTION:
URL:https://www.alte-vhs.de/event/getraenkeannahme-98/
END:VEVENT
BEGIN:VEVENT
DTSTART;TZID=Europe/Berlin:20250115T170000
DTEND;TZID=Europe/Berlin:20250115T200000
DTSTAMP:20260421T133241
CREATED:20241216T040033Z
LAST-MODIFIED:20241216T040033Z
UID:22652-1736960400-1736971200@www.alte-vhs.de
SUMMARY:Acro Yoga
DESCRIPTION:
URL:https://www.alte-vhs.de/event/acro-yoga-73/
LOCATION:Halle
END:VEVENT
BEGIN:VEVENT
DTSTART;TZID=Europe/Berlin:20250115T190000
DTEND;TZID=Europe/Berlin:20250115T210000
DTSTAMP:20260421T133241
CREATED:20250114T040034Z
LAST-MODIFIED:20250114T040034Z
UID:22827-1736967600-1736974800@www.alte-vhs.de
SUMMARY:Alte VHS Plenum
DESCRIPTION:
URL:https://www.alte-vhs.de/event/alte-vhs-plenum-3/
LOCATION:Bewegungsraum
END:VEVENT
BEGIN:VEVENT
DTSTART;TZID=Europe/Berlin:20250115T190000
DTEND;TZID=Europe/Berlin:20250115T220000
DTSTAMP:20260421T133241
CREATED:20241216T040033Z
LAST-MODIFIED:20241216T040033Z
UID:22653-1736967600-1736978400@www.alte-vhs.de
SUMMARY:Offener Antifa Abend - Antifa Bonn/Rhein-Sieg
DESCRIPTION:
URL:https://www.alte-vhs.de/event/offener-antifa-abend-antifa-bonn-rhein-sieg-13/
LOCATION:Bewegungsraum
END:VEVENT
BEGIN:VEVENT
DTSTART;TZID=Europe/Berlin:20250116T180000
DTEND;TZID=Europe/Berlin:20250116T220000
DTSTAMP:20260421T133241
CREATED:20250116T040037Z
LAST-MODIFIED:20250116T040037Z
UID:22838-1737050400-1737064800@www.alte-vhs.de
SUMMARY:FFF Plenum
DESCRIPTION:
URL:https://www.alte-vhs.de/event/fff-plenum-81/
LOCATION:Bewegungsraum
END:VEVENT
BEGIN:VEVENT
DTSTART;TZID=Europe/Berlin:20250116T183000
DTEND;TZID=Europe/Berlin:20250116T183000
DTSTAMP:20260421T133241
CREATED:20241217T040014Z
LAST-MODIFIED:20241217T040014Z
UID:22657-1737052200-1737052200@www.alte-vhs.de
SUMMARY:Lesekreis mit den Falken
DESCRIPTION:
URL:https://www.alte-vhs.de/event/lesekreis-mit-den-falken-102/
END:VEVENT
BEGIN:VEVENT
DTSTART;TZID=Europe/Berlin:20250116T190000
DTEND;TZID=Europe/Berlin:20250116T220000
DTSTAMP:20260421T133241
CREATED:20241217T040015Z
LAST-MODIFIED:20241217T040015Z
UID:22658-1737054000-1737064800@www.alte-vhs.de
SUMMARY:Salóng
DESCRIPTION:
URL:https://www.alte-vhs.de/event/salong-124/
LOCATION:Salóng\, Rölsdorfstraße 20\, Bonn\, 53225\, Deutschland
END:VEVENT
BEGIN:VEVENT
DTSTART;TZID=Europe/Berlin:20250118T113000
DTEND;TZID=Europe/Berlin:20250118T153000
DTSTAMP:20260421T133241
CREATED:20241219T040009Z
LAST-MODIFIED:20241219T040009Z
UID:22669-1737199800-1737214200@www.alte-vhs.de
SUMMARY:Zecken basteln Zeug - Handarbeit von links
DESCRIPTION:
URL:https://www.alte-vhs.de/event/zecken-basteln-zeug-handarbeit-von-links-98/
END:VEVENT
BEGIN:VEVENT
DTSTART;TZID=Europe/Berlin:20250119T180000
DTEND;TZID=Europe/Berlin:20250119T213000
DTSTAMP:20260421T133241
CREATED:20241220T040148Z
LAST-MODIFIED:20241220T040148Z
UID:22676-1737309600-1737322200@www.alte-vhs.de
SUMMARY:Improtheater Auftritt - Ungebügelt Faltenfrei
DESCRIPTION:
URL:https://www.alte-vhs.de/event/improtheater-auftritt-ungebuegelt-faltenfrei/
LOCATION:Halle
END:VEVENT
BEGIN:VEVENT
DTSTART;TZID=Europe/Berlin:20250121T111500
DTEND;TZID=Europe/Berlin:20250121T134500
DTSTAMP:20260421T133241
CREATED:20241222T040221Z
LAST-MODIFIED:20241222T040221Z
UID:22681-1737458100-1737467100@www.alte-vhs.de
SUMMARY:Getränkeannahme
DESCRIPTION:
URL:https://www.alte-vhs.de/event/getraenkeannahme-99/
END:VEVENT
BEGIN:VEVENT
DTSTART;TZID=Europe/Berlin:20250122T170000
DTEND;TZID=Europe/Berlin:20250122T200000
DTSTAMP:20260421T133241
CREATED:20241223T040009Z
LAST-MODIFIED:20241223T040009Z
UID:22687-1737565200-1737576000@www.alte-vhs.de
SUMMARY:Acro Yoga
DESCRIPTION:
URL:https://www.alte-vhs.de/event/acro-yoga-74/
LOCATION:Halle
END:VEVENT
BEGIN:VEVENT
DTSTART;TZID=Europe/Berlin:20250122T190000
DTEND;TZID=Europe/Berlin:20250122T200000
DTSTAMP:20260421T133241
CREATED:20250121T040005Z
LAST-MODIFIED:20250121T040005Z
UID:22877-1737572400-1737576000@www.alte-vhs.de
SUMMARY:Punk Spieleabend
DESCRIPTION:
URL:https://www.alte-vhs.de/event/punk-spieleabend/
LOCATION:Salon
END:VEVENT
BEGIN:VEVENT
DTSTART;TZID=Europe/Berlin:20250122T190000
DTEND;TZID=Europe/Berlin:20250122T220000
DTSTAMP:20260421T133241
CREATED:20241223T040009Z
LAST-MODIFIED:20241223T040009Z
UID:22689-1737572400-1737583200@www.alte-vhs.de
SUMMARY:VHS Plenum
DESCRIPTION:
URL:https://www.alte-vhs.de/event/vhs-plenum-54/
LOCATION:Bewegungsraum
END:VEVENT
BEGIN:VEVENT
DTSTART;TZID=Europe/Berlin:20250122T190000
DTEND;TZID=Europe/Berlin:20250122T220000
DTSTAMP:20260421T133241
CREATED:20241223T040009Z
LAST-MODIFIED:20241223T040009Z
UID:22688-1737572400-1737583200@www.alte-vhs.de
SUMMARY:OAT - Offenes Antifaschistisches Treffen Bonn
DESCRIPTION:
URL:https://www.alte-vhs.de/event/oat-offenes-antifaschistisches-treffen-bonn-22/
END:VEVENT
END:VCALENDAR