BEGIN:VCALENDAR
VERSION:2.0
PRODID:-//Alte VHS - ECPv6.8.3//NONSGML v1.0//EN
CALSCALE:GREGORIAN
METHOD:PUBLISH
X-WR-CALNAME:Alte VHS
X-ORIGINAL-URL:https://www.alte-vhs.de
X-WR-CALDESC:Veranstaltungen für Alte VHS
REFRESH-INTERVAL;VALUE=DURATION:PT1H
X-Robots-Tag:noindex
X-PUBLISHED-TTL:PT1H
BEGIN:VTIMEZONE
TZID:Europe/Berlin
BEGIN:DAYLIGHT
TZOFFSETFROM:+0100
TZOFFSETTO:+0200
TZNAME:CEST
DTSTART:20260329T010000
END:DAYLIGHT
BEGIN:STANDARD
TZOFFSETFROM:+0200
TZOFFSETTO:+0100
TZNAME:CET
DTSTART:20261025T010000
END:STANDARD
END:VTIMEZONE
BEGIN:VEVENT
DTSTART;TZID=Europe/Berlin:20260610T190000
DTEND;TZID=Europe/Berlin:20260610T220000
DTSTAMP:20260423T191938
CREATED:20260311T040008Z
LAST-MODIFIED:20260311T040008Z
UID:26814-1781118000-1781128800@www.alte-vhs.de
SUMMARY:Alte VHS Plenum
DESCRIPTION:
URL:https://www.alte-vhs.de/event/alte-vhs-plenum-70/
LOCATION:Bewegungsraum
END:VEVENT
BEGIN:VEVENT
DTSTART;TZID=Europe/Berlin:20260610T190000
DTEND;TZID=Europe/Berlin:20260610T235500
DTSTAMP:20260423T191938
CREATED:20260407T040010Z
LAST-MODIFIED:20260407T040010Z
UID:27491-1781118000-1781135700@www.alte-vhs.de
SUMMARY:Rise Above: Subkultureller Begegnungsraum / Offener Punksalon
DESCRIPTION:
URL:https://www.alte-vhs.de/event/rise-above-subkultureller-begegnungsraum-offener-punksalon-10/
LOCATION:Salon
END:VEVENT
BEGIN:VEVENT
DTSTART;TZID=Europe/Berlin:20260611T180000
DTEND;TZID=Europe/Berlin:20260611T220000
DTSTAMP:20260423T191938
CREATED:20260414T040012Z
LAST-MODIFIED:20260414T040012Z
UID:27519-1781200800-1781215200@www.alte-vhs.de
SUMMARY:FFF Plenum
DESCRIPTION:
URL:https://www.alte-vhs.de/event/fff-plenum-160/
END:VEVENT
BEGIN:VEVENT
DTSTART;TZID=Europe/Berlin:20260611T190000
DTEND;TZID=Europe/Berlin:20260611T220000
DTSTAMP:20260423T191938
CREATED:20260312T040007Z
LAST-MODIFIED:20260312T040007Z
UID:26849-1781204400-1781215200@www.alte-vhs.de
SUMMARY:Offene Siebdruckwerkstatt / Atelier
DESCRIPTION:
URL:https://www.alte-vhs.de/event/offene-siebdruckwerkstatt-atelier-70/
END:VEVENT
BEGIN:VEVENT
DTSTART;TZID=Europe/Berlin:20260611T190000
DTEND;TZID=Europe/Berlin:20260611T220000
DTSTAMP:20260423T191938
CREATED:20260312T040008Z
LAST-MODIFIED:20260312T040008Z
UID:26850-1781204400-1781215200@www.alte-vhs.de
SUMMARY:Salóng
DESCRIPTION:
URL:https://www.alte-vhs.de/event/salong-196/
LOCATION:Salóng\, Rölsdorfstraße 20\, Bonn\, 53225\, Deutschland
END:VEVENT
BEGIN:VEVENT
DTSTART;TZID=Europe/Berlin:20260613T113000
DTEND;TZID=Europe/Berlin:20260613T153000
DTSTAMP:20260423T191938
CREATED:20260314T040011Z
LAST-MODIFIED:20260314T040011Z
UID:26871-1781350200-1781364600@www.alte-vhs.de
SUMMARY:Zecken basteln Zeug - Handarbeit von links
DESCRIPTION:
URL:https://www.alte-vhs.de/event/zecken-basteln-zeug-handarbeit-von-links-171/
END:VEVENT
BEGIN:VEVENT
DTSTART;TZID=Europe/Berlin:20260613T183000
DTEND;TZID=Europe/Berlin:20260613T235900
DTSTAMP:20260423T191938
CREATED:20260314T040011Z
LAST-MODIFIED:20260314T040011Z
UID:26872-1781375400-1781395140@www.alte-vhs.de
SUMMARY:DISTURBANCE presents: Knifemare + Cursed to Occult
DESCRIPTION:
URL:https://www.alte-vhs.de/event/disturbance-presents-knifemare-cursed-to-occult/
END:VEVENT
BEGIN:VEVENT
DTSTART;TZID=Europe/Berlin:20260616T111500
DTEND;TZID=Europe/Berlin:20260616T134500
DTSTAMP:20260423T191938
CREATED:20260317T040009Z
LAST-MODIFIED:20260317T040009Z
UID:26935-1781608500-1781617500@www.alte-vhs.de
SUMMARY:Getränkeannahme
DESCRIPTION:
URL:https://www.alte-vhs.de/event/getraenkeannahme-164/
END:VEVENT
BEGIN:VEVENT
DTSTART;TZID=Europe/Berlin:20260616T190000
DTEND;TZID=Europe/Berlin:20260616T220000
DTSTAMP:20260423T191938
CREATED:20260415T040008Z
LAST-MODIFIED:20260415T040008Z
UID:27530-1781636400-1781647200@www.alte-vhs.de
SUMMARY:Offenes Treffen Widersetzen Bonn
DESCRIPTION:
URL:https://www.alte-vhs.de/event/offenes-treffen-widersetzen-bonn-32/
END:VEVENT
BEGIN:VEVENT
DTSTART;TZID=Europe/Berlin:20260617T170000
DTEND;TZID=Europe/Berlin:20260617T200000
DTSTAMP:20260423T191938
CREATED:20260318T040031Z
LAST-MODIFIED:20260318T040031Z
UID:26978-1781715600-1781726400@www.alte-vhs.de
SUMMARY:Acro Yoga
DESCRIPTION:
URL:https://www.alte-vhs.de/event/acro-yoga-137/
LOCATION:Halle
END:VEVENT
BEGIN:VEVENT
DTSTART;TZID=Europe/Berlin:20260617T190000
DTEND;TZID=Europe/Berlin:20260617T200000
DTSTAMP:20260423T191938
CREATED:20260318T040031Z
LAST-MODIFIED:20260318T040031Z
UID:26979-1781722800-1781726400@www.alte-vhs.de
SUMMARY:Alte VHS Plenum
DESCRIPTION:
URL:https://www.alte-vhs.de/event/alte-vhs-plenum-71/
LOCATION:Bewegungsraum
END:VEVENT
BEGIN:VEVENT
DTSTART;TZID=Europe/Berlin:20260617T190000
DTEND;TZID=Europe/Berlin:20260617T235500
DTSTAMP:20260423T191938
CREATED:20260407T040010Z
LAST-MODIFIED:20260407T040010Z
UID:27492-1781722800-1781740500@www.alte-vhs.de
SUMMARY:Rise Above: Subkultureller Begegnungsraum / Offener Punksalon
DESCRIPTION:
URL:https://www.alte-vhs.de/event/rise-above-subkultureller-begegnungsraum-offener-punksalon-11/
LOCATION:Salon
END:VEVENT
BEGIN:VEVENT
DTSTART;TZID=Europe/Berlin:20260618T180000
DTEND;TZID=Europe/Berlin:20260618T220000
DTSTAMP:20260423T191938
CREATED:20260414T040012Z
LAST-MODIFIED:20260414T040012Z
UID:27520-1781805600-1781820000@www.alte-vhs.de
SUMMARY:FFF Plenum
DESCRIPTION:
URL:https://www.alte-vhs.de/event/fff-plenum-161/
END:VEVENT
BEGIN:VEVENT
DTSTART;TZID=Europe/Berlin:20260618T190000
DTEND;TZID=Europe/Berlin:20260618T220000
DTSTAMP:20260423T191938
CREATED:20260319T040012Z
LAST-MODIFIED:20260319T040012Z
UID:27032-1781809200-1781820000@www.alte-vhs.de
SUMMARY:Salóng
DESCRIPTION:
URL:https://www.alte-vhs.de/event/salong-197/
LOCATION:Salóng\, Rölsdorfstraße 20\, Bonn\, 53225\, Deutschland
END:VEVENT
BEGIN:VEVENT
DTSTART;TZID=Europe/Berlin:20260620T113000
DTEND;TZID=Europe/Berlin:20260620T153000
DTSTAMP:20260423T191938
CREATED:20260321T040009Z
LAST-MODIFIED:20260321T040009Z
UID:27177-1781955000-1781969400@www.alte-vhs.de
SUMMARY:Zecken basteln Zeug - Handarbeit von links
DESCRIPTION:
URL:https://www.alte-vhs.de/event/zecken-basteln-zeug-handarbeit-von-links-172/
END:VEVENT
BEGIN:VEVENT
DTSTART;TZID=Europe/Berlin:20260623T111500
DTEND;TZID=Europe/Berlin:20260623T134500
DTSTAMP:20260423T191938
CREATED:20260324T040007Z
LAST-MODIFIED:20260324T040007Z
UID:27291-1782213300-1782222300@www.alte-vhs.de
SUMMARY:Getränkeannahme
DESCRIPTION:
URL:https://www.alte-vhs.de/event/getraenkeannahme-165/
END:VEVENT
BEGIN:VEVENT
DTSTART;TZID=Europe/Berlin:20260624T170000
DTEND;TZID=Europe/Berlin:20260624T200000
DTSTAMP:20260423T191938
CREATED:20260325T040009Z
LAST-MODIFIED:20260325T040009Z
UID:27369-1782320400-1782331200@www.alte-vhs.de
SUMMARY:Acro Yoga
DESCRIPTION:
URL:https://www.alte-vhs.de/event/acro-yoga-138/
LOCATION:Halle
END:VEVENT
BEGIN:VEVENT
DTSTART;TZID=Europe/Berlin:20260624T190000
DTEND;TZID=Europe/Berlin:20260624T220000
DTSTAMP:20260423T191938
CREATED:20260325T040009Z
LAST-MODIFIED:20260325T040009Z
UID:27370-1782327600-1782338400@www.alte-vhs.de
SUMMARY:Alte VHS Plenum
DESCRIPTION:
URL:https://www.alte-vhs.de/event/alte-vhs-plenum-72/
LOCATION:Bewegungsraum
END:VEVENT
BEGIN:VEVENT
DTSTART;TZID=Europe/Berlin:20260624T190000
DTEND;TZID=Europe/Berlin:20260624T235500
DTSTAMP:20260423T191938
CREATED:20260407T040011Z
LAST-MODIFIED:20260407T040011Z
UID:27493-1782327600-1782345300@www.alte-vhs.de
SUMMARY:Rise Above: Subkultureller Begegnungsraum / Offener Punksalon
DESCRIPTION:
URL:https://www.alte-vhs.de/event/rise-above-subkultureller-begegnungsraum-offener-punksalon-12/
LOCATION:Salon
END:VEVENT
BEGIN:VEVENT
DTSTART;TZID=Europe/Berlin:20260625T180000
DTEND;TZID=Europe/Berlin:20260625T220000
DTSTAMP:20260423T191938
CREATED:20260414T040012Z
LAST-MODIFIED:20260414T040012Z
UID:27521-1782410400-1782424800@www.alte-vhs.de
SUMMARY:FFF Plenum
DESCRIPTION:
URL:https://www.alte-vhs.de/event/fff-plenum-162/
END:VEVENT
BEGIN:VEVENT
DTSTART;TZID=Europe/Berlin:20260625T190000
DTEND;TZID=Europe/Berlin:20260625T220000
DTSTAMP:20260423T191938
CREATED:20260326T040011Z
LAST-MODIFIED:20260326T040011Z
UID:27433-1782414000-1782424800@www.alte-vhs.de
SUMMARY:Offene Siebdruckwerkstatt / Atelier
DESCRIPTION:
URL:https://www.alte-vhs.de/event/offene-siebdruckwerkstatt-atelier-71/
END:VEVENT
BEGIN:VEVENT
DTSTART;TZID=Europe/Berlin:20260625T190000
DTEND;TZID=Europe/Berlin:20260625T220000
DTSTAMP:20260423T191938
CREATED:20260326T040012Z
LAST-MODIFIED:20260326T040012Z
UID:27434-1782414000-1782424800@www.alte-vhs.de
SUMMARY:Salóng
DESCRIPTION:
URL:https://www.alte-vhs.de/event/salong-198/
LOCATION:Salóng\, Rölsdorfstraße 20\, Bonn\, 53225\, Deutschland
END:VEVENT
BEGIN:VEVENT
DTSTART;TZID=Europe/Berlin:20260627T113000
DTEND;TZID=Europe/Berlin:20260627T153000
DTSTAMP:20260423T191938
CREATED:20260328T040017Z
LAST-MODIFIED:20260328T040017Z
UID:27467-1782559800-1782574200@www.alte-vhs.de
SUMMARY:Zecken basteln Zeug - Handarbeit von links
DESCRIPTION:
URL:https://www.alte-vhs.de/event/zecken-basteln-zeug-handarbeit-von-links-173/
END:VEVENT
BEGIN:VEVENT
DTSTART;TZID=Europe/Berlin:20260630T111500
DTEND;TZID=Europe/Berlin:20260630T134500
DTSTAMP:20260423T191938
CREATED:20260331T040018Z
LAST-MODIFIED:20260331T040018Z
UID:27469-1782818100-1782827100@www.alte-vhs.de
SUMMARY:Getränkeannahme
DESCRIPTION:
URL:https://www.alte-vhs.de/event/getraenkeannahme-166/
END:VEVENT
BEGIN:VEVENT
DTSTART;TZID=Europe/Berlin:20260701T170000
DTEND;TZID=Europe/Berlin:20260701T200000
DTSTAMP:20260423T191938
CREATED:20260402T040009Z
LAST-MODIFIED:20260402T040009Z
UID:27472-1782925200-1782936000@www.alte-vhs.de
SUMMARY:Acro Yoga
DESCRIPTION:
URL:https://www.alte-vhs.de/event/acro-yoga-139/
LOCATION:Halle
END:VEVENT
BEGIN:VEVENT
DTSTART;TZID=Europe/Berlin:20260701T190000
DTEND;TZID=Europe/Berlin:20260701T220000
DTSTAMP:20260423T191938
CREATED:20260402T040009Z
LAST-MODIFIED:20260402T040009Z
UID:27473-1782932400-1782943200@www.alte-vhs.de
SUMMARY:Alte VHS Plenum
DESCRIPTION:
URL:https://www.alte-vhs.de/event/alte-vhs-plenum-73/
LOCATION:Bewegungsraum
END:VEVENT
BEGIN:VEVENT
DTSTART;TZID=Europe/Berlin:20260701T190000
DTEND;TZID=Europe/Berlin:20260701T235500
DTSTAMP:20260423T191938
CREATED:20260407T040011Z
LAST-MODIFIED:20260407T040011Z
UID:27494-1782932400-1782950100@www.alte-vhs.de
SUMMARY:Rise Above: Subkultureller Begegnungsraum / Offener Punksalon
DESCRIPTION:
URL:https://www.alte-vhs.de/event/rise-above-subkultureller-begegnungsraum-offener-punksalon-13/
LOCATION:Salon
END:VEVENT
BEGIN:VEVENT
DTSTART;TZID=Europe/Berlin:20260702T170000
DTEND;TZID=Europe/Berlin:20260702T200000
DTSTAMP:20260423T191938
CREATED:20260403T040010Z
LAST-MODIFIED:20260403T040010Z
UID:27475-1783011600-1783022400@www.alte-vhs.de
SUMMARY:KüfA (Kochen)
DESCRIPTION:
URL:https://www.alte-vhs.de/event/kuefa-kochen-25/
LOCATION:Halle
END:VEVENT
BEGIN:VEVENT
DTSTART;TZID=Europe/Berlin:20260702T180000
DTEND;TZID=Europe/Berlin:20260702T220000
DTSTAMP:20260423T191938
CREATED:20260414T040012Z
LAST-MODIFIED:20260414T040012Z
UID:27522-1783015200-1783029600@www.alte-vhs.de
SUMMARY:FFF Plenum
DESCRIPTION:
URL:https://www.alte-vhs.de/event/fff-plenum-163/
END:VEVENT
BEGIN:VEVENT
DTSTART;TZID=Europe/Berlin:20260702T190000
DTEND;TZID=Europe/Berlin:20260702T200000
DTSTAMP:20260423T191938
CREATED:20260403T040010Z
LAST-MODIFIED:20260403T040010Z
UID:27477-1783018800-1783022400@www.alte-vhs.de
SUMMARY:Falken Plenum
DESCRIPTION:
URL:https://www.alte-vhs.de/event/falken-plenum-9/
END:VEVENT
END:VCALENDAR