BEGIN:VCALENDAR
VERSION:2.0
PRODID:-//Alte VHS - ECPv6.8.3//NONSGML v1.0//EN
CALSCALE:GREGORIAN
METHOD:PUBLISH
X-ORIGINAL-URL:https://www.alte-vhs.de
X-WR-CALDESC:Veranstaltungen für Alte VHS
REFRESH-INTERVAL;VALUE=DURATION:PT1H
X-Robots-Tag:noindex
X-PUBLISHED-TTL:PT1H
BEGIN:VTIMEZONE
TZID:Europe/Berlin
BEGIN:DAYLIGHT
TZOFFSETFROM:+0100
TZOFFSETTO:+0200
TZNAME:CEST
DTSTART:20260329T010000
END:DAYLIGHT
BEGIN:STANDARD
TZOFFSETFROM:+0200
TZOFFSETTO:+0100
TZNAME:CET
DTSTART:20261025T010000
END:STANDARD
END:VTIMEZONE
BEGIN:VEVENT
DTSTART;TZID=Europe/Berlin:20260527T190000
DTEND;TZID=Europe/Berlin:20260527T220000
DTSTAMP:20260423T125535
CREATED:20260228T040008Z
LAST-MODIFIED:20260228T040008Z
UID:26603-1779908400-1779919200@www.alte-vhs.de
SUMMARY:Alte VHS Plenum
DESCRIPTION:
URL:https://www.alte-vhs.de/event/alte-vhs-plenum-68/
LOCATION:Bewegungsraum
END:VEVENT
BEGIN:VEVENT
DTSTART;TZID=Europe/Berlin:20260527T190000
DTEND;TZID=Europe/Berlin:20260527T235500
DTSTAMP:20260423T125535
CREATED:20260407T040010Z
LAST-MODIFIED:20260407T040010Z
UID:27489-1779908400-1779926100@www.alte-vhs.de
SUMMARY:Rise Above: Subkultureller Begegnungsraum / Offener Punksalon
DESCRIPTION:
URL:https://www.alte-vhs.de/event/rise-above-subkultureller-begegnungsraum-offener-punksalon-8/
LOCATION:Salon
END:VEVENT
BEGIN:VEVENT
DTSTART;TZID=Europe/Berlin:20260528T180000
DTEND;TZID=Europe/Berlin:20260528T220000
DTSTAMP:20260423T125535
CREATED:20260414T040011Z
LAST-MODIFIED:20260414T040011Z
UID:27517-1779991200-1780005600@www.alte-vhs.de
SUMMARY:FFF Plenum
DESCRIPTION:
URL:https://www.alte-vhs.de/event/fff-plenum-158/
END:VEVENT
BEGIN:VEVENT
DTSTART;TZID=Europe/Berlin:20260528T190000
DTEND;TZID=Europe/Berlin:20260528T220000
DTSTAMP:20260423T125535
CREATED:20260301T040009Z
LAST-MODIFIED:20260301T040009Z
UID:26619-1779994800-1780005600@www.alte-vhs.de
SUMMARY:Offene Siebdruckwerkstatt / Atelier
DESCRIPTION:
URL:https://www.alte-vhs.de/event/offene-siebdruckwerkstatt-atelier-69/
END:VEVENT
BEGIN:VEVENT
DTSTART;TZID=Europe/Berlin:20260528T190000
DTEND;TZID=Europe/Berlin:20260528T220000
DTSTAMP:20260423T125535
CREATED:20260301T040009Z
LAST-MODIFIED:20260301T040009Z
UID:26620-1779994800-1780005600@www.alte-vhs.de
SUMMARY:Salóng
DESCRIPTION:
URL:https://www.alte-vhs.de/event/salong-194/
LOCATION:Salóng\, Rölsdorfstraße 20\, Bonn\, 53225\, Deutschland
END:VEVENT
BEGIN:VEVENT
DTSTART;TZID=Europe/Berlin:20260530T113000
DTEND;TZID=Europe/Berlin:20260530T153000
DTSTAMP:20260423T125535
CREATED:20260301T040009Z
LAST-MODIFIED:20260301T040009Z
UID:26621-1780140600-1780155000@www.alte-vhs.de
SUMMARY:Zecken basteln Zeug - Handarbeit von links
DESCRIPTION:
URL:https://www.alte-vhs.de/event/zecken-basteln-zeug-handarbeit-von-links-169/
END:VEVENT
BEGIN:VEVENT
DTSTART;TZID=Europe/Berlin:20260602T111500
DTEND;TZID=Europe/Berlin:20260602T134500
DTSTAMP:20260423T125535
CREATED:20260303T040009Z
LAST-MODIFIED:20260303T040009Z
UID:26633-1780398900-1780407900@www.alte-vhs.de
SUMMARY:Getränkeannahme
DESCRIPTION:
URL:https://www.alte-vhs.de/event/getraenkeannahme-162/
END:VEVENT
BEGIN:VEVENT
DTSTART;TZID=Europe/Berlin:20260602T190000
DTEND;TZID=Europe/Berlin:20260602T220000
DTSTAMP:20260423T125535
CREATED:20260415T040008Z
LAST-MODIFIED:20260415T040008Z
UID:27529-1780426800-1780437600@www.alte-vhs.de
SUMMARY:Offenes Treffen Widersetzen Bonn
DESCRIPTION:
URL:https://www.alte-vhs.de/event/offenes-treffen-widersetzen-bonn-31/
END:VEVENT
BEGIN:VEVENT
DTSTART;TZID=Europe/Berlin:20260603T170000
DTEND;TZID=Europe/Berlin:20260603T200000
DTSTAMP:20260423T125535
CREATED:20260304T040007Z
LAST-MODIFIED:20260304T040007Z
UID:26644-1780506000-1780516800@www.alte-vhs.de
SUMMARY:Acro Yoga
DESCRIPTION:
URL:https://www.alte-vhs.de/event/acro-yoga-135/
LOCATION:Halle
END:VEVENT
BEGIN:VEVENT
DTSTART;TZID=Europe/Berlin:20260603T190000
DTEND;TZID=Europe/Berlin:20260603T220000
DTSTAMP:20260423T125535
CREATED:20260304T040007Z
LAST-MODIFIED:20260304T040007Z
UID:26645-1780513200-1780524000@www.alte-vhs.de
SUMMARY:Alte VHS Plenum
DESCRIPTION:
URL:https://www.alte-vhs.de/event/alte-vhs-plenum-69/
LOCATION:Bewegungsraum
END:VEVENT
BEGIN:VEVENT
DTSTART;TZID=Europe/Berlin:20260603T190000
DTEND;TZID=Europe/Berlin:20260603T235500
DTSTAMP:20260423T125535
CREATED:20260407T040010Z
LAST-MODIFIED:20260407T040010Z
UID:27490-1780513200-1780530900@www.alte-vhs.de
SUMMARY:Rise Above: Subkultureller Begegnungsraum / Offener Punksalon
DESCRIPTION:
URL:https://www.alte-vhs.de/event/rise-above-subkultureller-begegnungsraum-offener-punksalon-9/
LOCATION:Salon
END:VEVENT
BEGIN:VEVENT
DTSTART;TZID=Europe/Berlin:20260604T170000
DTEND;TZID=Europe/Berlin:20260604T200000
DTSTAMP:20260423T125535
CREATED:20260305T040010Z
LAST-MODIFIED:20260305T040010Z
UID:26652-1780592400-1780603200@www.alte-vhs.de
SUMMARY:KüfA (Kochen)
DESCRIPTION:
URL:https://www.alte-vhs.de/event/kuefa-kochen-24/
LOCATION:Halle
END:VEVENT
BEGIN:VEVENT
DTSTART;TZID=Europe/Berlin:20260604T180000
DTEND;TZID=Europe/Berlin:20260604T220000
DTSTAMP:20260423T125535
CREATED:20260414T040011Z
LAST-MODIFIED:20260414T040011Z
UID:27518-1780596000-1780610400@www.alte-vhs.de
SUMMARY:FFF Plenum
DESCRIPTION:
URL:https://www.alte-vhs.de/event/fff-plenum-159/
END:VEVENT
BEGIN:VEVENT
DTSTART;TZID=Europe/Berlin:20260604T190000
DTEND;TZID=Europe/Berlin:20260604T200000
DTSTAMP:20260423T125535
CREATED:20260305T040010Z
LAST-MODIFIED:20260305T040010Z
UID:26654-1780599600-1780603200@www.alte-vhs.de
SUMMARY:Falken Plenum
DESCRIPTION:
URL:https://www.alte-vhs.de/event/falken-plenum-8/
END:VEVENT
BEGIN:VEVENT
DTSTART;TZID=Europe/Berlin:20260604T190000
DTEND;TZID=Europe/Berlin:20260604T220000
DTSTAMP:20260423T125535
CREATED:20260305T040010Z
LAST-MODIFIED:20260305T040010Z
UID:26655-1780599600-1780610400@www.alte-vhs.de
SUMMARY:Salóng
DESCRIPTION:
URL:https://www.alte-vhs.de/event/salong-195/
LOCATION:Salóng\, Rölsdorfstraße 20\, Bonn\, 53225\, Deutschland
END:VEVENT
BEGIN:VEVENT
DTSTART;TZID=Europe/Berlin:20260604T200000
DTEND;TZID=Europe/Berlin:20260604T220000
DTSTAMP:20260423T125535
CREATED:20260305T040010Z
LAST-MODIFIED:20260305T040010Z
UID:26656-1780603200-1780610400@www.alte-vhs.de
SUMMARY:KüfA (Essen)
DESCRIPTION:
URL:https://www.alte-vhs.de/event/kuefa-essen-24/
LOCATION:Halle
END:VEVENT
BEGIN:VEVENT
DTSTART;TZID=Europe/Berlin:20260606T113000
DTEND;TZID=Europe/Berlin:20260606T153000
DTSTAMP:20260423T125535
CREATED:20260307T040008Z
LAST-MODIFIED:20260307T040008Z
UID:26670-1780745400-1780759800@www.alte-vhs.de
SUMMARY:Zecken basteln Zeug - Handarbeit von links
DESCRIPTION:
URL:https://www.alte-vhs.de/event/zecken-basteln-zeug-handarbeit-von-links-170/
END:VEVENT
BEGIN:VEVENT
DTSTART;TZID=Europe/Berlin:20260608T190000
DTEND;TZID=Europe/Berlin:20260608T220000
DTSTAMP:20260423T125535
CREATED:20260309T040008Z
LAST-MODIFIED:20260309T040008Z
UID:26691-1780945200-1780956000@www.alte-vhs.de
SUMMARY:Critical Mass Café
DESCRIPTION:
URL:https://www.alte-vhs.de/event/critical-mass-cafe-36/
LOCATION:Salon
END:VEVENT
BEGIN:VEVENT
DTSTART;TZID=Europe/Berlin:20260609T111500
DTEND;TZID=Europe/Berlin:20260609T134500
DTSTAMP:20260423T125535
CREATED:20260310T040007Z
LAST-MODIFIED:20260310T040007Z
UID:26758-1781003700-1781012700@www.alte-vhs.de
SUMMARY:Getränkeannahme
DESCRIPTION:
URL:https://www.alte-vhs.de/event/getraenkeannahme-163/
END:VEVENT
BEGIN:VEVENT
DTSTART;TZID=Europe/Berlin:20260610T170000
DTEND;TZID=Europe/Berlin:20260610T200000
DTSTAMP:20260423T125535
CREATED:20260311T040008Z
LAST-MODIFIED:20260311T040008Z
UID:26813-1781110800-1781121600@www.alte-vhs.de
SUMMARY:Acro Yoga
DESCRIPTION:
URL:https://www.alte-vhs.de/event/acro-yoga-136/
LOCATION:Halle
END:VEVENT
BEGIN:VEVENT
DTSTART;TZID=Europe/Berlin:20260610T190000
DTEND;TZID=Europe/Berlin:20260610T220000
DTSTAMP:20260423T125535
CREATED:20260311T040008Z
LAST-MODIFIED:20260311T040008Z
UID:26814-1781118000-1781128800@www.alte-vhs.de
SUMMARY:Alte VHS Plenum
DESCRIPTION:
URL:https://www.alte-vhs.de/event/alte-vhs-plenum-70/
LOCATION:Bewegungsraum
END:VEVENT
BEGIN:VEVENT
DTSTART;TZID=Europe/Berlin:20260610T190000
DTEND;TZID=Europe/Berlin:20260610T235500
DTSTAMP:20260423T125535
CREATED:20260407T040010Z
LAST-MODIFIED:20260407T040010Z
UID:27491-1781118000-1781135700@www.alte-vhs.de
SUMMARY:Rise Above: Subkultureller Begegnungsraum / Offener Punksalon
DESCRIPTION:
URL:https://www.alte-vhs.de/event/rise-above-subkultureller-begegnungsraum-offener-punksalon-10/
LOCATION:Salon
END:VEVENT
BEGIN:VEVENT
DTSTART;TZID=Europe/Berlin:20260611T180000
DTEND;TZID=Europe/Berlin:20260611T220000
DTSTAMP:20260423T125535
CREATED:20260414T040012Z
LAST-MODIFIED:20260414T040012Z
UID:27519-1781200800-1781215200@www.alte-vhs.de
SUMMARY:FFF Plenum
DESCRIPTION:
URL:https://www.alte-vhs.de/event/fff-plenum-160/
END:VEVENT
BEGIN:VEVENT
DTSTART;TZID=Europe/Berlin:20260611T190000
DTEND;TZID=Europe/Berlin:20260611T220000
DTSTAMP:20260423T125535
CREATED:20260312T040007Z
LAST-MODIFIED:20260312T040007Z
UID:26849-1781204400-1781215200@www.alte-vhs.de
SUMMARY:Offene Siebdruckwerkstatt / Atelier
DESCRIPTION:
URL:https://www.alte-vhs.de/event/offene-siebdruckwerkstatt-atelier-70/
END:VEVENT
BEGIN:VEVENT
DTSTART;TZID=Europe/Berlin:20260611T190000
DTEND;TZID=Europe/Berlin:20260611T220000
DTSTAMP:20260423T125535
CREATED:20260312T040008Z
LAST-MODIFIED:20260312T040008Z
UID:26850-1781204400-1781215200@www.alte-vhs.de
SUMMARY:Salóng
DESCRIPTION:
URL:https://www.alte-vhs.de/event/salong-196/
LOCATION:Salóng\, Rölsdorfstraße 20\, Bonn\, 53225\, Deutschland
END:VEVENT
BEGIN:VEVENT
DTSTART;TZID=Europe/Berlin:20260613T113000
DTEND;TZID=Europe/Berlin:20260613T153000
DTSTAMP:20260423T125535
CREATED:20260314T040011Z
LAST-MODIFIED:20260314T040011Z
UID:26871-1781350200-1781364600@www.alte-vhs.de
SUMMARY:Zecken basteln Zeug - Handarbeit von links
DESCRIPTION:
URL:https://www.alte-vhs.de/event/zecken-basteln-zeug-handarbeit-von-links-171/
END:VEVENT
BEGIN:VEVENT
DTSTART;TZID=Europe/Berlin:20260613T183000
DTEND;TZID=Europe/Berlin:20260613T235900
DTSTAMP:20260423T125535
CREATED:20260314T040011Z
LAST-MODIFIED:20260314T040011Z
UID:26872-1781375400-1781395140@www.alte-vhs.de
SUMMARY:DISTURBANCE presents: Knifemare + Cursed to Occult
DESCRIPTION:
URL:https://www.alte-vhs.de/event/disturbance-presents-knifemare-cursed-to-occult/
END:VEVENT
BEGIN:VEVENT
DTSTART;TZID=Europe/Berlin:20260616T111500
DTEND;TZID=Europe/Berlin:20260616T134500
DTSTAMP:20260423T125535
CREATED:20260317T040009Z
LAST-MODIFIED:20260317T040009Z
UID:26935-1781608500-1781617500@www.alte-vhs.de
SUMMARY:Getränkeannahme
DESCRIPTION:
URL:https://www.alte-vhs.de/event/getraenkeannahme-164/
END:VEVENT
BEGIN:VEVENT
DTSTART;TZID=Europe/Berlin:20260616T190000
DTEND;TZID=Europe/Berlin:20260616T220000
DTSTAMP:20260423T125535
CREATED:20260415T040008Z
LAST-MODIFIED:20260415T040008Z
UID:27530-1781636400-1781647200@www.alte-vhs.de
SUMMARY:Offenes Treffen Widersetzen Bonn
DESCRIPTION:
URL:https://www.alte-vhs.de/event/offenes-treffen-widersetzen-bonn-32/
END:VEVENT
BEGIN:VEVENT
DTSTART;TZID=Europe/Berlin:20260617T170000
DTEND;TZID=Europe/Berlin:20260617T200000
DTSTAMP:20260423T125535
CREATED:20260318T040031Z
LAST-MODIFIED:20260318T040031Z
UID:26978-1781715600-1781726400@www.alte-vhs.de
SUMMARY:Acro Yoga
DESCRIPTION:
URL:https://www.alte-vhs.de/event/acro-yoga-137/
LOCATION:Halle
END:VEVENT
END:VCALENDAR