BEGIN:VCALENDAR
VERSION:2.0
PRODID:-//Alte VHS - ECPv6.8.3//NONSGML v1.0//EN
CALSCALE:GREGORIAN
METHOD:PUBLISH
X-WR-CALNAME:Alte VHS
X-ORIGINAL-URL:https://www.alte-vhs.de
X-WR-CALDESC:Veranstaltungen für Alte VHS
REFRESH-INTERVAL;VALUE=DURATION:PT1H
X-Robots-Tag:noindex
X-PUBLISHED-TTL:PT1H
BEGIN:VTIMEZONE
TZID:Europe/Berlin
BEGIN:DAYLIGHT
TZOFFSETFROM:+0100
TZOFFSETTO:+0200
TZNAME:CEST
DTSTART:20260329T010000
END:DAYLIGHT
BEGIN:STANDARD
TZOFFSETFROM:+0200
TZOFFSETTO:+0100
TZNAME:CET
DTSTART:20261025T010000
END:STANDARD
END:VTIMEZONE
BEGIN:VEVENT
DTSTART;TZID=Europe/Berlin:20260429T190000
DTEND;TZID=Europe/Berlin:20260429T235500
DTSTAMP:20260423T100534
CREATED:20260407T040010Z
LAST-MODIFIED:20260407T040010Z
UID:27485-1777489200-1777506900@www.alte-vhs.de
SUMMARY:Rise Above: Subkultureller Begegnungsraum / Offener Punksalon
DESCRIPTION:
URL:https://www.alte-vhs.de/event/rise-above-subkultureller-begegnungsraum-offener-punksalon-4/
LOCATION:Salon
END:VEVENT
BEGIN:VEVENT
DTSTART;TZID=Europe/Berlin:20260430T180000
DTEND;TZID=Europe/Berlin:20260430T220000
DTSTAMP:20260423T100534
CREATED:20260414T040010Z
LAST-MODIFIED:20260414T040010Z
UID:27512-1777572000-1777586400@www.alte-vhs.de
SUMMARY:FFF Plenum
DESCRIPTION:
URL:https://www.alte-vhs.de/event/fff-plenum-154/
END:VEVENT
BEGIN:VEVENT
DTSTART;TZID=Europe/Berlin:20260430T190000
DTEND;TZID=Europe/Berlin:20260430T220000
DTSTAMP:20260423T100534
CREATED:20260131T040009Z
LAST-MODIFIED:20260131T040009Z
UID:26170-1777575600-1777586400@www.alte-vhs.de
SUMMARY:Salóng
DESCRIPTION:
URL:https://www.alte-vhs.de/event/salong-190/
LOCATION:Salóng\, Rölsdorfstraße 20\, Bonn\, 53225\, Deutschland
END:VEVENT
BEGIN:VEVENT
DTSTART;TZID=Europe/Berlin:20260430T190000
DTEND;TZID=Europe/Berlin:20260430T220000
DTSTAMP:20260423T100534
CREATED:20260131T040009Z
LAST-MODIFIED:20260131T040009Z
UID:26169-1777575600-1777586400@www.alte-vhs.de
SUMMARY:Offene Siebdruckwerkstatt / Atelier
DESCRIPTION:
URL:https://www.alte-vhs.de/event/offene-siebdruckwerkstatt-atelier-61/
END:VEVENT
BEGIN:VEVENT
DTSTART;TZID=Europe/Berlin:20260502T113000
DTEND;TZID=Europe/Berlin:20260502T153000
DTSTAMP:20260423T100534
CREATED:20260203T040008Z
LAST-MODIFIED:20260203T040008Z
UID:26197-1777721400-1777735800@www.alte-vhs.de
SUMMARY:Zecken basteln Zeug - Handarbeit von links
DESCRIPTION:
URL:https://www.alte-vhs.de/event/zecken-basteln-zeug-handarbeit-von-links-165/
END:VEVENT
BEGIN:VEVENT
DTSTART;TZID=Europe/Berlin:20260505T111500
DTEND;TZID=Europe/Berlin:20260505T134500
DTSTAMP:20260423T100534
CREATED:20260206T040008Z
LAST-MODIFIED:20260206T040008Z
UID:26254-1777979700-1777988700@www.alte-vhs.de
SUMMARY:Getränkeannahme
DESCRIPTION:
URL:https://www.alte-vhs.de/event/getraenkeannahme-158/
END:VEVENT
BEGIN:VEVENT
DTSTART;TZID=Europe/Berlin:20260505T190000
DTEND;TZID=Europe/Berlin:20260505T220000
DTSTAMP:20260423T100534
CREATED:20260415T040007Z
LAST-MODIFIED:20260415T040007Z
UID:27527-1778007600-1778018400@www.alte-vhs.de
SUMMARY:Offenes Treffen Widersetzen Bonn
DESCRIPTION:
URL:https://www.alte-vhs.de/event/offenes-treffen-widersetzen-bonn-29/
END:VEVENT
BEGIN:VEVENT
DTSTART;TZID=Europe/Berlin:20260506T170000
DTEND;TZID=Europe/Berlin:20260506T200000
DTSTAMP:20260423T100534
CREATED:20260207T040010Z
LAST-MODIFIED:20260207T040010Z
UID:26269-1778086800-1778097600@www.alte-vhs.de
SUMMARY:Acro Yoga
DESCRIPTION:
URL:https://www.alte-vhs.de/event/acro-yoga-131/
LOCATION:Halle
END:VEVENT
BEGIN:VEVENT
DTSTART;TZID=Europe/Berlin:20260506T190000
DTEND;TZID=Europe/Berlin:20260506T220000
DTSTAMP:20260423T100534
CREATED:20260207T040010Z
LAST-MODIFIED:20260207T040010Z
UID:26270-1778094000-1778104800@www.alte-vhs.de
SUMMARY:Alte VHS Plenum
DESCRIPTION:
URL:https://www.alte-vhs.de/event/alte-vhs-plenum-65/
LOCATION:Bewegungsraum
END:VEVENT
BEGIN:VEVENT
DTSTART;TZID=Europe/Berlin:20260506T190000
DTEND;TZID=Europe/Berlin:20260506T235500
DTSTAMP:20260423T100534
CREATED:20260407T040010Z
LAST-MODIFIED:20260407T040010Z
UID:27486-1778094000-1778111700@www.alte-vhs.de
SUMMARY:Rise Above: Subkultureller Begegnungsraum / Offener Punksalon
DESCRIPTION:
URL:https://www.alte-vhs.de/event/rise-above-subkultureller-begegnungsraum-offener-punksalon-5/
LOCATION:Salon
END:VEVENT
BEGIN:VEVENT
DTSTART;TZID=Europe/Berlin:20260507T170000
DTEND;TZID=Europe/Berlin:20260507T200000
DTSTAMP:20260423T100534
CREATED:20260208T040007Z
LAST-MODIFIED:20260208T040007Z
UID:26302-1778173200-1778184000@www.alte-vhs.de
SUMMARY:KüfA (Kochen)
DESCRIPTION:
URL:https://www.alte-vhs.de/event/kuefa-kochen-23/
LOCATION:Halle
END:VEVENT
BEGIN:VEVENT
DTSTART;TZID=Europe/Berlin:20260507T180000
DTEND;TZID=Europe/Berlin:20260507T220000
DTSTAMP:20260423T100534
CREATED:20260414T040011Z
LAST-MODIFIED:20260414T040011Z
UID:27513-1778176800-1778191200@www.alte-vhs.de
SUMMARY:FFF Plenum
DESCRIPTION:
URL:https://www.alte-vhs.de/event/fff-plenum-155/
END:VEVENT
BEGIN:VEVENT
DTSTART;TZID=Europe/Berlin:20260507T190000
DTEND;TZID=Europe/Berlin:20260507T200000
DTSTAMP:20260423T100534
CREATED:20260208T040008Z
LAST-MODIFIED:20260208T040008Z
UID:26304-1778180400-1778184000@www.alte-vhs.de
SUMMARY:Falken Plenum
DESCRIPTION:
URL:https://www.alte-vhs.de/event/falken-plenum-7/
END:VEVENT
BEGIN:VEVENT
DTSTART;TZID=Europe/Berlin:20260507T190000
DTEND;TZID=Europe/Berlin:20260507T220000
DTSTAMP:20260423T100534
CREATED:20260208T040008Z
LAST-MODIFIED:20260208T040008Z
UID:26305-1778180400-1778191200@www.alte-vhs.de
SUMMARY:Salóng
DESCRIPTION:
URL:https://www.alte-vhs.de/event/salong-191/
LOCATION:Salóng\, Rölsdorfstraße 20\, Bonn\, 53225\, Deutschland
END:VEVENT
BEGIN:VEVENT
DTSTART;TZID=Europe/Berlin:20260507T200000
DTEND;TZID=Europe/Berlin:20260507T220000
DTSTAMP:20260423T100534
CREATED:20260208T040008Z
LAST-MODIFIED:20260208T040008Z
UID:26306-1778184000-1778191200@www.alte-vhs.de
SUMMARY:KüfA (Essen)
DESCRIPTION:
URL:https://www.alte-vhs.de/event/kuefa-essen-23/
LOCATION:Halle
END:VEVENT
BEGIN:VEVENT
DTSTART;TZID=Europe/Berlin:20260509T113000
DTEND;TZID=Europe/Berlin:20260509T153000
DTSTAMP:20260423T100534
CREATED:20260210T040008Z
LAST-MODIFIED:20260210T040008Z
UID:26335-1778326200-1778340600@www.alte-vhs.de
SUMMARY:Zecken basteln Zeug - Handarbeit von links
DESCRIPTION:
URL:https://www.alte-vhs.de/event/zecken-basteln-zeug-handarbeit-von-links-166/
END:VEVENT
BEGIN:VEVENT
DTSTART;TZID=Europe/Berlin:20260509T143000
DTEND;TZID=Europe/Berlin:20260509T233000
DTSTAMP:20260423T100534
CREATED:20260215T040010Z
LAST-MODIFIED:20260215T040010Z
UID:26434-1778337000-1778369400@www.alte-vhs.de
SUMMARY:RAVEPUNK Abend mit EAST GERMAN BEAUTIES\, tba
DESCRIPTION:
URL:https://www.alte-vhs.de/event/ravepunk-abend-mit-east-german-beauties-tba/
END:VEVENT
BEGIN:VEVENT
DTSTART;TZID=Europe/Berlin:20260511T190000
DTEND;TZID=Europe/Berlin:20260511T220000
DTSTAMP:20260423T100534
CREATED:20260212T040007Z
LAST-MODIFIED:20260212T040007Z
UID:26403-1778526000-1778536800@www.alte-vhs.de
SUMMARY:Critical Mass Café
DESCRIPTION:
URL:https://www.alte-vhs.de/event/critical-mass-cafe-35/
LOCATION:Salon
END:VEVENT
BEGIN:VEVENT
DTSTART;TZID=Europe/Berlin:20260512T111500
DTEND;TZID=Europe/Berlin:20260512T134500
DTSTAMP:20260423T100534
CREATED:20260213T040007Z
LAST-MODIFIED:20260213T040007Z
UID:26414-1778584500-1778593500@www.alte-vhs.de
SUMMARY:Getränkeannahme
DESCRIPTION:
URL:https://www.alte-vhs.de/event/getraenkeannahme-159/
END:VEVENT
BEGIN:VEVENT
DTSTART;TZID=Europe/Berlin:20260513T170000
DTEND;TZID=Europe/Berlin:20260513T200000
DTSTAMP:20260423T100534
CREATED:20260214T040008Z
LAST-MODIFIED:20260214T040008Z
UID:26420-1778691600-1778702400@www.alte-vhs.de
SUMMARY:Acro Yoga
DESCRIPTION:
URL:https://www.alte-vhs.de/event/acro-yoga-132/
LOCATION:Halle
END:VEVENT
BEGIN:VEVENT
DTSTART;TZID=Europe/Berlin:20260513T190000
DTEND;TZID=Europe/Berlin:20260513T220000
DTSTAMP:20260423T100534
CREATED:20260214T040009Z
LAST-MODIFIED:20260214T040009Z
UID:26421-1778698800-1778709600@www.alte-vhs.de
SUMMARY:Alte VHS Plenum
DESCRIPTION:
URL:https://www.alte-vhs.de/event/alte-vhs-plenum-66/
LOCATION:Bewegungsraum
END:VEVENT
BEGIN:VEVENT
DTSTART;TZID=Europe/Berlin:20260513T190000
DTEND;TZID=Europe/Berlin:20260513T235500
DTSTAMP:20260423T100534
CREATED:20260407T040010Z
LAST-MODIFIED:20260407T040010Z
UID:27487-1778698800-1778716500@www.alte-vhs.de
SUMMARY:Rise Above: Subkultureller Begegnungsraum / Offener Punksalon
DESCRIPTION:
URL:https://www.alte-vhs.de/event/rise-above-subkultureller-begegnungsraum-offener-punksalon-6/
LOCATION:Salon
END:VEVENT
BEGIN:VEVENT
DTSTART;TZID=Europe/Berlin:20260514T180000
DTEND;TZID=Europe/Berlin:20260514T220000
DTSTAMP:20260423T100534
CREATED:20260414T040011Z
LAST-MODIFIED:20260414T040011Z
UID:27514-1778781600-1778796000@www.alte-vhs.de
SUMMARY:FFF Plenum
DESCRIPTION:
URL:https://www.alte-vhs.de/event/fff-plenum-156/
END:VEVENT
BEGIN:VEVENT
DTSTART;TZID=Europe/Berlin:20260514T190000
DTEND;TZID=Europe/Berlin:20260514T220000
DTSTAMP:20260423T100534
CREATED:20260215T040010Z
LAST-MODIFIED:20260215T040010Z
UID:26436-1778785200-1778796000@www.alte-vhs.de
SUMMARY:Offene Siebdruckwerkstatt / Atelier
DESCRIPTION:
URL:https://www.alte-vhs.de/event/offene-siebdruckwerkstatt-atelier-68/
END:VEVENT
BEGIN:VEVENT
DTSTART;TZID=Europe/Berlin:20260514T190000
DTEND;TZID=Europe/Berlin:20260514T220000
DTSTAMP:20260423T100534
CREATED:20260215T040010Z
LAST-MODIFIED:20260215T040010Z
UID:26437-1778785200-1778796000@www.alte-vhs.de
SUMMARY:Salóng
DESCRIPTION:
URL:https://www.alte-vhs.de/event/salong-192/
LOCATION:Salóng\, Rölsdorfstraße 20\, Bonn\, 53225\, Deutschland
END:VEVENT
BEGIN:VEVENT
DTSTART;TZID=Europe/Berlin:20260516T113000
DTEND;TZID=Europe/Berlin:20260516T153000
DTSTAMP:20260423T100534
CREATED:20260217T040007Z
LAST-MODIFIED:20260217T040007Z
UID:26447-1778931000-1778945400@www.alte-vhs.de
SUMMARY:Zecken basteln Zeug - Handarbeit von links
DESCRIPTION:
URL:https://www.alte-vhs.de/event/zecken-basteln-zeug-handarbeit-von-links-167/
END:VEVENT
BEGIN:VEVENT
DTSTART;TZID=Europe/Berlin:20260516T150000
DTEND;TZID=Europe/Berlin:20260516T235900
DTSTAMP:20260423T100534
CREATED:20260217T040008Z
LAST-MODIFIED:20260217T040008Z
UID:26448-1778943600-1778975940@www.alte-vhs.de
SUMMARY:RAVE-PUNK Abend mit EAST GERMAN BEAUTIES
DESCRIPTION:
URL:https://www.alte-vhs.de/event/rave-punk-abend-mit-east-german-beauties/
END:VEVENT
BEGIN:VEVENT
DTSTART;TZID=Europe/Berlin:20260517T180000
DTEND;TZID=Europe/Berlin:20260517T220000
DTSTAMP:20260423T100534
CREATED:20260414T040011Z
LAST-MODIFIED:20260414T040011Z
UID:27515-1779040800-1779055200@www.alte-vhs.de
SUMMARY:Pubquiz
DESCRIPTION:
URL:https://www.alte-vhs.de/event/pubquiz/
END:VEVENT
BEGIN:VEVENT
DTSTART;TZID=Europe/Berlin:20260519T111500
DTEND;TZID=Europe/Berlin:20260519T134500
DTSTAMP:20260423T100534
CREATED:20260220T040007Z
LAST-MODIFIED:20260220T040007Z
UID:26507-1779189300-1779198300@www.alte-vhs.de
SUMMARY:Getränkeannahme
DESCRIPTION:
URL:https://www.alte-vhs.de/event/getraenkeannahme-160/
END:VEVENT
BEGIN:VEVENT
DTSTART;TZID=Europe/Berlin:20260519T190000
DTEND;TZID=Europe/Berlin:20260519T220000
DTSTAMP:20260423T100534
CREATED:20260415T040008Z
LAST-MODIFIED:20260415T040008Z
UID:27528-1779217200-1779228000@www.alte-vhs.de
SUMMARY:Offenes Treffen Widersetzen Bonn
DESCRIPTION:
URL:https://www.alte-vhs.de/event/offenes-treffen-widersetzen-bonn-30/
END:VEVENT
END:VCALENDAR