BEGIN:VCALENDAR
VERSION:2.0
PRODID:-//Alte VHS - ECPv6.8.3//NONSGML v1.0//EN
CALSCALE:GREGORIAN
METHOD:PUBLISH
X-WR-CALNAME:Alte VHS
X-ORIGINAL-URL:https://www.alte-vhs.de
X-WR-CALDESC:Veranstaltungen für Alte VHS
REFRESH-INTERVAL;VALUE=DURATION:PT1H
X-Robots-Tag:noindex
X-PUBLISHED-TTL:PT1H
BEGIN:VTIMEZONE
TZID:Europe/Berlin
BEGIN:DAYLIGHT
TZOFFSETFROM:+0100
TZOFFSETTO:+0200
TZNAME:CEST
DTSTART:20260329T010000
END:DAYLIGHT
BEGIN:STANDARD
TZOFFSETFROM:+0200
TZOFFSETTO:+0100
TZNAME:CET
DTSTART:20261025T010000
END:STANDARD
END:VTIMEZONE
BEGIN:VEVENT
DTSTART;TZID=Europe/Berlin:20260624T170000
DTEND;TZID=Europe/Berlin:20260624T200000
DTSTAMP:20260423T211233
CREATED:20260325T040009Z
LAST-MODIFIED:20260325T040009Z
UID:27369-1782320400-1782331200@www.alte-vhs.de
SUMMARY:Acro Yoga
DESCRIPTION:
URL:https://www.alte-vhs.de/event/acro-yoga-138/
LOCATION:Halle
END:VEVENT
BEGIN:VEVENT
DTSTART;TZID=Europe/Berlin:20260624T190000
DTEND;TZID=Europe/Berlin:20260624T220000
DTSTAMP:20260423T211233
CREATED:20260325T040009Z
LAST-MODIFIED:20260325T040009Z
UID:27370-1782327600-1782338400@www.alte-vhs.de
SUMMARY:Alte VHS Plenum
DESCRIPTION:
URL:https://www.alte-vhs.de/event/alte-vhs-plenum-72/
LOCATION:Bewegungsraum
END:VEVENT
BEGIN:VEVENT
DTSTART;TZID=Europe/Berlin:20260624T190000
DTEND;TZID=Europe/Berlin:20260624T235500
DTSTAMP:20260423T211233
CREATED:20260407T040011Z
LAST-MODIFIED:20260407T040011Z
UID:27493-1782327600-1782345300@www.alte-vhs.de
SUMMARY:Rise Above: Subkultureller Begegnungsraum / Offener Punksalon
DESCRIPTION:
URL:https://www.alte-vhs.de/event/rise-above-subkultureller-begegnungsraum-offener-punksalon-12/
LOCATION:Salon
END:VEVENT
END:VCALENDAR