BEGIN:VCALENDAR
VERSION:2.0
PRODID:-//Alte VHS - ECPv6.8.3//NONSGML v1.0//EN
CALSCALE:GREGORIAN
METHOD:PUBLISH
X-ORIGINAL-URL:https://www.alte-vhs.de
X-WR-CALDESC:Veranstaltungen für Alte VHS
REFRESH-INTERVAL;VALUE=DURATION:PT1H
X-Robots-Tag:noindex
X-PUBLISHED-TTL:PT1H
BEGIN:VTIMEZONE
TZID:Europe/Berlin
BEGIN:DAYLIGHT
TZOFFSETFROM:+0100
TZOFFSETTO:+0200
TZNAME:CEST
DTSTART:20260329T010000
END:DAYLIGHT
BEGIN:STANDARD
TZOFFSETFROM:+0200
TZOFFSETTO:+0100
TZNAME:CET
DTSTART:20261025T010000
END:STANDARD
END:VTIMEZONE
BEGIN:VEVENT
DTSTART;TZID=Europe/Berlin:20260415T170000
DTEND;TZID=Europe/Berlin:20260415T200000
DTSTAMP:20260423T112700
CREATED:20260116T040006Z
LAST-MODIFIED:20260116T040006Z
UID:26017-1776272400-1776283200@www.alte-vhs.de
SUMMARY:Acro Yoga
DESCRIPTION:
URL:https://www.alte-vhs.de/event/acro-yoga-128/
LOCATION:Halle
END:VEVENT
BEGIN:VEVENT
DTSTART;TZID=Europe/Berlin:20260415T190000
DTEND;TZID=Europe/Berlin:20260415T200000
DTSTAMP:20260423T112700
CREATED:20260116T040006Z
LAST-MODIFIED:20260116T040006Z
UID:26018-1776279600-1776283200@www.alte-vhs.de
SUMMARY:Alte VHS Plenum
DESCRIPTION:
URL:https://www.alte-vhs.de/event/alte-vhs-plenum-62/
LOCATION:Bewegungsraum
END:VEVENT
BEGIN:VEVENT
DTSTART;TZID=Europe/Berlin:20260415T190000
DTEND;TZID=Europe/Berlin:20260415T235500
DTSTAMP:20260423T112700
CREATED:20260407T040010Z
LAST-MODIFIED:20260407T040010Z
UID:27483-1776279600-1776297300@www.alte-vhs.de
SUMMARY:Rise Above: Subkultureller Begegnungsraum / Offener Punksalon
DESCRIPTION:
URL:https://www.alte-vhs.de/event/rise-above-subkultureller-begegnungsraum-offener-punksalon-2/
LOCATION:Salon
END:VEVENT
END:VCALENDAR