BEGIN:VCALENDAR
VERSION:2.0
PRODID:-//Alte VHS - ECPv6.8.3//NONSGML v1.0//EN
CALSCALE:GREGORIAN
METHOD:PUBLISH
X-WR-CALNAME:Alte VHS
X-ORIGINAL-URL:https://www.alte-vhs.de
X-WR-CALDESC:Veranstaltungen für Alte VHS
REFRESH-INTERVAL;VALUE=DURATION:PT1H
X-Robots-Tag:noindex
X-PUBLISHED-TTL:PT1H
BEGIN:VTIMEZONE
TZID:Europe/Berlin
BEGIN:DAYLIGHT
TZOFFSETFROM:+0100
TZOFFSETTO:+0200
TZNAME:CEST
DTSTART:20260329T010000
END:DAYLIGHT
BEGIN:STANDARD
TZOFFSETFROM:+0200
TZOFFSETTO:+0100
TZNAME:CET
DTSTART:20261025T010000
END:STANDARD
END:VTIMEZONE
BEGIN:VEVENT
DTSTART;TZID=Europe/Berlin:20260411T113000
DTEND;TZID=Europe/Berlin:20260411T153000
DTSTAMP:20260423T165753
CREATED:20260112T040006Z
LAST-MODIFIED:20260112T040006Z
UID:25969-1775907000-1775921400@www.alte-vhs.de
SUMMARY:Zecken basteln Zeug - Handarbeit von links
DESCRIPTION:
URL:https://www.alte-vhs.de/event/zecken-basteln-zeug-handarbeit-von-links-162/
END:VEVENT
BEGIN:VEVENT
DTSTART;TZID=Europe/Berlin:20260411T180000
DTEND;TZID=Europe/Berlin:20260411T220000
DTSTAMP:20260423T165753
CREATED:20260131T040009Z
LAST-MODIFIED:20260131T040009Z
UID:26167-1775930400-1775944800@www.alte-vhs.de
SUMMARY:ABRS Liedermacher*innen Abend
DESCRIPTION:
URL:https://www.alte-vhs.de/event/abrs-liedermacherinnen-abend/
END:VEVENT
END:VCALENDAR