BEGIN:VCALENDAR
VERSION:2.0
PRODID:-//Alte VHS - ECPv6.8.3//NONSGML v1.0//EN
CALSCALE:GREGORIAN
METHOD:PUBLISH
X-ORIGINAL-URL:https://www.alte-vhs.de
X-WR-CALDESC:Veranstaltungen für Alte VHS
REFRESH-INTERVAL;VALUE=DURATION:PT1H
X-Robots-Tag:noindex
X-PUBLISHED-TTL:PT1H
BEGIN:VTIMEZONE
TZID:Europe/Berlin
BEGIN:DAYLIGHT
TZOFFSETFROM:+0100
TZOFFSETTO:+0200
TZNAME:CEST
DTSTART:20260329T010000
END:DAYLIGHT
BEGIN:STANDARD
TZOFFSETFROM:+0200
TZOFFSETTO:+0100
TZNAME:CET
DTSTART:20261025T010000
END:STANDARD
END:VTIMEZONE
BEGIN:VEVENT
DTSTART;TZID=Europe/Berlin:20260303T111500
DTEND;TZID=Europe/Berlin:20260303T134500
DTSTAMP:20260421T164206
CREATED:20251204T040008Z
LAST-MODIFIED:20251204T040008Z
UID:25692-1772536500-1772545500@www.alte-vhs.de
SUMMARY:Getränkeannahme
DESCRIPTION:
URL:https://www.alte-vhs.de/event/getraenkeannahme-149/
END:VEVENT
BEGIN:VEVENT
DTSTART;TZID=Europe/Berlin:20260303T190000
DTEND;TZID=Europe/Berlin:20260303T220000
DTSTAMP:20260421T164206
CREATED:20251204T040008Z
LAST-MODIFIED:20251204T040008Z
UID:25693-1772564400-1772575200@www.alte-vhs.de
SUMMARY:Offenes Treffen Widersetzen Bonn
DESCRIPTION:
URL:https://www.alte-vhs.de/event/offenes-treffen-widersetzen-bonn-19/
LOCATION:Halle
END:VEVENT
END:VCALENDAR