BEGIN:VCALENDAR
VERSION:2.0
PRODID:-//Alte VHS - ECPv6.8.3//NONSGML v1.0//EN
CALSCALE:GREGORIAN
METHOD:PUBLISH
X-ORIGINAL-URL:https://www.alte-vhs.de
X-WR-CALDESC:Veranstaltungen für Alte VHS
REFRESH-INTERVAL;VALUE=DURATION:PT1H
X-Robots-Tag:noindex
X-PUBLISHED-TTL:PT1H
BEGIN:VTIMEZONE
TZID:Europe/Berlin
BEGIN:DAYLIGHT
TZOFFSETFROM:+0100
TZOFFSETTO:+0200
TZNAME:CEST
DTSTART:20250330T010000
END:DAYLIGHT
BEGIN:STANDARD
TZOFFSETFROM:+0200
TZOFFSETTO:+0100
TZNAME:CET
DTSTART:20251026T010000
END:STANDARD
END:VTIMEZONE
BEGIN:VEVENT
DTSTART;TZID=Europe/Berlin:20251231T170000
DTEND;TZID=Europe/Berlin:20251231T200000
DTSTAMP:20260421T175414
CREATED:20251001T040018Z
LAST-MODIFIED:20251001T040018Z
UID:25190-1767200400-1767211200@www.alte-vhs.de
SUMMARY:Acro Yoga
DESCRIPTION:
URL:https://www.alte-vhs.de/event/acro-yoga-113/
LOCATION:Halle
END:VEVENT
BEGIN:VEVENT
DTSTART;TZID=Europe/Berlin:20251231T190000
DTEND;TZID=Europe/Berlin:20251231T210000
DTSTAMP:20260421T175414
CREATED:20251017T040010Z
LAST-MODIFIED:20251017T040010Z
UID:25309-1767207600-1767214800@www.alte-vhs.de
SUMMARY:Alte VHS Plenum
DESCRIPTION:
URL:https://www.alte-vhs.de/event/alte-vhs-plenum-49/
LOCATION:Bewegungsraum
END:VEVENT
BEGIN:VEVENT
DTSTART;TZID=Europe/Berlin:20251231T190000
DTEND;TZID=Europe/Berlin:20251231T235500
DTSTAMP:20260421T175414
CREATED:20251001T040018Z
LAST-MODIFIED:20251001T040018Z
UID:25191-1767207600-1767225300@www.alte-vhs.de
SUMMARY:Punk Spieleabend
DESCRIPTION:
URL:https://www.alte-vhs.de/event/punk-spieleabend-50/
LOCATION:Salon
END:VEVENT
END:VCALENDAR