BEGIN:VCALENDAR
VERSION:2.0
PRODID:-//Alte VHS - ECPv6.8.3//NONSGML v1.0//EN
CALSCALE:GREGORIAN
METHOD:PUBLISH
X-WR-CALNAME:Alte VHS
X-ORIGINAL-URL:https://www.alte-vhs.de
X-WR-CALDESC:Veranstaltungen für Alte VHS
REFRESH-INTERVAL;VALUE=DURATION:PT1H
X-Robots-Tag:noindex
X-PUBLISHED-TTL:PT1H
BEGIN:VTIMEZONE
TZID:Europe/Berlin
BEGIN:DAYLIGHT
TZOFFSETFROM:+0100
TZOFFSETTO:+0200
TZNAME:CEST
DTSTART:20250330T010000
END:DAYLIGHT
BEGIN:STANDARD
TZOFFSETFROM:+0200
TZOFFSETTO:+0100
TZNAME:CET
DTSTART:20251026T010000
END:STANDARD
END:VTIMEZONE
BEGIN:VEVENT
DTSTART;TZID=Europe/Berlin:20251127T180000
DTEND;TZID=Europe/Berlin:20251127T220000
DTSTAMP:20260423T100652
CREATED:20250828T040026Z
LAST-MODIFIED:20250828T040026Z
UID:24963-1764266400-1764280800@www.alte-vhs.de
SUMMARY:FFF Plenum
DESCRIPTION:
URL:https://www.alte-vhs.de/event/fff-plenum-121/
LOCATION:Halle
END:VEVENT
BEGIN:VEVENT
DTSTART;TZID=Europe/Berlin:20251127T190000
DTEND;TZID=Europe/Berlin:20251127T220000
DTSTAMP:20260423T100652
CREATED:20250828T040026Z
LAST-MODIFIED:20250828T040026Z
UID:24965-1764270000-1764280800@www.alte-vhs.de
SUMMARY:Salóng
DESCRIPTION:
URL:https://www.alte-vhs.de/event/salong-168/
LOCATION:Salóng\, Rölsdorfstraße 20\, Bonn\, 53225\, Deutschland
END:VEVENT
BEGIN:VEVENT
DTSTART;TZID=Europe/Berlin:20251127T190000
DTEND;TZID=Europe/Berlin:20251127T220000
DTSTAMP:20260423T100652
CREATED:20251114T040007Z
LAST-MODIFIED:20251114T040007Z
UID:25531-1764270000-1764280800@www.alte-vhs.de
SUMMARY:Offene Siebdruckwerkstatt / Atelier
DESCRIPTION:
URL:https://www.alte-vhs.de/event/offene-siebdruckwerkstatt-atelier-62/
END:VEVENT
END:VCALENDAR