BEGIN:VCALENDAR
VERSION:2.0
PRODID:-//Alte VHS - ECPv6.8.3//NONSGML v1.0//EN
CALSCALE:GREGORIAN
METHOD:PUBLISH
X-ORIGINAL-URL:https://www.alte-vhs.de
X-WR-CALDESC:Veranstaltungen für Alte VHS
REFRESH-INTERVAL;VALUE=DURATION:PT1H
X-Robots-Tag:noindex
X-PUBLISHED-TTL:PT1H
BEGIN:VTIMEZONE
TZID:Europe/Berlin
BEGIN:DAYLIGHT
TZOFFSETFROM:+0100
TZOFFSETTO:+0200
TZNAME:CEST
DTSTART:20250330T010000
END:DAYLIGHT
BEGIN:STANDARD
TZOFFSETFROM:+0200
TZOFFSETTO:+0100
TZNAME:CET
DTSTART:20251026T010000
END:STANDARD
END:VTIMEZONE
BEGIN:VEVENT
DTSTART;TZID=Europe/Berlin:20251122T113000
DTEND;TZID=Europe/Berlin:20251122T153000
DTSTAMP:20260421T175338
CREATED:20250823T040047Z
LAST-MODIFIED:20250823T040047Z
UID:24911-1763811000-1763825400@www.alte-vhs.de
SUMMARY:Zecken basteln Zeug - Handarbeit von links
DESCRIPTION:
URL:https://www.alte-vhs.de/event/zecken-basteln-zeug-handarbeit-von-links-142/
END:VEVENT
END:VCALENDAR