BEGIN:VCALENDAR
VERSION:2.0
PRODID:-//Alte VHS - ECPv6.8.3//NONSGML v1.0//EN
CALSCALE:GREGORIAN
METHOD:PUBLISH
X-ORIGINAL-URL:https://www.alte-vhs.de
X-WR-CALDESC:Veranstaltungen für Alte VHS
REFRESH-INTERVAL;VALUE=DURATION:PT1H
X-Robots-Tag:noindex
X-PUBLISHED-TTL:PT1H
BEGIN:VTIMEZONE
TZID:Europe/Berlin
BEGIN:DAYLIGHT
TZOFFSETFROM:+0100
TZOFFSETTO:+0200
TZNAME:CEST
DTSTART:20250330T010000
END:DAYLIGHT
BEGIN:STANDARD
TZOFFSETFROM:+0200
TZOFFSETTO:+0100
TZNAME:CET
DTSTART:20251026T010000
END:STANDARD
END:VTIMEZONE
BEGIN:VEVENT
DTSTART;TZID=Europe/Berlin:20251018T113000
DTEND;TZID=Europe/Berlin:20251018T153000
DTSTAMP:20260421T163226
CREATED:20250719T040015Z
LAST-MODIFIED:20250719T040015Z
UID:24486-1760787000-1760801400@www.alte-vhs.de
SUMMARY:Zecken basteln Zeug - Handarbeit von links
DESCRIPTION:
URL:https://www.alte-vhs.de/event/zecken-basteln-zeug-handarbeit-von-links-137/
END:VEVENT
BEGIN:VEVENT
DTSTART;TZID=Europe/Berlin:20251018T190000
DTEND;TZID=Europe/Berlin:20251018T220000
DTSTAMP:20260421T163226
CREATED:20251012T040011Z
LAST-MODIFIED:20251012T040011Z
UID:25278-1760814000-1760824800@www.alte-vhs.de
SUMMARY:Die Cry Hate presents Teegarten\, Obscure und Floating Woods
DESCRIPTION:
URL:https://www.alte-vhs.de/event/die-cry-hate-presents-teegarten-obscure-und-floating-woods/
LOCATION:Halle
END:VEVENT
END:VCALENDAR