BEGIN:VCALENDAR
VERSION:2.0
PRODID:-//Alte VHS - ECPv6.8.3//NONSGML v1.0//EN
CALSCALE:GREGORIAN
METHOD:PUBLISH
X-ORIGINAL-URL:https://www.alte-vhs.de
X-WR-CALDESC:Veranstaltungen für Alte VHS
REFRESH-INTERVAL;VALUE=DURATION:PT1H
X-Robots-Tag:noindex
X-PUBLISHED-TTL:PT1H
BEGIN:VTIMEZONE
TZID:Europe/Berlin
BEGIN:DAYLIGHT
TZOFFSETFROM:+0100
TZOFFSETTO:+0200
TZNAME:CEST
DTSTART:20250330T010000
END:DAYLIGHT
BEGIN:STANDARD
TZOFFSETFROM:+0200
TZOFFSETTO:+0100
TZNAME:CET
DTSTART:20251026T010000
END:STANDARD
END:VTIMEZONE
BEGIN:VEVENT
DTSTART;TZID=Europe/Berlin:20251002T170000
DTEND;TZID=Europe/Berlin:20251002T200000
DTSTAMP:20260423T124917
CREATED:20250703T040031Z
LAST-MODIFIED:20250703T040031Z
UID:24346-1759424400-1759435200@www.alte-vhs.de
SUMMARY:KüfA (Kochen)
DESCRIPTION:
URL:https://www.alte-vhs.de/event/kuefa-kochen-15/
LOCATION:Halle
END:VEVENT
BEGIN:VEVENT
DTSTART;TZID=Europe/Berlin:20251002T180000
DTEND;TZID=Europe/Berlin:20251002T220000
DTSTAMP:20260423T124917
CREATED:20250703T040031Z
LAST-MODIFIED:20250703T040031Z
UID:24347-1759428000-1759442400@www.alte-vhs.de
SUMMARY:FFF Plenum
DESCRIPTION:
URL:https://www.alte-vhs.de/event/fff-plenum-113/
LOCATION:Halle
END:VEVENT
BEGIN:VEVENT
DTSTART;TZID=Europe/Berlin:20251002T183000
DTEND;TZID=Europe/Berlin:20251002T183000
DTSTAMP:20260423T124917
CREATED:20250703T040031Z
LAST-MODIFIED:20250703T040031Z
UID:24348-1759429800-1759429800@www.alte-vhs.de
SUMMARY:Lesekreis mit den Falken
DESCRIPTION:
URL:https://www.alte-vhs.de/event/lesekreis-mit-den-falken-138/
END:VEVENT
BEGIN:VEVENT
DTSTART;TZID=Europe/Berlin:20251002T190000
DTEND;TZID=Europe/Berlin:20251002T220000
DTSTAMP:20260423T124917
CREATED:20250703T040031Z
LAST-MODIFIED:20250703T040031Z
UID:24349-1759431600-1759442400@www.alte-vhs.de
SUMMARY:Salóng
DESCRIPTION:
URL:https://www.alte-vhs.de/event/salong-160/
LOCATION:Salóng\, Rölsdorfstraße 20\, Bonn\, 53225\, Deutschland
END:VEVENT
BEGIN:VEVENT
DTSTART;TZID=Europe/Berlin:20251002T190000
DTEND;TZID=Europe/Berlin:20251002T220000
DTSTAMP:20260423T124917
CREATED:20250703T040032Z
LAST-MODIFIED:20250703T040032Z
UID:24350-1759431600-1759442400@www.alte-vhs.de
SUMMARY:Offene Siebdruckwerkstatt / Atelier
DESCRIPTION:
URL:https://www.alte-vhs.de/event/offene-siebdruckwerkstatt-atelier-46/
END:VEVENT
BEGIN:VEVENT
DTSTART;TZID=Europe/Berlin:20251002T200000
DTEND;TZID=Europe/Berlin:20251002T220000
DTSTAMP:20260423T124917
CREATED:20250703T040032Z
LAST-MODIFIED:20250703T040032Z
UID:24351-1759435200-1759442400@www.alte-vhs.de
SUMMARY:KüfA (Essen)
DESCRIPTION:
URL:https://www.alte-vhs.de/event/kuefa-essen-15/
LOCATION:Halle
END:VEVENT
END:VCALENDAR