BEGIN:VCALENDAR
VERSION:2.0
PRODID:-//Alte VHS - ECPv6.8.3//NONSGML v1.0//EN
CALSCALE:GREGORIAN
METHOD:PUBLISH
X-ORIGINAL-URL:https://www.alte-vhs.de
X-WR-CALDESC:Veranstaltungen für Alte VHS
REFRESH-INTERVAL;VALUE=DURATION:PT1H
X-Robots-Tag:noindex
X-PUBLISHED-TTL:PT1H
BEGIN:VTIMEZONE
TZID:Europe/Berlin
BEGIN:DAYLIGHT
TZOFFSETFROM:+0100
TZOFFSETTO:+0200
TZNAME:CEST
DTSTART:20250330T010000
END:DAYLIGHT
BEGIN:STANDARD
TZOFFSETFROM:+0200
TZOFFSETTO:+0100
TZNAME:CET
DTSTART:20251026T010000
END:STANDARD
END:VTIMEZONE
BEGIN:VEVENT
DTSTART;TZID=Europe/Berlin:20250927T000000
DTEND;TZID=Europe/Berlin:20250928T000000
DTSTAMP:20260421T204044
CREATED:20250925T040026Z
LAST-MODIFIED:20250925T040026Z
UID:25153-1758931200-1759017600@www.alte-vhs.de
SUMMARY:Nacht der Jugendkultur 2025
DESCRIPTION:
URL:https://www.alte-vhs.de/event/nacht-der-jugendkultur-2025/
END:VEVENT
BEGIN:VEVENT
DTSTART;TZID=Europe/Berlin:20250927T113000
DTEND;TZID=Europe/Berlin:20250927T153000
DTSTAMP:20260421T204044
CREATED:20250628T040010Z
LAST-MODIFIED:20250628T040010Z
UID:24289-1758972600-1758987000@www.alte-vhs.de
SUMMARY:Zecken basteln Zeug - Handarbeit von links
DESCRIPTION:
URL:https://www.alte-vhs.de/event/zecken-basteln-zeug-handarbeit-von-links-134/
END:VEVENT
END:VCALENDAR