BEGIN:VCALENDAR
VERSION:2.0
PRODID:-//Alte VHS - ECPv6.8.3//NONSGML v1.0//EN
CALSCALE:GREGORIAN
METHOD:PUBLISH
X-ORIGINAL-URL:https://www.alte-vhs.de
X-WR-CALDESC:Veranstaltungen für Alte VHS
REFRESH-INTERVAL;VALUE=DURATION:PT1H
X-Robots-Tag:noindex
X-PUBLISHED-TTL:PT1H
BEGIN:VTIMEZONE
TZID:Europe/Berlin
BEGIN:DAYLIGHT
TZOFFSETFROM:+0100
TZOFFSETTO:+0200
TZNAME:CEST
DTSTART:20250330T010000
END:DAYLIGHT
BEGIN:STANDARD
TZOFFSETFROM:+0200
TZOFFSETTO:+0100
TZNAME:CET
DTSTART:20251026T010000
END:STANDARD
END:VTIMEZONE
BEGIN:VEVENT
DTSTART;TZID=Europe/Berlin:20250910T170000
DTEND;TZID=Europe/Berlin:20250910T200000
DTSTAMP:20260421T204028
CREATED:20250910T040011Z
LAST-MODIFIED:20250910T040011Z
UID:25039-1757523600-1757534400@www.alte-vhs.de
SUMMARY:Acro Yoga
DESCRIPTION:
URL:https://www.alte-vhs.de/event/acro-yoga-97/
LOCATION:Halle
END:VEVENT
BEGIN:VEVENT
DTSTART;TZID=Europe/Berlin:20250910T190000
DTEND;TZID=Europe/Berlin:20250910T220000
DTSTAMP:20260421T204028
CREATED:20250611T040008Z
LAST-MODIFIED:20250611T040008Z
UID:24098-1757530800-1757541600@www.alte-vhs.de
SUMMARY:OAT - Offenes Antifaschistisches Treffen Bonn
DESCRIPTION:
URL:https://www.alte-vhs.de/event/oat-offenes-antifaschistisches-treffen-bonn-35/
END:VEVENT
BEGIN:VEVENT
DTSTART;TZID=Europe/Berlin:20250910T190000
DTEND;TZID=Europe/Berlin:20250910T220000
DTSTAMP:20260421T204028
CREATED:20250611T040008Z
LAST-MODIFIED:20250611T040008Z
UID:24096-1757530800-1757541600@www.alte-vhs.de
SUMMARY:Alte VHS Plenum
DESCRIPTION:
URL:https://www.alte-vhs.de/event/alte-vhs-plenum-31/
LOCATION:Bewegungsraum
END:VEVENT
BEGIN:VEVENT
DTSTART;TZID=Europe/Berlin:20250910T190000
DTEND;TZID=Europe/Berlin:20250910T235500
DTSTAMP:20260421T204028
CREATED:20250611T040008Z
LAST-MODIFIED:20250611T040008Z
UID:24097-1757530800-1757548500@www.alte-vhs.de
SUMMARY:Punk Spieleabend
DESCRIPTION:
URL:https://www.alte-vhs.de/event/punk-spieleabend-34/
LOCATION:Salon
END:VEVENT
END:VCALENDAR