BEGIN:VCALENDAR
VERSION:2.0
PRODID:-//Alte VHS - ECPv6.8.3//NONSGML v1.0//EN
CALSCALE:GREGORIAN
METHOD:PUBLISH
X-WR-CALNAME:Alte VHS
X-ORIGINAL-URL:https://www.alte-vhs.de
X-WR-CALDESC:Veranstaltungen für Alte VHS
REFRESH-INTERVAL;VALUE=DURATION:PT1H
X-Robots-Tag:noindex
X-PUBLISHED-TTL:PT1H
BEGIN:VTIMEZONE
TZID:Europe/Berlin
BEGIN:DAYLIGHT
TZOFFSETFROM:+0100
TZOFFSETTO:+0200
TZNAME:CEST
DTSTART:20250330T010000
END:DAYLIGHT
BEGIN:STANDARD
TZOFFSETFROM:+0200
TZOFFSETTO:+0100
TZNAME:CET
DTSTART:20251026T010000
END:STANDARD
END:VTIMEZONE
BEGIN:VEVENT
DTSTART;TZID=Europe/Berlin:20250904T170000
DTEND;TZID=Europe/Berlin:20250904T200000
DTSTAMP:20260421T205904
CREATED:20250605T040017Z
LAST-MODIFIED:20250605T040017Z
UID:24040-1757005200-1757016000@www.alte-vhs.de
SUMMARY:KüfA (Kochen)
DESCRIPTION:
URL:https://www.alte-vhs.de/event/kuefa-kochen-14/
LOCATION:Halle
END:VEVENT
BEGIN:VEVENT
DTSTART;TZID=Europe/Berlin:20250904T180000
DTEND;TZID=Europe/Berlin:20250904T220000
DTSTAMP:20260421T205904
CREATED:20250605T040018Z
LAST-MODIFIED:20250605T040018Z
UID:24041-1757008800-1757023200@www.alte-vhs.de
SUMMARY:FFF Plenum
DESCRIPTION:
URL:https://www.alte-vhs.de/event/fff-plenum-109/
LOCATION:Halle
END:VEVENT
BEGIN:VEVENT
DTSTART;TZID=Europe/Berlin:20250904T183000
DTEND;TZID=Europe/Berlin:20250904T183000
DTSTAMP:20260421T205904
CREATED:20250605T040018Z
LAST-MODIFIED:20250605T040018Z
UID:24042-1757010600-1757010600@www.alte-vhs.de
SUMMARY:Lesekreis mit den Falken
DESCRIPTION:
URL:https://www.alte-vhs.de/event/lesekreis-mit-den-falken-134/
END:VEVENT
BEGIN:VEVENT
DTSTART;TZID=Europe/Berlin:20250904T190000
DTEND;TZID=Europe/Berlin:20250904T220000
DTSTAMP:20260421T205904
CREATED:20250605T040018Z
LAST-MODIFIED:20250605T040018Z
UID:24043-1757012400-1757023200@www.alte-vhs.de
SUMMARY:Offene Siebdruckwerkstatt / Atelier
DESCRIPTION:
URL:https://www.alte-vhs.de/event/offene-siebdruckwerkstatt-atelier-51/
END:VEVENT
BEGIN:VEVENT
DTSTART;TZID=Europe/Berlin:20250904T190000
DTEND;TZID=Europe/Berlin:20250904T220000
DTSTAMP:20260421T205904
CREATED:20250605T040018Z
LAST-MODIFIED:20250605T040018Z
UID:24044-1757012400-1757023200@www.alte-vhs.de
SUMMARY:Salóng
DESCRIPTION:
URL:https://www.alte-vhs.de/event/salong-156/
LOCATION:Salóng\, Rölsdorfstraße 20\, Bonn\, 53225\, Deutschland
END:VEVENT
BEGIN:VEVENT
DTSTART;TZID=Europe/Berlin:20250904T200000
DTEND;TZID=Europe/Berlin:20250904T220000
DTSTAMP:20260421T205904
CREATED:20250605T040018Z
LAST-MODIFIED:20250605T040018Z
UID:24045-1757016000-1757023200@www.alte-vhs.de
SUMMARY:KüfA (Essen)
DESCRIPTION:
URL:https://www.alte-vhs.de/event/kuefa-essen-14/
LOCATION:Halle
END:VEVENT
END:VCALENDAR