BEGIN:VCALENDAR
VERSION:2.0
PRODID:-//Alte VHS - ECPv6.8.3//NONSGML v1.0//EN
CALSCALE:GREGORIAN
METHOD:PUBLISH
X-ORIGINAL-URL:https://www.alte-vhs.de
X-WR-CALDESC:Veranstaltungen für Alte VHS
REFRESH-INTERVAL;VALUE=DURATION:PT1H
X-Robots-Tag:noindex
X-PUBLISHED-TTL:PT1H
BEGIN:VTIMEZONE
TZID:Europe/Berlin
BEGIN:DAYLIGHT
TZOFFSETFROM:+0100
TZOFFSETTO:+0200
TZNAME:CEST
DTSTART:20250330T010000
END:DAYLIGHT
BEGIN:STANDARD
TZOFFSETFROM:+0200
TZOFFSETTO:+0100
TZNAME:CET
DTSTART:20251026T010000
END:STANDARD
END:VTIMEZONE
BEGIN:VEVENT
DTSTART;TZID=Europe/Berlin:20250827T170000
DTEND;TZID=Europe/Berlin:20250827T200000
DTSTAMP:20260421T210056
CREATED:20250702T040012Z
LAST-MODIFIED:20250702T040012Z
UID:24328-1756314000-1756324800@www.alte-vhs.de
SUMMARY:Acro Yoga am Poppelsdorfer Schloß
DESCRIPTION:
URL:https://www.alte-vhs.de/event/acro-yoga-am-poppelsdorfer-schloss-9/
LOCATION:Halle
END:VEVENT
BEGIN:VEVENT
DTSTART;TZID=Europe/Berlin:20250827T190000
DTEND;TZID=Europe/Berlin:20250827T220000
DTSTAMP:20260421T210056
CREATED:20250528T040008Z
LAST-MODIFIED:20250528T040008Z
UID:23993-1756321200-1756332000@www.alte-vhs.de
SUMMARY:Alte VHS Plenum
DESCRIPTION:
URL:https://www.alte-vhs.de/event/alte-vhs-plenum-29/
LOCATION:Bewegungsraum
END:VEVENT
BEGIN:VEVENT
DTSTART;TZID=Europe/Berlin:20250827T190000
DTEND;TZID=Europe/Berlin:20250827T220000
DTSTAMP:20260421T210056
CREATED:20250528T040009Z
LAST-MODIFIED:20250528T040009Z
UID:23995-1756321200-1756332000@www.alte-vhs.de
SUMMARY:OAT - Offenes Antifaschistisches Treffen Bonn
DESCRIPTION:
URL:https://www.alte-vhs.de/event/oat-offenes-antifaschistisches-treffen-bonn-34/
END:VEVENT
BEGIN:VEVENT
DTSTART;TZID=Europe/Berlin:20250827T190000
DTEND;TZID=Europe/Berlin:20250827T235500
DTSTAMP:20260421T210056
CREATED:20250528T040009Z
LAST-MODIFIED:20250528T040009Z
UID:23994-1756321200-1756338900@www.alte-vhs.de
SUMMARY:Punk Spieleabend
DESCRIPTION:
URL:https://www.alte-vhs.de/event/punk-spieleabend-32/
LOCATION:Salon
END:VEVENT
END:VCALENDAR