BEGIN:VCALENDAR
VERSION:2.0
PRODID:-//Alte VHS - ECPv6.8.3//NONSGML v1.0//EN
CALSCALE:GREGORIAN
METHOD:PUBLISH
X-WR-CALNAME:Alte VHS
X-ORIGINAL-URL:https://www.alte-vhs.de
X-WR-CALDESC:Veranstaltungen für Alte VHS
REFRESH-INTERVAL;VALUE=DURATION:PT1H
X-Robots-Tag:noindex
X-PUBLISHED-TTL:PT1H
BEGIN:VTIMEZONE
TZID:Europe/Berlin
BEGIN:DAYLIGHT
TZOFFSETFROM:+0100
TZOFFSETTO:+0200
TZNAME:CEST
DTSTART:20250330T010000
END:DAYLIGHT
BEGIN:STANDARD
TZOFFSETFROM:+0200
TZOFFSETTO:+0100
TZNAME:CET
DTSTART:20251026T010000
END:STANDARD
END:VTIMEZONE
BEGIN:VEVENT
DTSTART;TZID=Europe/Berlin:20250730T170000
DTEND;TZID=Europe/Berlin:20250730T200000
DTSTAMP:20260421T205628
CREATED:20250702T040011Z
LAST-MODIFIED:20250702T040011Z
UID:24324-1753894800-1753905600@www.alte-vhs.de
SUMMARY:Acro Yoga am Poppelsdorfer Schloß
DESCRIPTION:
URL:https://www.alte-vhs.de/event/acro-yoga-am-poppelsdorfer-schloss-5/
LOCATION:Halle
END:VEVENT
BEGIN:VEVENT
DTSTART;TZID=Europe/Berlin:20250730T190000
DTEND;TZID=Europe/Berlin:20250730T235500
DTSTAMP:20260421T205628
CREATED:20250501T040008Z
LAST-MODIFIED:20250501T040008Z
UID:23788-1753902000-1753919700@www.alte-vhs.de
SUMMARY:Punk Spieleabend
DESCRIPTION:
URL:https://www.alte-vhs.de/event/punk-spieleabend-28/
LOCATION:Salon
END:VEVENT
END:VCALENDAR