BEGIN:VCALENDAR
VERSION:2.0
PRODID:-//Alte VHS - ECPv6.8.3//NONSGML v1.0//EN
CALSCALE:GREGORIAN
METHOD:PUBLISH
X-WR-CALNAME:Alte VHS
X-ORIGINAL-URL:https://www.alte-vhs.de
X-WR-CALDESC:Veranstaltungen für Alte VHS
REFRESH-INTERVAL;VALUE=DURATION:PT1H
X-Robots-Tag:noindex
X-PUBLISHED-TTL:PT1H
BEGIN:VTIMEZONE
TZID:Europe/Berlin
BEGIN:DAYLIGHT
TZOFFSETFROM:+0100
TZOFFSETTO:+0200
TZNAME:CEST
DTSTART:20250330T010000
END:DAYLIGHT
BEGIN:STANDARD
TZOFFSETFROM:+0200
TZOFFSETTO:+0100
TZNAME:CET
DTSTART:20251026T010000
END:STANDARD
END:VTIMEZONE
BEGIN:VEVENT
DTSTART;TZID=Europe/Berlin:20250719T113000
DTEND;TZID=Europe/Berlin:20250719T153000
DTSTAMP:20260421T223219
CREATED:20250420T040008Z
LAST-MODIFIED:20250420T040008Z
UID:23716-1752924600-1752939000@www.alte-vhs.de
SUMMARY:Zecken basteln Zeug - Handarbeit von links
DESCRIPTION:
URL:https://www.alte-vhs.de/event/zecken-basteln-zeug-handarbeit-von-links-124/
END:VEVENT
BEGIN:VEVENT
DTSTART;TZID=Europe/Berlin:20250719T180000
DTEND;TZID=Europe/Berlin:20250719T230000
DTSTAMP:20260421T223219
CREATED:20250516T040011Z
LAST-MODIFIED:20250516T040011Z
UID:23902-1752948000-1752966000@www.alte-vhs.de
SUMMARY:Forró Konzert
DESCRIPTION:
URL:https://www.alte-vhs.de/event/forro-konzert/
END:VEVENT
END:VCALENDAR