BEGIN:VCALENDAR
VERSION:2.0
PRODID:-//Alte VHS - ECPv6.8.3//NONSGML v1.0//EN
CALSCALE:GREGORIAN
METHOD:PUBLISH
X-WR-CALNAME:Alte VHS
X-ORIGINAL-URL:https://www.alte-vhs.de
X-WR-CALDESC:Veranstaltungen für Alte VHS
REFRESH-INTERVAL;VALUE=DURATION:PT1H
X-Robots-Tag:noindex
X-PUBLISHED-TTL:PT1H
BEGIN:VTIMEZONE
TZID:Europe/Berlin
BEGIN:DAYLIGHT
TZOFFSETFROM:+0100
TZOFFSETTO:+0200
TZNAME:CEST
DTSTART:20250330T010000
END:DAYLIGHT
BEGIN:STANDARD
TZOFFSETFROM:+0200
TZOFFSETTO:+0100
TZNAME:CET
DTSTART:20251026T010000
END:STANDARD
END:VTIMEZONE
BEGIN:VEVENT
DTSTART;TZID=Europe/Berlin:20250524T113000
DTEND;TZID=Europe/Berlin:20250524T153000
DTSTAMP:20260421T211753
CREATED:20250308T171017Z
LAST-MODIFIED:20250308T171017Z
UID:23237-1748086200-1748100600@www.alte-vhs.de
SUMMARY:Zecken basteln Zeug - Handarbeit von links
DESCRIPTION:
URL:https://www.alte-vhs.de/event/zecken-basteln-zeug-handarbeit-von-links-116/
END:VEVENT
BEGIN:VEVENT
DTSTART;TZID=Europe/Berlin:20250524T180000
DTEND;TZID=Europe/Berlin:20250524T230000
DTSTAMP:20260421T211753
CREATED:20250308T171018Z
LAST-MODIFIED:20250308T171018Z
UID:23238-1748109600-1748127600@www.alte-vhs.de
SUMMARY:Social Smoker Anniversary Show - Emo\, Slowcore Acoustic and more!
DESCRIPTION:
URL:https://www.alte-vhs.de/event/social-smoker-anniversary-show-emo-slowcore-acoustic-and-more/
END:VEVENT
END:VCALENDAR