BEGIN:VCALENDAR
VERSION:2.0
PRODID:-//Alte VHS - ECPv6.8.3//NONSGML v1.0//EN
CALSCALE:GREGORIAN
METHOD:PUBLISH
X-ORIGINAL-URL:https://www.alte-vhs.de
X-WR-CALDESC:Veranstaltungen für Alte VHS
REFRESH-INTERVAL;VALUE=DURATION:PT1H
X-Robots-Tag:noindex
X-PUBLISHED-TTL:PT1H
BEGIN:VTIMEZONE
TZID:Europe/Berlin
BEGIN:DAYLIGHT
TZOFFSETFROM:+0100
TZOFFSETTO:+0200
TZNAME:CEST
DTSTART:20250330T010000
END:DAYLIGHT
BEGIN:STANDARD
TZOFFSETFROM:+0200
TZOFFSETTO:+0100
TZNAME:CET
DTSTART:20251026T010000
END:STANDARD
END:VTIMEZONE
BEGIN:VEVENT
DTSTART;TZID=Europe/Berlin:20250521T170000
DTEND;TZID=Europe/Berlin:20250521T200000
DTSTAMP:20260421T194352
CREATED:20250308T171015Z
LAST-MODIFIED:20250308T171015Z
UID:23230-1747846800-1747857600@www.alte-vhs.de
SUMMARY:Acro Yoga
DESCRIPTION:
URL:https://www.alte-vhs.de/event/acro-yoga-91/
LOCATION:Halle
END:VEVENT
BEGIN:VEVENT
DTSTART;TZID=Europe/Berlin:20250521T190000
DTEND;TZID=Europe/Berlin:20250521T200000
DTSTAMP:20260421T194352
CREATED:20250308T171016Z
LAST-MODIFIED:20250308T171016Z
UID:23231-1747854000-1747857600@www.alte-vhs.de
SUMMARY:Alte VHS Plenum
DESCRIPTION:
URL:https://www.alte-vhs.de/event/alte-vhs-plenum-16/
LOCATION:Bewegungsraum
END:VEVENT
BEGIN:VEVENT
DTSTART;TZID=Europe/Berlin:20250521T190000
DTEND;TZID=Europe/Berlin:20250521T235500
DTSTAMP:20260421T194352
CREATED:20250308T171016Z
LAST-MODIFIED:20250308T171016Z
UID:23232-1747854000-1747871700@www.alte-vhs.de
SUMMARY:Punk Spieleabend
DESCRIPTION:
URL:https://www.alte-vhs.de/event/punk-spieleabend-18/
LOCATION:Salon
END:VEVENT
END:VCALENDAR