BEGIN:VCALENDAR
VERSION:2.0
PRODID:-//Alte VHS - ECPv6.8.3//NONSGML v1.0//EN
CALSCALE:GREGORIAN
METHOD:PUBLISH
X-WR-CALNAME:Alte VHS
X-ORIGINAL-URL:https://www.alte-vhs.de
X-WR-CALDESC:Veranstaltungen für Alte VHS
REFRESH-INTERVAL;VALUE=DURATION:PT1H
X-Robots-Tag:noindex
X-PUBLISHED-TTL:PT1H
BEGIN:VTIMEZONE
TZID:Europe/Berlin
BEGIN:DAYLIGHT
TZOFFSETFROM:+0100
TZOFFSETTO:+0200
TZNAME:CEST
DTSTART:20250330T010000
END:DAYLIGHT
BEGIN:STANDARD
TZOFFSETFROM:+0200
TZOFFSETTO:+0100
TZNAME:CET
DTSTART:20251026T010000
END:STANDARD
END:VTIMEZONE
BEGIN:VEVENT
DTSTART;TZID=Europe/Berlin:20250417T180000
DTEND;TZID=Europe/Berlin:20250417T220000
DTSTAMP:20260421T145814
CREATED:20250308T171000Z
LAST-MODIFIED:20250308T171000Z
UID:23181-1744912800-1744927200@www.alte-vhs.de
SUMMARY:FFF Plenum
DESCRIPTION:
URL:https://www.alte-vhs.de/event/fff-plenum-89/
LOCATION:Halle
END:VEVENT
BEGIN:VEVENT
DTSTART;TZID=Europe/Berlin:20250417T183000
DTEND;TZID=Europe/Berlin:20250417T183000
DTSTAMP:20260421T145814
CREATED:20250308T171001Z
LAST-MODIFIED:20250308T171001Z
UID:23182-1744914600-1744914600@www.alte-vhs.de
SUMMARY:Lesekreis mit den Falken
DESCRIPTION:
URL:https://www.alte-vhs.de/event/lesekreis-mit-den-falken-114/
END:VEVENT
BEGIN:VEVENT
DTSTART;TZID=Europe/Berlin:20250417T190000
DTEND;TZID=Europe/Berlin:20250417T220000
DTSTAMP:20260421T145814
CREATED:20250308T171001Z
LAST-MODIFIED:20250308T171001Z
UID:23183-1744916400-1744927200@www.alte-vhs.de
SUMMARY:Offene Siebdruckwerkstatt / Atelier
DESCRIPTION:
URL:https://www.alte-vhs.de/event/offene-siebdruckwerkstatt-atelier-41/
END:VEVENT
BEGIN:VEVENT
DTSTART;TZID=Europe/Berlin:20250417T190000
DTEND;TZID=Europe/Berlin:20250417T220000
DTSTAMP:20260421T145814
CREATED:20250308T171001Z
LAST-MODIFIED:20250308T171001Z
UID:23184-1744916400-1744927200@www.alte-vhs.de
SUMMARY:Salóng
DESCRIPTION:
URL:https://www.alte-vhs.de/event/salong-136/
LOCATION:Salóng\, Rölsdorfstraße 20\, Bonn\, 53225\, Deutschland
END:VEVENT
BEGIN:VEVENT
DTSTART;TZID=Europe/Berlin:20250417T190000
DTEND;TZID=Europe/Berlin:20250417T220000
DTSTAMP:20260421T145814
CREATED:20250326T040012Z
LAST-MODIFIED:20250326T040012Z
UID:23487-1744916400-1744927200@www.alte-vhs.de
SUMMARY:Improvisationstanz-Jam
DESCRIPTION:
URL:https://www.alte-vhs.de/event/improvisationstanz-jam-2/
LOCATION:Bewegungsraum
END:VEVENT
END:VCALENDAR