BEGIN:VCALENDAR
VERSION:2.0
PRODID:-//Alte VHS - ECPv6.8.3//NONSGML v1.0//EN
CALSCALE:GREGORIAN
METHOD:PUBLISH
X-WR-CALNAME:Alte VHS
X-ORIGINAL-URL:https://www.alte-vhs.de
X-WR-CALDESC:Veranstaltungen für Alte VHS
REFRESH-INTERVAL;VALUE=DURATION:PT1H
X-Robots-Tag:noindex
X-PUBLISHED-TTL:PT1H
BEGIN:VTIMEZONE
TZID:Europe/Berlin
BEGIN:DAYLIGHT
TZOFFSETFROM:+0100
TZOFFSETTO:+0200
TZNAME:CEST
DTSTART:20250330T010000
END:DAYLIGHT
BEGIN:STANDARD
TZOFFSETFROM:+0200
TZOFFSETTO:+0100
TZNAME:CET
DTSTART:20251026T010000
END:STANDARD
END:VTIMEZONE
BEGIN:VEVENT
DTSTART;TZID=Europe/Berlin:20250403T170000
DTEND;TZID=Europe/Berlin:20250403T200000
DTSTAMP:20260423T163651
CREATED:20250308T170756Z
LAST-MODIFIED:20250308T170756Z
UID:23156-1743699600-1743710400@www.alte-vhs.de
SUMMARY:KüfA (Kochen)
DESCRIPTION:
URL:https://www.alte-vhs.de/event/kuefa-kochen-10/
LOCATION:Halle
END:VEVENT
BEGIN:VEVENT
DTSTART;TZID=Europe/Berlin:20250403T180000
DTEND;TZID=Europe/Berlin:20250403T220000
DTSTAMP:20260423T163651
CREATED:20250308T170756Z
LAST-MODIFIED:20250308T170756Z
UID:23157-1743703200-1743717600@www.alte-vhs.de
SUMMARY:FFF Plenum
DESCRIPTION:
URL:https://www.alte-vhs.de/event/fff-plenum-87/
LOCATION:Halle
END:VEVENT
BEGIN:VEVENT
DTSTART;TZID=Europe/Berlin:20250403T183000
DTEND;TZID=Europe/Berlin:20250403T183000
DTSTAMP:20260423T163651
CREATED:20250308T170756Z
LAST-MODIFIED:20250308T170756Z
UID:23158-1743705000-1743705000@www.alte-vhs.de
SUMMARY:Lesekreis mit den Falken
DESCRIPTION:
URL:https://www.alte-vhs.de/event/lesekreis-mit-den-falken-112/
END:VEVENT
BEGIN:VEVENT
DTSTART;TZID=Europe/Berlin:20250403T190000
DTEND;TZID=Europe/Berlin:20250403T220000
DTSTAMP:20260423T163651
CREATED:20250308T170757Z
LAST-MODIFIED:20250308T170757Z
UID:23159-1743706800-1743717600@www.alte-vhs.de
SUMMARY:Offene Siebdruckwerkstatt / Atelier
DESCRIPTION:
URL:https://www.alte-vhs.de/event/offene-siebdruckwerkstatt-atelier-40/
END:VEVENT
BEGIN:VEVENT
DTSTART;TZID=Europe/Berlin:20250403T190000
DTEND;TZID=Europe/Berlin:20250403T220000
DTSTAMP:20260423T163651
CREATED:20250308T170757Z
LAST-MODIFIED:20250308T170757Z
UID:23160-1743706800-1743717600@www.alte-vhs.de
SUMMARY:Salóng
DESCRIPTION:
URL:https://www.alte-vhs.de/event/salong-134/
LOCATION:Salóng\, Rölsdorfstraße 20\, Bonn\, 53225\, Deutschland
END:VEVENT
BEGIN:VEVENT
DTSTART;TZID=Europe/Berlin:20250403T200000
DTEND;TZID=Europe/Berlin:20250403T220000
DTSTAMP:20260423T163651
CREATED:20250308T170757Z
LAST-MODIFIED:20250308T170757Z
UID:23161-1743710400-1743717600@www.alte-vhs.de
SUMMARY:KüfA (Essen)
DESCRIPTION:
URL:https://www.alte-vhs.de/event/kuefa-essen-10/
LOCATION:Halle
END:VEVENT
END:VCALENDAR