BEGIN:VCALENDAR
VERSION:2.0
PRODID:-//Alte VHS - ECPv6.8.3//NONSGML v1.0//EN
CALSCALE:GREGORIAN
METHOD:PUBLISH
X-ORIGINAL-URL:https://www.alte-vhs.de
X-WR-CALDESC:Veranstaltungen für Alte VHS
REFRESH-INTERVAL;VALUE=DURATION:PT1H
X-Robots-Tag:noindex
X-PUBLISHED-TTL:PT1H
BEGIN:VTIMEZONE
TZID:Europe/Berlin
BEGIN:DAYLIGHT
TZOFFSETFROM:+0100
TZOFFSETTO:+0200
TZNAME:CEST
DTSTART:20250330T010000
END:DAYLIGHT
BEGIN:STANDARD
TZOFFSETFROM:+0200
TZOFFSETTO:+0100
TZNAME:CET
DTSTART:20251026T010000
END:STANDARD
END:VTIMEZONE
BEGIN:VEVENT
DTSTART;TZID=Europe/Berlin:20250326T170000
DTEND;TZID=Europe/Berlin:20250326T200000
DTSTAMP:20260421T181413
CREATED:20250308T170752Z
LAST-MODIFIED:20250308T170752Z
UID:23144-1743008400-1743019200@www.alte-vhs.de
SUMMARY:Acro Yoga
DESCRIPTION:
URL:https://www.alte-vhs.de/event/acro-yoga-83/
LOCATION:Halle
END:VEVENT
BEGIN:VEVENT
DTSTART;TZID=Europe/Berlin:20250326T190000
DTEND;TZID=Europe/Berlin:20250326T220000
DTSTAMP:20260421T181413
CREATED:20250308T170753Z
LAST-MODIFIED:20250308T170753Z
UID:23147-1743015600-1743026400@www.alte-vhs.de
SUMMARY:OAT - Offenes Antifaschistisches Treffen Bonn
DESCRIPTION:
URL:https://www.alte-vhs.de/event/oat-offenes-antifaschistisches-treffen-bonn-25/
END:VEVENT
BEGIN:VEVENT
DTSTART;TZID=Europe/Berlin:20250326T190000
DTEND;TZID=Europe/Berlin:20250326T220000
DTSTAMP:20260421T181413
CREATED:20250308T170753Z
LAST-MODIFIED:20250308T170753Z
UID:23145-1743015600-1743026400@www.alte-vhs.de
SUMMARY:Alte VHS Plenum
DESCRIPTION:
URL:https://www.alte-vhs.de/event/alte-vhs-plenum-9/
LOCATION:Bewegungsraum
END:VEVENT
BEGIN:VEVENT
DTSTART;TZID=Europe/Berlin:20250326T190000
DTEND;TZID=Europe/Berlin:20250326T235500
DTSTAMP:20260421T181413
CREATED:20250308T170753Z
LAST-MODIFIED:20250308T170753Z
UID:23146-1743015600-1743033300@www.alte-vhs.de
SUMMARY:Punk Spieleabend
DESCRIPTION:
URL:https://www.alte-vhs.de/event/punk-spieleabend-10/
LOCATION:Salon
END:VEVENT
END:VCALENDAR