BEGIN:VCALENDAR
VERSION:2.0
PRODID:-//Alte VHS - ECPv6.8.3//NONSGML v1.0//EN
CALSCALE:GREGORIAN
METHOD:PUBLISH
X-ORIGINAL-URL:https://www.alte-vhs.de
X-WR-CALDESC:Veranstaltungen für Alte VHS
REFRESH-INTERVAL;VALUE=DURATION:PT1H
X-Robots-Tag:noindex
X-PUBLISHED-TTL:PT1H
BEGIN:VTIMEZONE
TZID:Europe/Berlin
BEGIN:DAYLIGHT
TZOFFSETFROM:+0100
TZOFFSETTO:+0200
TZNAME:CEST
DTSTART:20250330T010000
END:DAYLIGHT
BEGIN:STANDARD
TZOFFSETFROM:+0200
TZOFFSETTO:+0100
TZNAME:CET
DTSTART:20251026T010000
END:STANDARD
END:VTIMEZONE
BEGIN:VEVENT
DTSTART;TZID=Europe/Berlin:20250305T170000
DTEND;TZID=Europe/Berlin:20250305T200000
DTSTAMP:20260421T151618
CREATED:20250308T170742Z
LAST-MODIFIED:20250308T170742Z
UID:23108-1741194000-1741204800@www.alte-vhs.de
SUMMARY:Acro Yoga
DESCRIPTION:
URL:https://www.alte-vhs.de/event/acro-yoga-80/
LOCATION:Halle
END:VEVENT
BEGIN:VEVENT
DTSTART;TZID=Europe/Berlin:20250305T190000
DTEND;TZID=Europe/Berlin:20250305T220000
DTSTAMP:20260421T151618
CREATED:20250308T170742Z
LAST-MODIFIED:20250308T170742Z
UID:23109-1741201200-1741212000@www.alte-vhs.de
SUMMARY:Alte VHS Plenum
DESCRIPTION:
URL:https://www.alte-vhs.de/event/alte-vhs-plenum-6/
LOCATION:Bewegungsraum
END:VEVENT
BEGIN:VEVENT
DTSTART;TZID=Europe/Berlin:20250305T190000
DTEND;TZID=Europe/Berlin:20250305T235500
DTSTAMP:20260421T151618
CREATED:20250308T170742Z
LAST-MODIFIED:20250308T170742Z
UID:23110-1741201200-1741218900@www.alte-vhs.de
SUMMARY:Punk Spieleabend
DESCRIPTION:
URL:https://www.alte-vhs.de/event/punk-spieleabend-7/
LOCATION:Salon
END:VEVENT
END:VCALENDAR