BEGIN:VCALENDAR
VERSION:2.0
PRODID:-//Alte VHS - ECPv6.8.3//NONSGML v1.0//EN
CALSCALE:GREGORIAN
METHOD:PUBLISH
X-ORIGINAL-URL:https://www.alte-vhs.de
X-WR-CALDESC:Veranstaltungen für Alte VHS
REFRESH-INTERVAL;VALUE=DURATION:PT1H
X-Robots-Tag:noindex
X-PUBLISHED-TTL:PT1H
BEGIN:VTIMEZONE
TZID:Europe/Berlin
BEGIN:DAYLIGHT
TZOFFSETFROM:+0100
TZOFFSETTO:+0200
TZNAME:CEST
DTSTART:20250330T010000
END:DAYLIGHT
BEGIN:STANDARD
TZOFFSETFROM:+0200
TZOFFSETTO:+0100
TZNAME:CET
DTSTART:20251026T010000
END:STANDARD
END:VTIMEZONE
BEGIN:VEVENT
DTSTART;TZID=Europe/Berlin:20250212T170000
DTEND;TZID=Europe/Berlin:20250212T200000
DTSTAMP:20260421T194421
CREATED:20250113T040014Z
LAST-MODIFIED:20250113T040014Z
UID:22820-1739379600-1739390400@www.alte-vhs.de
SUMMARY:Acro Yoga
DESCRIPTION:
URL:https://www.alte-vhs.de/event/acro-yoga-77/
LOCATION:Halle
END:VEVENT
BEGIN:VEVENT
DTSTART;TZID=Europe/Berlin:20250212T190000
DTEND;TZID=Europe/Berlin:20250212T200000
DTSTAMP:20260421T194421
CREATED:20250121T040005Z
LAST-MODIFIED:20250121T040005Z
UID:22880-1739386800-1739390400@www.alte-vhs.de
SUMMARY:Punk Spieleabend
DESCRIPTION:
URL:https://www.alte-vhs.de/event/punk-spieleabend-4/
LOCATION:Salon
END:VEVENT
BEGIN:VEVENT
DTSTART;TZID=Europe/Berlin:20250212T190000
DTEND;TZID=Europe/Berlin:20250212T220000
DTSTAMP:20260421T194421
CREATED:20250113T040014Z
LAST-MODIFIED:20250113T040014Z
UID:22821-1739386800-1739397600@www.alte-vhs.de
SUMMARY:OAT - Offenes Antifaschistisches Treffen Bonn
DESCRIPTION:
URL:https://www.alte-vhs.de/event/oat-offenes-antifaschistisches-treffen-bonn-21/
END:VEVENT
BEGIN:VEVENT
DTSTART;TZID=Europe/Berlin:20250212T190000
DTEND;TZID=Europe/Berlin:20250212T220000
DTSTAMP:20260421T194421
CREATED:20250113T040015Z
LAST-MODIFIED:20250113T040015Z
UID:22822-1739386800-1739397600@www.alte-vhs.de
SUMMARY:VHS Plenum
DESCRIPTION:
URL:https://www.alte-vhs.de/event/vhs-plenum-55/
LOCATION:Bewegungsraum
END:VEVENT
END:VCALENDAR