BEGIN:VCALENDAR
VERSION:2.0
PRODID:-//Alte VHS - ECPv6.8.3//NONSGML v1.0//EN
CALSCALE:GREGORIAN
METHOD:PUBLISH
X-ORIGINAL-URL:https://www.alte-vhs.de
X-WR-CALDESC:Veranstaltungen für Alte VHS
REFRESH-INTERVAL;VALUE=DURATION:PT1H
X-Robots-Tag:noindex
X-PUBLISHED-TTL:PT1H
BEGIN:VTIMEZONE
TZID:Europe/Berlin
BEGIN:DAYLIGHT
TZOFFSETFROM:+0100
TZOFFSETTO:+0200
TZNAME:CEST
DTSTART:20250330T010000
END:DAYLIGHT
BEGIN:STANDARD
TZOFFSETFROM:+0200
TZOFFSETTO:+0100
TZNAME:CET
DTSTART:20251026T010000
END:STANDARD
END:VTIMEZONE
BEGIN:VEVENT
DTSTART;TZID=Europe/Berlin:20250115T170000
DTEND;TZID=Europe/Berlin:20250115T200000
DTSTAMP:20260421T213013
CREATED:20241216T040033Z
LAST-MODIFIED:20241216T040033Z
UID:22652-1736960400-1736971200@www.alte-vhs.de
SUMMARY:Acro Yoga
DESCRIPTION:
URL:https://www.alte-vhs.de/event/acro-yoga-73/
LOCATION:Halle
END:VEVENT
BEGIN:VEVENT
DTSTART;TZID=Europe/Berlin:20250115T190000
DTEND;TZID=Europe/Berlin:20250115T210000
DTSTAMP:20260421T213013
CREATED:20250114T040034Z
LAST-MODIFIED:20250114T040034Z
UID:22827-1736967600-1736974800@www.alte-vhs.de
SUMMARY:Alte VHS Plenum
DESCRIPTION:
URL:https://www.alte-vhs.de/event/alte-vhs-plenum-3/
LOCATION:Bewegungsraum
END:VEVENT
BEGIN:VEVENT
DTSTART;TZID=Europe/Berlin:20250115T190000
DTEND;TZID=Europe/Berlin:20250115T220000
DTSTAMP:20260421T213013
CREATED:20241216T040033Z
LAST-MODIFIED:20241216T040033Z
UID:22653-1736967600-1736978400@www.alte-vhs.de
SUMMARY:Offener Antifa Abend - Antifa Bonn/Rhein-Sieg
DESCRIPTION:
URL:https://www.alte-vhs.de/event/offener-antifa-abend-antifa-bonn-rhein-sieg-13/
LOCATION:Bewegungsraum
END:VEVENT
END:VCALENDAR