BEGIN:VCALENDAR
VERSION:2.0
PRODID:-//Alte VHS - ECPv6.8.3//NONSGML v1.0//EN
CALSCALE:GREGORIAN
METHOD:PUBLISH
X-ORIGINAL-URL:https://www.alte-vhs.de
X-WR-CALDESC:Veranstaltungen für Alte VHS
REFRESH-INTERVAL;VALUE=DURATION:PT1H
X-Robots-Tag:noindex
X-PUBLISHED-TTL:PT1H
BEGIN:VTIMEZONE
TZID:Europe/Berlin
BEGIN:DAYLIGHT
TZOFFSETFROM:+0100
TZOFFSETTO:+0200
TZNAME:CEST
DTSTART:20250330T010000
END:DAYLIGHT
BEGIN:STANDARD
TZOFFSETFROM:+0200
TZOFFSETTO:+0100
TZNAME:CET
DTSTART:20251026T010000
END:STANDARD
END:VTIMEZONE
BEGIN:VEVENT
DTSTART;TZID=Europe/Berlin:20250108T170000
DTEND;TZID=Europe/Berlin:20250108T200000
DTSTAMP:20260421T145846
CREATED:20241209T040006Z
LAST-MODIFIED:20241209T040006Z
UID:22598-1736355600-1736366400@www.alte-vhs.de
SUMMARY:Acro Yoga
DESCRIPTION:
URL:https://www.alte-vhs.de/event/acro-yoga-72/
LOCATION:Halle
END:VEVENT
BEGIN:VEVENT
DTSTART;TZID=Europe/Berlin:20250108T190000
DTEND;TZID=Europe/Berlin:20250108T220000
DTSTAMP:20260421T145846
CREATED:20241209T040006Z
LAST-MODIFIED:20241209T040006Z
UID:22600-1736362800-1736373600@www.alte-vhs.de
SUMMARY:VHS Plenum
DESCRIPTION:
URL:https://www.alte-vhs.de/event/vhs-plenum-53/
LOCATION:Bewegungsraum
END:VEVENT
BEGIN:VEVENT
DTSTART;TZID=Europe/Berlin:20250108T190000
DTEND;TZID=Europe/Berlin:20250108T220000
DTSTAMP:20260421T145846
CREATED:20241209T040006Z
LAST-MODIFIED:20241209T040006Z
UID:22599-1736362800-1736373600@www.alte-vhs.de
SUMMARY:OAT - Offenes Antifaschistisches Treffen Bonn
DESCRIPTION:
URL:https://www.alte-vhs.de/event/oat-offenes-antifaschistisches-treffen-bonn-19/
END:VEVENT
END:VCALENDAR