BEGIN:VCALENDAR
VERSION:2.0
PRODID:-//Alte VHS - ECPv6.8.3//NONSGML v1.0//EN
CALSCALE:GREGORIAN
METHOD:PUBLISH
X-WR-CALNAME:Alte VHS
X-ORIGINAL-URL:https://www.alte-vhs.de
X-WR-CALDESC:Veranstaltungen für Alte VHS
REFRESH-INTERVAL;VALUE=DURATION:PT1H
X-Robots-Tag:noindex
X-PUBLISHED-TTL:PT1H
BEGIN:VTIMEZONE
TZID:Europe/Berlin
BEGIN:DAYLIGHT
TZOFFSETFROM:+0100
TZOFFSETTO:+0200
TZNAME:CEST
DTSTART:20240331T010000
END:DAYLIGHT
BEGIN:STANDARD
TZOFFSETFROM:+0200
TZOFFSETTO:+0100
TZNAME:CET
DTSTART:20241027T010000
END:STANDARD
END:VTIMEZONE
BEGIN:VEVENT
DTSTART;TZID=Europe/Berlin:20241203T111500
DTEND;TZID=Europe/Berlin:20241203T134500
DTSTAMP:20260423T182645
CREATED:20241104T040051Z
LAST-MODIFIED:20241104T040051Z
UID:22280-1733224500-1733233500@www.alte-vhs.de
SUMMARY:Getränkeannahme
DESCRIPTION:
URL:https://www.alte-vhs.de/event/getraenkeannahme-88/
END:VEVENT
END:VCALENDAR