BEGIN:VCALENDAR
VERSION:2.0
PRODID:-//Alte VHS - ECPv6.8.3//NONSGML v1.0//EN
CALSCALE:GREGORIAN
METHOD:PUBLISH
X-WR-CALNAME:Alte VHS
X-ORIGINAL-URL:https://www.alte-vhs.de
X-WR-CALDESC:Veranstaltungen für Alte VHS
REFRESH-INTERVAL;VALUE=DURATION:PT1H
X-Robots-Tag:noindex
X-PUBLISHED-TTL:PT1H
BEGIN:VTIMEZONE
TZID:Europe/Berlin
BEGIN:DAYLIGHT
TZOFFSETFROM:+0100
TZOFFSETTO:+0200
TZNAME:CEST
DTSTART:20240331T010000
END:DAYLIGHT
BEGIN:STANDARD
TZOFFSETFROM:+0200
TZOFFSETTO:+0100
TZNAME:CET
DTSTART:20241027T010000
END:STANDARD
END:VTIMEZONE
BEGIN:VEVENT
DTSTART;TZID=Europe/Berlin:20241130T113000
DTEND;TZID=Europe/Berlin:20241130T153000
DTSTAMP:20260423T182019
CREATED:20241031T040008Z
LAST-MODIFIED:20241031T040008Z
UID:22243-1732966200-1732980600@www.alte-vhs.de
SUMMARY:Zecken basteln Zeug - Handarbeit von links
DESCRIPTION:
URL:https://www.alte-vhs.de/event/zecken-basteln-zeug-handarbeit-von-links-91/
END:VEVENT
BEGIN:VEVENT
DTSTART;TZID=Europe/Berlin:20241130T153000
DTEND;TZID=Europe/Berlin:20241130T183000
DTSTAMP:20260423T182019
CREATED:20241114T040009Z
LAST-MODIFIED:20241114T040009Z
UID:22405-1732980600-1732991400@www.alte-vhs.de
SUMMARY:Neue Stadtgärtnerei
DESCRIPTION:
URL:https://www.alte-vhs.de/event/neue-stadtgaertnerei/
END:VEVENT
BEGIN:VEVENT
DTSTART;TZID=Europe/Berlin:20241130T180000
DTEND;TZID=Europe/Berlin:20241130T220000
DTSTAMP:20260423T182019
CREATED:20241031T040008Z
LAST-MODIFIED:20241031T040008Z
UID:22244-1732989600-1733004000@www.alte-vhs.de
SUMMARY:Emo Nights - Pop Punk Special!
DESCRIPTION:
URL:https://www.alte-vhs.de/event/emo-nights-pop-punk-special/
END:VEVENT
END:VCALENDAR