BEGIN:VCALENDAR
VERSION:2.0
PRODID:-//Alte VHS - ECPv6.8.3//NONSGML v1.0//EN
CALSCALE:GREGORIAN
METHOD:PUBLISH
X-ORIGINAL-URL:https://www.alte-vhs.de
X-WR-CALDESC:Veranstaltungen für Alte VHS
REFRESH-INTERVAL;VALUE=DURATION:PT1H
X-Robots-Tag:noindex
X-PUBLISHED-TTL:PT1H
BEGIN:VTIMEZONE
TZID:Europe/Berlin
BEGIN:DAYLIGHT
TZOFFSETFROM:+0100
TZOFFSETTO:+0200
TZNAME:CEST
DTSTART:20260329T010000
END:DAYLIGHT
BEGIN:STANDARD
TZOFFSETFROM:+0200
TZOFFSETTO:+0100
TZNAME:CET
DTSTART:20261025T010000
END:STANDARD
END:VTIMEZONE
BEGIN:VEVENT
DTSTART;TZID=Europe/Berlin:20260421T111500
DTEND;TZID=Europe/Berlin:20260421T134500
DTSTAMP:20260421T104008
CREATED:20260122T040007Z
LAST-MODIFIED:20260122T040007Z
UID:26088-1776770100-1776779100@www.alte-vhs.de
SUMMARY:Getränkeannahme
DESCRIPTION:
URL:https://www.alte-vhs.de/event/getraenkeannahme-156/
END:VEVENT
BEGIN:VEVENT
DTSTART;TZID=Europe/Berlin:20260421T190000
DTEND;TZID=Europe/Berlin:20260421T220000
DTSTAMP:20260421T104008
CREATED:20260415T040007Z
LAST-MODIFIED:20260415T040007Z
UID:27526-1776798000-1776808800@www.alte-vhs.de
SUMMARY:Offenes Treffen Widersetzen Bonn
DESCRIPTION:
URL:https://www.alte-vhs.de/event/offenes-treffen-widersetzen-bonn-28/
END:VEVENT
BEGIN:VEVENT
DTSTART;TZID=Europe/Berlin:20260422T170000
DTEND;TZID=Europe/Berlin:20260422T200000
DTSTAMP:20260421T104008
CREATED:20260123T040007Z
LAST-MODIFIED:20260123T040007Z
UID:26096-1776877200-1776888000@www.alte-vhs.de
SUMMARY:Acro Yoga
DESCRIPTION:
URL:https://www.alte-vhs.de/event/acro-yoga-129/
LOCATION:Halle
END:VEVENT
BEGIN:VEVENT
DTSTART;TZID=Europe/Berlin:20260422T190000
DTEND;TZID=Europe/Berlin:20260422T220000
DTSTAMP:20260421T104008
CREATED:20260123T040007Z
LAST-MODIFIED:20260123T040007Z
UID:26097-1776884400-1776895200@www.alte-vhs.de
SUMMARY:Alte VHS Plenum
DESCRIPTION:
URL:https://www.alte-vhs.de/event/alte-vhs-plenum-63/
LOCATION:Bewegungsraum
END:VEVENT
BEGIN:VEVENT
DTSTART;TZID=Europe/Berlin:20260422T190000
DTEND;TZID=Europe/Berlin:20260422T235500
DTSTAMP:20260421T104008
CREATED:20260407T040010Z
LAST-MODIFIED:20260407T040010Z
UID:27484-1776884400-1776902100@www.alte-vhs.de
SUMMARY:Rise Above: Subkultureller Begegnungsraum / Offener Punksalon
DESCRIPTION:
URL:https://www.alte-vhs.de/event/rise-above-subkultureller-begegnungsraum-offener-punksalon-3/
LOCATION:Salon
END:VEVENT
BEGIN:VEVENT
DTSTART;TZID=Europe/Berlin:20260423T180000
DTEND;TZID=Europe/Berlin:20260423T220000
DTSTAMP:20260421T104008
CREATED:20260124T040008Z
LAST-MODIFIED:20260124T040008Z
UID:26108-1776967200-1776981600@www.alte-vhs.de
SUMMARY:FFF Plenum
DESCRIPTION:
URL:https://www.alte-vhs.de/event/fff-plenum-129/
LOCATION:Halle
END:VEVENT
BEGIN:VEVENT
DTSTART;TZID=Europe/Berlin:20260423T180000
DTEND;TZID=Europe/Berlin:20260423T220000
DTSTAMP:20260421T104008
CREATED:20260401T040011Z
LAST-MODIFIED:20260401T040011Z
UID:27471-1776967200-1776981600@www.alte-vhs.de
SUMMARY:Metal Abend
DESCRIPTION:
URL:https://www.alte-vhs.de/event/metal-abend-5/
LOCATION:Salon
END:VEVENT
BEGIN:VEVENT
DTSTART;TZID=Europe/Berlin:20260423T190000
DTEND;TZID=Europe/Berlin:20260423T220000
DTSTAMP:20260421T104008
CREATED:20260124T040008Z
LAST-MODIFIED:20260124T040008Z
UID:26109-1776970800-1776981600@www.alte-vhs.de
SUMMARY:Salóng
DESCRIPTION:
URL:https://www.alte-vhs.de/event/salong-189/
LOCATION:Salóng\, Rölsdorfstraße 20\, Bonn\, 53225\, Deutschland
END:VEVENT
BEGIN:VEVENT
DTSTART;TZID=Europe/Berlin:20260423T190000
DTEND;TZID=Europe/Berlin:20260423T230000
DTSTAMP:20260421T104008
CREATED:20260414T040010Z
LAST-MODIFIED:20260414T040010Z
UID:27511-1776970800-1776985200@www.alte-vhs.de
SUMMARY:Linke Studi Wochen: Rechte Strukturen in Bonn
DESCRIPTION:
URL:https://www.alte-vhs.de/event/linke-studi-wochen-rechte-strukturen-in-bonn/
LOCATION:Halle
END:VEVENT
BEGIN:VEVENT
DTSTART;TZID=Europe/Berlin:20260424T180000
DTEND;TZID=Europe/Berlin:20260424T235900
DTSTAMP:20260421T104008
CREATED:20260301T040009Z
LAST-MODIFIED:20260301T040009Z
UID:26616-1777053600-1777075140@www.alte-vhs.de
SUMMARY:Disturbance presents: UNICORN PARTISANS + tba
DESCRIPTION:
URL:https://www.alte-vhs.de/event/disturbance-presents-unicorn-partisans-tba/
END:VEVENT
BEGIN:VEVENT
DTSTART;TZID=Europe/Berlin:20260425T113000
DTEND;TZID=Europe/Berlin:20260425T153000
DTSTAMP:20260421T104008
CREATED:20260126T040006Z
LAST-MODIFIED:20260126T040006Z
UID:26120-1777116600-1777131000@www.alte-vhs.de
SUMMARY:Zecken basteln Zeug - Handarbeit von links
DESCRIPTION:
URL:https://www.alte-vhs.de/event/zecken-basteln-zeug-handarbeit-von-links-164/
END:VEVENT
BEGIN:VEVENT
DTSTART;TZID=Europe/Berlin:20260426T150000
DTEND;TZID=Europe/Berlin:20260426T180000
DTSTAMP:20260421T104008
CREATED:20260404T040018Z
LAST-MODIFIED:20260404T040018Z
UID:27480-1777215600-1777226400@www.alte-vhs.de
SUMMARY:Improjam UFF
DESCRIPTION:
URL:https://www.alte-vhs.de/event/improjam-uff/
LOCATION:Halle
END:VEVENT
BEGIN:VEVENT
DTSTART;TZID=Europe/Berlin:20260428T111500
DTEND;TZID=Europe/Berlin:20260428T134500
DTSTAMP:20260421T104008
CREATED:20260129T040010Z
LAST-MODIFIED:20260129T040010Z
UID:26135-1777374900-1777383900@www.alte-vhs.de
SUMMARY:Getränkeannahme
DESCRIPTION:
URL:https://www.alte-vhs.de/event/getraenkeannahme-157/
END:VEVENT
BEGIN:VEVENT
DTSTART;TZID=Europe/Berlin:20260429T170000
DTEND;TZID=Europe/Berlin:20260429T200000
DTSTAMP:20260421T104008
CREATED:20260130T040009Z
LAST-MODIFIED:20260130T040009Z
UID:26150-1777482000-1777492800@www.alte-vhs.de
SUMMARY:Acro Yoga
DESCRIPTION:
URL:https://www.alte-vhs.de/event/acro-yoga-130/
LOCATION:Halle
END:VEVENT
BEGIN:VEVENT
DTSTART;TZID=Europe/Berlin:20260429T190000
DTEND;TZID=Europe/Berlin:20260429T210000
DTSTAMP:20260421T104008
CREATED:20260130T040010Z
LAST-MODIFIED:20260130T040010Z
UID:26151-1777489200-1777496400@www.alte-vhs.de
SUMMARY:Alte VHS Plenum
DESCRIPTION:
URL:https://www.alte-vhs.de/event/alte-vhs-plenum-64/
LOCATION:Bewegungsraum
END:VEVENT
BEGIN:VEVENT
DTSTART;TZID=Europe/Berlin:20260429T190000
DTEND;TZID=Europe/Berlin:20260429T235500
DTSTAMP:20260421T104008
CREATED:20260407T040010Z
LAST-MODIFIED:20260407T040010Z
UID:27485-1777489200-1777506900@www.alte-vhs.de
SUMMARY:Rise Above: Subkultureller Begegnungsraum / Offener Punksalon
DESCRIPTION:
URL:https://www.alte-vhs.de/event/rise-above-subkultureller-begegnungsraum-offener-punksalon-4/
LOCATION:Salon
END:VEVENT
BEGIN:VEVENT
DTSTART;TZID=Europe/Berlin:20260430T180000
DTEND;TZID=Europe/Berlin:20260430T220000
DTSTAMP:20260421T104008
CREATED:20260414T040010Z
LAST-MODIFIED:20260414T040010Z
UID:27512-1777572000-1777586400@www.alte-vhs.de
SUMMARY:FFF Plenum
DESCRIPTION:
URL:https://www.alte-vhs.de/event/fff-plenum-154/
END:VEVENT
BEGIN:VEVENT
DTSTART;TZID=Europe/Berlin:20260430T190000
DTEND;TZID=Europe/Berlin:20260430T220000
DTSTAMP:20260421T104008
CREATED:20260131T040009Z
LAST-MODIFIED:20260131T040009Z
UID:26169-1777575600-1777586400@www.alte-vhs.de
SUMMARY:Offene Siebdruckwerkstatt / Atelier
DESCRIPTION:
URL:https://www.alte-vhs.de/event/offene-siebdruckwerkstatt-atelier-61/
END:VEVENT
BEGIN:VEVENT
DTSTART;TZID=Europe/Berlin:20260430T190000
DTEND;TZID=Europe/Berlin:20260430T220000
DTSTAMP:20260421T104008
CREATED:20260131T040009Z
LAST-MODIFIED:20260131T040009Z
UID:26170-1777575600-1777586400@www.alte-vhs.de
SUMMARY:Salóng
DESCRIPTION:
URL:https://www.alte-vhs.de/event/salong-190/
LOCATION:Salóng\, Rölsdorfstraße 20\, Bonn\, 53225\, Deutschland
END:VEVENT
END:VCALENDAR